Workbook
Name BCC: '2-Référentiel UHA'!$1:$1048576
Name CommunMention: '5-Maquette Licence Parcours x'!$J$7:$J$1048576
Name ECTS: '5-Maquette Licence Parcours x'!$Z$3:$Z$1048576
Name NombreCollab: '5-Maquette Licence Parcours x'!$AP$7:$AP$1048576
Name NombreExpression: '5-Maquette Licence Parcours x'!$AE$7:$AE$1048576
Name NombreInformationnelle: '5-Maquette Licence Parcours x'!$AK$7:$AK$1048576
Name NombreInternationale: '5-Maquette Licence Parcours x'!$AI$7:$AI$1048576
Name NombreInternationaleM: '5-Maquette Licence Parcours x'!$AM$7:$AM$1048576
Name NombreMTU: '5-Maquette Licence Parcours x'!$AG$7:$AG$1048576
Name NombreNumerique: '5-Maquette Licence Parcours x'!$AJ$7:$AJ$1048576
Name NombreProfessionnelle: '5-Maquette Licence Parcours x'!$AH$7:$AH$1048576
Name NombreProfessionnelleM: '5-Maquette Licence Parcours x'!$AN$7:$AN$1048576
Name NombreRechercheM: '5-Maquette Licence Parcours x'!$AO$7:$AO$1048576
Name NombreSAC: '5-Maquette Licence Parcours x'!#REF!
Name NombreTEDS: '5-Maquette Licence Parcours x'!$AF$7:$AF$1048576
Name NombreVSS: '5-Maquette Licence Parcours x'!$AL$7:$AL$1048576
Name Print_Area_0: #REF!
Name Ressources: '4-Corres. Compétences-Ressource'!$E$2:$CT$2
Name TotalCI: '5-Maquette Licence Parcours x'!$L$7:$L$1048576
Name TotalCM: '5-Maquette Licence Parcours x'!$M$7:$M$1048576
Name TotalDistanciel: '5-Maquette Licence Parcours x'!$AR$7:$AR$1048576
Name TotalECUE: '[1]3-Maquette parcours'!$M$5:$M$1048576
Name TotalHeuresEns: '5-Maquette Licence Parcours x'!$R$7:$R$1048576
Name TotalHybride: '5-Maquette Licence Parcours x'!$AS$7:$AS$1048576
Name TotalMaquette: '5-Maquette Licence Parcours x'!#REF!
Name TotalProjet: '5-Maquette Licence Parcours x'!#REF!
Name TotalProjetAutonomie: '5-Maquette Licence Parcours x'!$T$7:$T$1048576
Name TotalProjetEncadrement: '5-Maquette Licence Parcours x'!$P$7:$P$1048576,'5-Maquette Licence Parcours x'!$P$3,'5-Maquette Licence Parcours x'!$I$3
Name TotalStage: '5-Maquette Licence Parcours x'!$V$7:$V$1048576
Name TotalTD: '5-Maquette Licence Parcours x'!$N$7:$N$1048576
Name TotalTP: '5-Maquette Licence Parcours x'!$O$7:$O$1048576
Name TotalTutorat: '5-Maquette Licence Parcours x'!$W$7:$W$1048576
Name TypologiePrincipale: '5-Maquette Licence Parcours x'!$K$7:$K$1048576
Name VolumeHoraire: '5-Maquette Licence Parcours x'!$R$3:$R$1048576

Sheet 1-FAQ & Lexique
A1: Ce document contient 8 onglets - Faire défiler en bas de la fenêtre Excel
A2: Lexique et Information : Préambule
A3: Ce classeur Excel contient tous les éléments permettant : - d'harmoniser les maquettes en fonction de la note de cadrage UHA - d'organiser les curriculum en conformité avec l'APC ET avec les nouvelles modalités pédagogiques introduites par la loi ORE (modularité, personnalisation des parcours). Il comporte 8 onglets 1. Lexique et information : Cet onglet de présentation déroule un mode d'emploi succinct de la trame de maquette (partie 1). Il explique également la terminologie et les abréviations utilisées dans la maquette (parties 2 et 3) 2. Référentiel UHA : votre référentiel. Les données saisies dans cet onglet sont réutilisées dans les autres onglets. 3. Correspondance BC RNCP/ BC UHA : tableau de correspondance qui permet de respecter l'obligation réglementaire de mettre en adéquation les blocs de compétences du Référentiel de Formation avec les blocs de compétences du RNCP -> à renseigner dès le début de la démarche 4. Corres. Compétences - Ressources et SAC : permet de saisir les ressources et SAC et de les associer aux blocs de compétences et apprentissages critiques. Les compétences sont reportées automatiquement depuis l'onglet 2. 5. Maquette Licence Parcours x : le format de maquette adapté aux Formations déjà avancées sur l'APC qui facilite le regroupement des UE par Bloc de Compétence et son supplément facilitant la mise en correspondance opérationnelle des compétences visées et des enseignements au service du développement de ces compétences. -> à renseigner dès la rentrée 2025 jusqu'en 2028 6. Réorientation : décrire les dispositifs de réorientation envisagés 7. Commentaires : si besoin, vous pouvez expliquer vos choix dans cet onglet. 8. Indicateurs : comporte les indications de la mention et du parcours ainsi que les indicateurs de suivi à fournir obligatoirement en Licence, Licence Pro, Master pour attester de la conformité de l'offre UHA aux exigences réglementaires et stratégiques de l'Etablissement.
A5: 1. Comment renseigner la trame de maquette UHA.
A7: 1.1 Quelle maquette utiliser : maquette APC niveau 1 ou niveau 2 ?
A8: Si vous n'avez pas encore établi votre référentiel de formation ou si vous avez reformulé légèrement la liste de compétences RNCP, privilégiez la maquette APC niveau 1
A9: Si vous avez travaillé sur un référentiel de formation (accompagné par le collectif de soutien APC), vous pouvez opter pour la maquette APC niveau 2 (ce fichier excel)
A11: 1.2 Quels sont les éléments obligatoires à remplir dans la maquette?
A12: La plupart des éléments sont obligatoires. Certains ne sont à renseigner que s'ils sont adaptés. Exemple : un cursus ne dispose pas forcément d'enseignements mutualisés. La colonne "Mutualisation" n'est donc à renseigner que si elle correspond à la réalité de votre cursus. !! Des indications complémentaires sont données en entête de colonne sur la façon de les renseigner. Le passage aux BCC se fera en lien avec les fiches RNCP et avec 3 niveaux de déploiement : - phase 1 : organiser la maquette en BCC et en UE ; (2024) - phase 2 : développer au sein d’au moins un BCC des stratégies pédagogiques alignant les objectifs (dès 2025) (définis en phase 1), les activités et les évaluations. Il s’agit ici notamment de la mise en place de séquences d’apprentissage mobilisant les compétences du BCC, et l’évaluation inhérente ; - phase 3 : généraliser la phase 2 à tous les BCC d’une même formation.", UHA, Note de cadrage, mai 2023, p. 5
A14: 1.3 Comment et pourquoi utiliser l'onglet 3 - Correspondance RNCP / Référentiel
A15: 1. Vous avez établi un référentiel de compétences propre à votre Formation --> utilisez le tableau Correspondance BC RNCP - BC UHA (onglet 6) pour établir les correspondances entre les blocs de compétence de votre référentiel et ceux de la fiche RNCP de la mention nationale.
A16: 2. Vous n'avez pas de référentiel de compétences spécifique --> copiez-coller les éléments de référentiel de la fiche RNCP de la Mention nationale.
... A20: Les volumes horaires de la maquette sont les volumes de face à face pédagogique suivis par les étudiants. Ils sont calculés automatiquement uniquement sur la base des heures d'enseignement et de suivi pédagogique. Vous pouvez choisir d'inclure ou non les heures d'évaluation dans les heures maquette. Attention, pour que les temps d'évaluation soient pris en compte dans les 1500h réglementaires, ils doivent être saisis dans les heures CM, TD, TP. Les temps de travail étudiant indiqués pour les stages et projets ne sont pas décomptés dans le calcul de la maquette. Si la formation a recours à un service (Learning Center et SIO...) pour animer certaines séquences d'enseignement, ces heures figurent dans la maquette de la Formation. Les heures d'hybridation ou de distanciel sont intégrées dans les heures d'enseignement de la section. Au sein du volume horaire global d'une UE, on précisera par ailleurs la répartition de volumes horaires entre différentes d'apprentissage(Présentiel/Distanciel/Hybride). Cette distinction permettra notamment de justifier du volume horaire supplémentaire accordé à certaines mentions sous réserve qu'elles aient recours à l'hybridation. En cas d'insertion de nouvelles lignes ou colonne au modèle, il se peut que les formules ne se mettent pas à jour. Veuillez vérifier que les références de formules sont bien mises à jour.
A22: Note de cadrage (volume horaire appuyé sur la réglementation) | B22: Licence
B23: Pas moins de 1500h d'enseignement ou d'encadrement en face à face (obligation réglementaire). Pas plus de 1500h sur 3 ans pour le standard sauf dispositions spécifiques aux UE Tremplin (<300h de soutien en plus) et/ou 100h hybridées de plus.
A24: Licence Pro | B24: Master
A25: 1450h sur 3 ans : Le volume horaire annuel ne devra pas dépasser 500h encadrées, 450h la dernière année. | B25: De 400h à 800h sur deux ans.
A26: 1.5 Comment attribuer les crédits ECTS aux UE?
A27: Les ECTS sont attribuées uniquement aux UE (pas aux ECUE). 1 UE se voit accorder 3 ECTS minimum. 1 ECTS correspond à 25-30 heures de travail pour l'étudiant, comprenant au plus 10 heures d'enseignement ou d’encadrement pédagogique de type suivi de projet en présentiel ou hybride.
A28: 1.6 Comment sont spécifiées les durées de stage ?
A29: Les durées de stage sont spécifiées dans la maquette en conformité avec les éléments ci-après.
A30: Stage obligatoire en L, M et LP | B30: Licence
B31: Pas de cadrage sur la durée, au choix de la Formation.
A32: Licence Pro | B32: Master
A33: 12 à 16 semaines en milieu professionnel (au moins 1/3 des crédits ECTS attribuables à des mises en situations professionnelles en UE ouvertes. Un stage d’au moins 4 semaines devra être mis en place dans les 2 premières années. un projet tutoré de 150 h. | B33: > ou = à 8 semaines. > ou = à 4 mois dans les filières professionnalisantes ;
A34: 1.6 Comment sont calculés les indicateurs?
A35: Les volumes horaires totaux et par catégorie d'UE sont calculés automatiquement dans les modèles de maquette. Les indicateurs de suivi complémentaires permettent d'attester de l'application des dispositions légales et de la note de cadrage seront calculés selon les formules de calcul spécifiées dans l'onglet Indicateurs.
A36: 2. Eléments de lexique
A38: 2.1 Lexique spécifique UHA - Approche par Compétences
A40: Alignement pédagogique : Mis au jour par John Biggs, ce concept mentionné dans la note de cadrage est au coeur de la démarche APC. Il s'agit de mettre en cohérence 1) les objectifs d’apprentissage d’un enseignement/d’une formation, 2) les méthodes et activités pédagogiques et 3) les méthodes d’évaluation des apprentissages des étudiants. Ainsi, si un des objectifs d'apprentissage d'un enseignement est de "Travailler en équipe dans un laboratoire", il sera adapté de mettre en place des activités de travaux pratiques en laboratoire et d'évaluer les étudiants en situation via une grille critériée sur la qualité de leur coopération.
A41: Apprentissage critique (Maquette APC Niveau 2) Dans un référentiel de compétences, un apprentissage critique explicite ce que l’étudiant doit effectivement maîtriser pour passer d’un niveau de développement à un autre de la compétence. L'apprentissage critique (Tardif) est similaire à la "microcompétence" (IDIP).
A42: Compétence (/ Macro-compétence) Une compétence consiste en la mobilisation de manière pertinente des ressources d’un individu pour exercer une activité en fonction d’objectifs à finalité professionnelle à atteindre. Le résultat de sa mise en œuvre est évaluable dans un contexte donné et transférable d’un contexte professionnel à un autre (inspiré du RNCP). Cette définition s'appuie sur celle de Tardif : "Une compétence est un "savoir-agir complexe, prenant appui sur la mobilisation et la combinaison efficaces d'une variété de ressources à l'intérieur d'une famille de situations" (Tardif, 2006)". A l'UHA, ce terme est exclusivement utilisé pour désigner une compétence générique (parfois désignée sous forme de macro-compétence) équivalent au titre d'un bloc de compétence du référentiel. Elle est subdivisée en apprentissages critiques qui précisent quant à eux les apprentissages essentiels à acquérir à chaque niveau de développement de cette compétence.
A43: Objectif d'apprentissage La formulation des objectifs d’apprentissage permet aux étudiants d'identifier ce qu'ils devraient savoir et savoir faire à l'issue d'une activité d'apprentissage. Par souci de cohérence, le choix des méthodes d’évaluations, des activités d’enseignement-apprentissage et l’organisation du contenu du cours découlent des objectifs d’apprentissage. NB : L'université de Lorraine a publié une fiche pratique très claire sur la construction d'un objectif d'apprentissage. Source : https://sup.univ-lorraine.fr/files/2020/07/FC_formuler_objectifs_apprentissage.pdf
A44: Situation d'Apprentissage Complexe & Evaluation
A45: "La mise en œuvre de « situations d’apprentissage complexe » sera à développer. De telles situations exigent de mettre en œuvre plusieurs compétences, transversales, disciplinaires et pluridisciplinaires, amenant les étudiants à mobiliser et intégrer de manière cohérente et simultanée des savoirs (connaissances), savoir-être (attitudes) et savoir-faire (capacités) multiples. A ce titre, il est recommandé que les compétences disciplinaires d’une ou plusieurs UE puissent être développées via un enseignement en langue étrangère.", Note de cadrage UHA, mai 2023. EUne situation d'apprentissage complexe ne se solde pas obligatoirement par une évaluation. Elle peut toutefois être complétée d'une évaluation par exemple sous forme de grille critériée (notamment dans les maquettes APC de niveau 2) pour évaluer une ou plusieurs compétences en situation.
A48: 2.2 Lexique spécifique UHA - Référentiel de formation / Modularité et aménagement du parcours de formation
A50: Catégories d'UE. Les catégories d'UE sont au coeur du référentiel de formation, visant à définir l'organisation du parcours de formation. Afin d'impulser une plus grande modularité des activités d'apprentissage et une variété des types de compétences visées par ses diplômes, l'UHA, suivant les recommandations du rapport HCERES, a structuré 4 catégories d'UE contribuant au développement de compétences transversales obligatoires ou mise en avant dans la stratégie de formation de l'UHA + 1UE optionnelle. Ces catégories vient à faciliter les regroupement transdisciplinaires et à suivre la répartition des volumes horaires en fonction des types de compétences auxquelles contribuent les UE.
... A62: Compétences transversales
A63: Dénomination UHA | B63: Arrêté 01/2020 | C63: Licence/Licence Pro/Master
A64: Professionnelle | B64: Pré-professionnelle et professionnelle
...

Sheet 2-Référentiel UHA
A1: Référentiel de Formation UHA
A2: BCC Court | B2: BCC Détaillé | C2: Niveau | D2: Apprentissage critique (AC)
A3: Identification | B3: Identification des aspects relevant de l'EEA dans un système complexe | C3: 1 | D3: AC 1.1.1 | S'approprier les concepts des mathématiques, de la physique et de l’informatique.
D4: AC 1.1.2 | Se confronter à la notion de systèmes complexes.
C5: 2 | D5: AC 1.2.1 | Appréhender les aspects de l'EEA dans un système complexe. | F5: Saisir le référentiel dans cet onglet. Insérer les éléments nécessaires dans les autres onglets à l'aide de formules pour ne pas avoir à les ressaisir. Pour le BCC Court, le plus simple est d'utiliser un seul mot pour différencier chacun de vos blocs.
D6: AC 1.2.2 | Consolider les concepts des mathématiques, de la physique et de l'informatique.
C7: 3 | D7: AC 1.3.1 | Mobiliser les concepts des mathématiques, de la physique et de l’informatique.
D8: AC 1.3.2 | Créer une synergie entre les différents aspects, théoriques et pratiques, relevant de l'EEA.
A9: Analyse | B9: Analyses quantitatives et qualitatives des aspects relevant de l'EEA dans un système complexe | C9: 1 | D9: AC 2.1.1 | Utiliser des outils mathématiques logiques et statistiques pour caractériser les données et paramètres d'un système complexe.
D10: AC 2.1.2 | Utiliser un langage de programmation pour développer des applications simples d’acquisition et de traitements de données.
C11: 2 | D11: AC 2.2.1 | Analyser et synthétiser des données en vue de leur exploitation
D12: AC 2.2.2 | Interpréter et exploiter les données expérimentales.
C13: 3 | D13: AC 2.3.1 | Identifier, sélectionner et analyser avec esprit critique diverses ressources dans son domaine de spécialité.
D14: AC 2.3.2 | Corréler les données expérimentales et modèles théoriques.
A15: Mise en oeuvre | B15: Mise en œuvre des méthodes et outils de l'EEA dans un système complexe | C15: 1 | D15: AC 3.1.1 | Utiliser l'outil informatique pour accomplir des tâches simples.
D16: AC 3.1.2 | Se sensibiliser à la démarche expérimentale.
C17: 2 | D17: AC 3.2.1 | Développer des applications élémentaires.
D18: AC 3.2.2 | Identifier les contraintes matérielles et logicielles.
C19: 3 | D19: AC 3.3.1 | Développer des applications d'un niveau avancé.
D20: AC 3.3.2 | Intégrer les contraintes matérielles et logicielles.
A21: Projet professionnel | B21: Développement de son projet professionnel et enrichissement de sa discipline par des savoirs connexes | C21: 1 | D21: AC 4.1.1 | Se servir aisément des différents registres d’expression écrite et orale de la langue française
D22: AC 4.1.2 | Apprendre un langue étrangère niveau A1 selon la norme CECRL
D23: AC 4.1.3 | Développer son projet professionnel
C24: 2 | D24: AC 4.2.1 | Apprendre un langue étrangère niveau A2 selon la norme CECRL
D25: AC 4.2.2 | Développer son projet professionnel
C26: 3 | D26: AC 4.3.1 | Apprendre un langue étrangère niveau B1/B2 selon la norme CECRL.
D27: AC 4.3.2 | Développer son projet professionnel

Sheet 3-Correspondance BC RNCP-BC UHA
C1: Identification des aspects relevant de l'EEA dans un système complexe | I1: Analyses quantitatives et qualitatives des aspects relevant de l'EEA dans un système complexe | O1: Mise en œuvre des méthodes et outils de l'EEA dans un système complexe | U1: Développement de son projet professionnel et enrichissement de sa discipline par des savoirs connexes
C2: AC 1.1.1 | S'approprier les concepts des mathématiques, de la physique et de l’informatique. | D2: AC 1.1.2 | Se confronter à la notion de systèmes complexes. | E2: AC 1.2.1 | Appréhender les aspects de l'EEA dans un système complexe. | F2: AC 1.2.2 | Consolider les concepts des mathématiques, de la physique et de l'informatique. | G2: AC 1.3.1 | Mobiliser les concepts des mathématiques, de la physique et de l’informatique. | H2: AC 1.3.2 | Créer une synergie entre les différents aspects, théoriques et pratiques, relevant de l'EEA. | I2: AC 2.1.1 | Utiliser des outils mathématiques logiques et statistiques pour caractériser les données et paramètres d'un système complexe. | J2: AC 2.1.2 | Utiliser un langage de programmation pour développer des applications simples d’acquisition et de traitements de données. | K2: AC 2.2.1 | Analyser et synthétiser des données en vue de leur exploitation | L2: AC 2.2.2 | Interpréter et exploiter les données expérimentales. | M2: AC 2.3.1 | Identifier, sélectionner et analyser avec esprit critique diverses ressources dans son domaine de spécialité. | N2: AC 2.3.2 | Corréler les données expérimentales et modèles théoriques. | O2: AC 3.1.1 | Utiliser l'outil informatique pour accomplir des tâches simples. | P2: AC 3.1.2 | Se sensibiliser à la démarche expérimentale. | Q2: AC 3.2.1 | Développer des applications élémentaires. | R2: AC 3.2.2 | Identifier les contraintes matérielles et logicielles. | S2: AC 3.3.1 | Développer des applications d'un niveau avancé. | T2: AC 3.3.2 | Intégrer les contraintes matérielles et logicielles. | U2: AC 4.1.1 | Se servir aisément des différents registres d’expression écrite et orale de la langue française | V2: AC 4.1.2 | Apprendre un langue étrangère niveau A1 selon la norme CECRL (introduction et découverte de la langue afin d'acquérir les connaissances de base du fonctionnement de la langue étrangère). | W2: AC 4.1.3 | Développer son projet professionnel | X2: AC 4.2.1 | Apprendre un langue étrangère niveau A2 selon la norme CECRL (acquisition des connaissances intermédiaires et usuelles aux situations simples de la vie courante). | Y2: AC 4.2.2 | Développer son projet professionnel | Z2: AC 4.3.1 | Apprendre un langue étrangère niveau A2 selon la norme CECRL (acquisition des connaissances intermédiaires et usuelles aux situations simples de la vie courante). | AA2: AC 4.3.2 | Développer son projet professionnel
A3: RNCP24533BC01 | B3: Usage digitaux et numériques
B4: Utiliser les outils numériques de référence et les règles de sécurité informatique pour acquérir, traiter, produire et diffuser de l’information ainsi que pour collaborer en interne et en externe | I4: x | J4: x | K4: x | L4: x | M4: xx | N4: x | U4: xx | Z4: x
A5: RNCP24533BC02 | B5: Exploitation de données à des fins d'analyse
B6: Identifier, sélectionner et analyser avec esprit critique diverses ressources dans son domaine de spécialité pour documenter un sujet et synthétiser ces données en vue de leur exploitation | I6: x | J6: x | K6: xx | L6: xx | M6: xxx | N6: xxx
B7: Analyser et synthétiser des données en vue de leur exploitation | K7: xx | L7: xx | M7: xx | N7: xx
B8: Développer une argumentation avec esprit critique | M8: xx | N8: xx
A9: RNCP24533BC03 | B9: Expression et communication écrites et orales
B10: Se servir aisément des différents registres d’expression écrite et orale de la langue française | U10: xxx
B11: Communiquer par oral et par écrit, de façon claire et non-ambiguë, dans au moins une langue étrangère | V11: xx | X11: xx | Z11: xxx
A12: RNCP24533BC04 | B12: Positionnement vis à vis d'un champ professionnel
B13: Identifier et situer les champs professionnels potentiellement en relation avec les acquis de la mention ainsi que les parcours possibles pour y accéder | W13: xx | Y13: xx | AA13: xx
B14: Caractériser et valoriser son identité, ses compétences et son projet professionnel en fonction d’un contexte | W14: xx | Y14: xx | AA14: xx
B15: Identifier le processus de production, de diffusion et de valorisation des savoirs | W15: xx | Y15: xx | AA15: xx
A16: RNCP24533BC05 | B16: Action en responsabilité au sein d'une organisation professionnelle
B17: Se situer son rôle et sa mission au sein d'une organisation pour s’adapter et prendre des initiatives | W17: xx | Y17: xx | AA17: xx
B18: Respecter les principes d’éthique, de déontologie et de responsabilité environnementale | W18: xx | Y18: xx | AA18: xx
B19: Travailler en équipe et en réseau ainsi qu’en autonomie et responsabilité au service d’un projet | W19: xx | Y19: xx | AA19: xx
B20: Analyser ses actions en situation professionnelle, s’autoévaluer pour améliorer sa pratique | W20: xx | Y20: xx | AA20: xx
A21: RNCP24533BC06 | B21: Identification d'un questionnement au sein d'un champ disciplinaire
B22: Manipuler les principaux modèles mathématiques utilisés en ingénierie. | C22: x | F22: xx | G22: xx | H22: xx
B23: Manipuler les mécanismes fondamentaux à l’échelle microscopique, modéliser les phénomènes macroscopiques, relier un phénomène macroscopique aux processus microscopiques. | C23: x | D23: x | E23: x | F23: xx | G23: xx | H23: xx
B24: Se servir des principaux outils et méthodes de la maintenance industrielle et la sécurité de systèmes. | P24: x | R24: xx | T24: xx
B25: Repérer les techniques courantes dans les domaines de la physique appliquée. | D25: x | E25: x | H25: xx | K25: x | M25: xx
A26: RNCP24533BC07 | B26: Analyse d'un questionnement en mobilisant des concepts disciplinaires
B27: Mobiliser les concepts disciplinaires pour résoudre un problème complexe par approximations successives. | D27: x | E27: x | G27: xx | H27: xx
B28: Mobiliser les concepts des mathématiques appliquées, de la physique, de la chimie et de l’informatique dans le cadre d’une problématique d’ingénierie. | C28: xx | D28: x | E28: x | F28: xx | G28: xx | I28: x | J28: xxx | O28: xx | Q28: xx | R28: x | S28: xx | T28: x
B29: Identifier et mener en autonomie les différentes étapes d’une démarche expérimentale. | P29: xxx | R29: xx | T29: xxx
B30: Identifier les contraintes d’intégration d’équipements dans un ensemble fonctionnel (poste de production), en considérant les modalités d’usage par les opérateurs humains en exploitation et en maintenance. | P30: xxx | R30: xxx | T30: xxx
B31: Caractériser les liens de performance (délai, qualité) entre l’activité automatisée et le processus de valeur ajoutée dans lequel elle s’inscrit. | I31: x | J31: x | K31: xx | L31: xxx | M31: xxx | N31: xxx
A32: RNCP24533BC08 | B32: Mise en oeuvre de méthodes et d'outils du champ disciplinaire
B33: Utiliser des logiciels d’acquisition et d’analyse de données pour l’observation de phénomènes physiques et l’étude du comportement de systèmes. | J33: xx | K33: xx | L33: xx | M33: xx | N33: xx
B34: Utiliser des outils mathématiques (y compris le calcul numérique et matriciel) logiques et statistiques pour caractériser et piloter l’état et les tendances d’évolution d’un système. | G34: x | I34: xxx | J34: xx
B35: Utiliser un langage de programmation pour développer des applications simples d’acquisition et de traitements de données, de commande… | I35: xxx | J35: xxx | O35: xx | Q35: xx | S35: xx
B36: Mettre en œuvre les techniques et les technologies attachées à la physique appliquée pour caractériser les phénomènes mis en œuvre dans les systèmes électroniques, électrotechniques et automatisés. | E36: xx | H36: xx | P36: xxx | R36: xxx | S36: xx | T36: xxx
B37: Valider un modèle par comparaison de ses prévisions aux résultats expérimentaux, et apprécier ses limites de validité. | H37: x | K37: x | L37: x | M37: xx | N37: xxx
B38: Utiliser en autonomie les techniques courantes dans les domaines des usages de l’électronique, l’électrotechnique et l’automatique : synthèse et analyse de schémas électriques, gestion de la puissance d’une machine, modélisation de systèmes automatiques boucle ouverte et boucle fermée, CAO (Conception Assistée par Ordinateur). | H38: x | I38: x | J38: x | K38: xx | L38: xx | M38: xxx | N38: xxx | O38: x | P38: x | Q38: xx | R38: xx | S38: xxx | T38: xxx
B39: Utiliser en autonomie les techniques courantes dans le domaine du génie informatique : analyse et synthèse de programmes pour automatismes et systèmes logiques industriels. | O39: x | Q39: xx | S39: xxx
B42: xxx : adéquation forte
...

Sheet 4-Corres. Compétences-Ressource
A1: Correspondance Compétences - Ressources et SAC | F1: Ressources et SAC (saisir les noms des ressources ici, elles seront reportées dans l'onglet 5-maquette. Si vous modifiez un nom de ressource, il faudra la resélectionner dans la maquette) | AQ1: Ressources et SAC (saisir les noms des ressources ici, elles seront reportées dans l'onglet 5-maquette. Si vous modifiez un nom de ressource, il faudra la resélectionner dans la maquette)
A2: Ne pas modifier les BCC et AC dans cet onglet. Ils sont insérés à l'aide d'une formule. Voir onglet "Référentiel UHA" | E2: Sélectionner … | F2: Code + Mathématiques pour la physique, la chimie et l’EEA 1 | G2: Code + Informatique 1 | H2: Code + Automatisme 1 | I2: Code + Electronique 1 | J2: Code + Physique 1 | K2: Code + Remédiation 1 | L2: Code + Allemand 1 | M2: Code + Anglais 1 | N2: Code + Mathématiques pour la physique, la chimie et l’EEA 2 | O2: Code + Informatique 2 | P2: Code + Informatiquei Industrielle 1 | Q2: Code + Automatisme 2 | R2: Code + Electronique 2 | S2: Code + Physique 2 | T2: Code + remédiation 2 | U2: Code + Allemand 2 | V2: Code + Anglais 2 | W2: Code + Pack de départ 1 | X2: Code + VSSH | Y2: Code + Motivation | Z2: Code + Connaissance de soi | AA2: Code + Module SCD 2 | AB2: Code + Doc numérique | AC2: Code + Méthodes de travail universitaires | AD2: Code + PPP | AE2: SAC 11 | AF2: SAC 12 | AG2: Code + Introduction MOOC | AH2: Code + Module SCD 3 | AI2: Code + PIX | AJ2: Code + Poursuite d’études | AK2: Code + Dévelopement durable | AL2: Code + Techniques d'expression écrite | AM2: Code + Matière Libre 1 | AN2: SAC 21 | AO2: SAC 22 | AQ2: Code + Mathématiques pour la physique, la chimie et l’EEA 3 | AR2: Code + Informatique industrielle 2 | AS2: Code + Informatique spécialisée 1 | AT2: Code + Electronique 3 | AU2: Code + Electronique spécialisée 1 | AV2: Code + Energie Electrique 1 | AW2: Code + Informatique 3 | AX2: Code + Physique appliquée spec ESE | AY2: Code + Oscillateurs | AZ2: Code + Remédiation 3 | BA2: Code + Allemand 3 | BB2: Code + Anglais 3 | BC2: Code + Informatique spécialisée 2 | BD2: Code + Energie Electrique 2 | BE2: Code + Electronique 3 | BF2: Code + Analyse numérique 1 | BG2: Code + Electronique spécialisée 2 | BH2: Code + Physique appliquée spec ESE | BI2: Code + Remédiation 4 | BJ2: Code + Allemand 4 | BK2: Code + Anglais 4 | BL2: Code + Fresque du climat | BM2: Code + Outils web préparation certification numérique | BN2: Code + Techniques de présentations orales | BO2: Code + Préparation du stage/ candidature | BP2: Code + Préparation du stage/ candidature SIO Module 6A | BQ2: Code +Prévention des risques | BR2: SAC 31 | BS2: SAC 32 | BT2: SAC 41 | BU2: SAC 42 Stage ou projet | BW2: Code + Automatique 1 | BX2: Code + Electonique spécialisée 3 | BY2: Code + Analyse Numérique 2 | BZ2: Code + Energie Electrique 3 | CA2: Code + Informatique 4 | CB2: Code + Système embarqué | CC2: Code + Remédiation 5 | CD2: Code + Anglais 5 | CE2: Code + Allemand 5 | CF2: Code + Automatique 2 | CG2: Code + Informatique 5 | CH2: Code + Programmation Internet | CI2: Code + Introduction à la Cyber Sécurité | CJ2: Code + Electronique spécialisée 4 | CK2: Code + Remédiation 6 | CL2: Code + Anglais 6 | CM2: Code + Allemand 6 | CN2: Code + Didactique des sciences | CO2: Code + Recherche documentaire | CP2: Code + UE Libre 2 | CQ2: SAC 51 | CR2: SAC 52 | CS2: SAC 61 | CT2: SAC 62
A3: Compétences | B3: BCC | C3: Niveau | D3: Apprentissage critique (AC)
B4: ='2-Référentiel UHA'!B3 -> Identification des aspects relevant de l'EEA dans un système complexe | C4: 1 | D4: ='2-Référentiel UHA'!D3 -> AC 1.1.1 | S'approprier les concepts des mathématiques, de la physique et de l’informatique. | F4: x | G4: x | H4: x | I4: x | J4: x | N4: x | O4: x | P4: x | Q4: x | R4: x | S4: x
D5: ='2-Référentiel UHA'!D4 -> AC 1.1.2 | Se confronter à la notion de systèmes complexes. | G5: x | H5: x | I5: x | O5: x | P5: x | Q5: x | R5: x | AE5: x | AF5: x | AN5: x | AO5: x
C6: 2 | D6: ='2-Référentiel UHA'!D5 -> AC 1.2.1 | Appréhender les aspects de l'EEA dans un système complexe. | AR6: x | AS6: x | AT6: x | AU6: x | AX6: x | AY6: x | BC6: x | BE6: x | BF6: x | BG6: x | BH6: x | BR6: x | BS6: x | BT6: x | BU6: x
D7: ='2-Référentiel UHA'!D6 -> AC 1.2.2 | Consolider les concepts des mathématiques, de la physique et de l'informatique. | AQ7: x | AV7: x | AW7: x | AX7: x | AY7: x | BC7: x | BD7: x | BF7: x | BG7: x | BH7: x | BR7: x | BS7: x | BT7: x | BU7: x
C8: 3 | D8: ='2-Référentiel UHA'!D7 -> AC 1.3.1 | Mobiliser les concepts des mathématiques, de la physique et de l’informatique. | BW8: x | BX8: x | BY8: x | BZ8: x | CA8: x | CB8: x | CF8: x | CG8: x | CH8: x | CI8: x | CJ8: x
D9: ='2-Référentiel UHA'!D8 -> AC 1.3.2 | Créer une synergie entre les différents aspects, théoriques et pratiques, relevant de l'EEA. | BW9: x | BX9: x | BY9: x | BZ9: x | CA9: x | CB9: x | CF9: x | CG9: x | CJ9: x | CQ9: x | CR9: x | CS9: x | CT9: x
B10: ='2-Référentiel UHA'!B9 -> Analyses quantitatives et qualitatives des aspects relevant de l'EEA dans un système complexe | C10: 1 | D10: ='2-Référentiel UHA'!D9 -> AC 2.1.1 | Utiliser des outils mathématiques logiques et statistiques pour caractériser les données et paramètres d'un système complexe. | F10: x | G10: x | H10: x | I10: x | J10: x | N10: x | O10: x | P10: x | Q10: x | R10: x | S10: x | AE10: x | AF10: x | AN10: x | AO10: x
D11: ='2-Référentiel UHA'!D10 -> AC 2.1.2 | Utiliser un langage de programmation pour développer des applications simples d’acquisition et de traitements de données. | G11: x | H11: x | I11: x | O11: x | P11: x | Q11: x | R11: x | AE11: x | AF11: x | AN11: x | AO11: x
C12: 2 | D12: ='2-Référentiel UHA'!D11 -> AC 2.2.1 | Analyser et synthétiser des données en vue de leur exploitation | AR12: x | AS12: x | AT12: x | AU12: x | AV12: x | AW12: x | AX12: x | AY12: x | BC12: x | BD12: x | BE12: x | BF12: x | BG12: x | BH12: x | BR12: x | BS12: x | BT12: x | BU12: x
D13: ='2-Référentiel UHA'!D12 -> AC 2.2.2 | Interpréter et exploiter les données expérimentales. | AR13: x | AS13: x | AT13: x | AU13: x | AV13: x | AX13: x | AY13: x | BD13: x | BF13: x | BG13: x | BH13: x | BR13: x | BS13: x | BT13: x | BU13: x
C14: 3 | D14: ='2-Référentiel UHA'!D13 -> AC 2.3.1 | Identifier, sélectionner et analyser avec esprit critique diverses ressources dans son domaine de spécialité. | BW14: x | BX14: x | BY14: x | BZ14: x | CA14: x | CB14: x | CF14: x | CG14: x | CH14: x | CI14: x | CJ14: x | CQ14: x | CR14: x | CS14: x | CT14: x
D15: ='2-Référentiel UHA'!D14 -> AC 2.3.2 | Corréler les données expérimentales et modèles théoriques. | BW15: x | BX15: x | BY15: x | BZ15: x | CA15: x | CB15: x | CF15: x | CG15: x | CJ15: x | CQ15: x | CR15: x | CS15: x | CT15: x
B16: ='2-Référentiel UHA'!B15 -> Mise en œuvre des méthodes et outils de l'EEA dans un système complexe | C16: 1 | D16: ='2-Référentiel UHA'!D15 -> AC 3.1.1 | Utiliser l'outil informatique pour accomplir des tâches simples. | G16: x | H16: x | I16: x | J16: x | O16: x | P16: x | Q16: x | R16: x | S16: x
D17: ='2-Référentiel UHA'!D16 -> AC 3.1.2 | Se sensibiliser à la démarche expérimentale. | G17: x | H17: x | I17: x | J17: x | O17: x | P17: x | Q17: x | R17: x | S17: x
C18: 2 | D18: ='2-Référentiel UHA'!D17 -> AC 3.2.1 | Développer des applications élémentaires. | AR18: x | AS18: x | AU18: x | AW18: x | AX18: x | BC18: x | BF18: x | BG18: x | BH18: x | BR18: x | BS18: x | BT18: x | BU18: x
D19: ='2-Référentiel UHA'!D18 -> AC 3.2.2 | Identifier les contraintes matérielles et logicielles. | AR19: x | AS19: x | AU19: x | AW19: x | AX19: x | BC19: x | BF19: x | BG19: x | BH19: x | BR19: x | BS19: x | BT19: x | BU19: x
C20: 3 | D20: ='2-Référentiel UHA'!D19 -> AC 3.3.1 | Développer des applications d'un niveau avancé. | BW20: x | BX20: x | BY20: x | BZ20: x | CA20: x | CB20: x | CF20: x | CG20: x | CJ20: x | CQ20: x | CR20: x | CS20: x | CT20: x
D21: ='2-Référentiel UHA'!D20 -> AC 3.3.2 | Intégrer les contraintes matérielles et logicielles. | BW21: x | BX21: x | BZ21: x | CA21: x | CB21: x | CF21: x | CG21: x | CJ21: x | CQ21: x | CR21: x | CS21: x | CT21: x
B22: ='2-Référentiel UHA'!B21 -> Développement de son projet professionnel et enrichissement de sa discipline par des savoirs connexes | C22: 1 | D22: ='2-Référentiel UHA'!D21 -> AC 4.1.1 | Se servir aisément des différents registres d’expression écrite et orale de la langue française | AE22: x | AF22: x | AH22: x | AL22: x | AN22: x | AO22: x
D23: ='2-Référentiel UHA'!D22 -> AC 4.1.2 | Apprendre un langue étrangère niveau A1 selon la norme CECRL | L23: x | M23: x | U23: x | V23: x
D24: ='2-Référentiel UHA'!D23 -> AC 4.1.3 | Développer son projet professionnel | W24: x | Y24: x | Z24: x | AA24: x | AB24: x | AC24: x | AD24: x | AG24: x | AI24: x | AJ24: x | AK24: x | AM24: x
C25: 2 | D25: ='2-Référentiel UHA'!D24 -> AC 4.2.1 | Apprendre un langue étrangère niveau A2 selon la norme CECRL | BA25: x | BB25: x | BJ25: x | BK25: x
D26: ='2-Référentiel UHA'!D25 -> AC 4.2.2 | Développer son projet professionnel | BL26: x | BM26: x | BN26: x | BO26: x | BP26: x | BQ26: x | BU26: x
C27: 3 | D27: ='2-Référentiel UHA'!D26 -> AC 4.3.1 | Apprendre un langue étrangère niveau B1/B2 selon la norme CECRL. | CD27: x | CE27: x | CL27: x | CM27: x
D28: ='2-Référentiel UHA'!D27 -> AC 4.3.2 | Développer son projet professionnel | CN28: x | CO28: x | CP28: x

Sheet 5-Maquette Licence Parcours x
J2: =COUNTIF(CommunMention,"Oui") -> 99 | K2: Totaux : | L2: =SUM(TotalCI) -> 196 | M2: =SUM(TotalCM) -> 71 | N2: =SUM(TotalTD) -> 520 | O2: =SUM(TotalTP) -> 212 | P2: =SUM(TotalProjetEncadrement) -> 0 | S2: =SUM(VolumeHoraire) -> 997 | T2: =SUM(TotalProjetAutonomie) -> 197 | V2: =SUM(TotalStage) -> 0 | W2: =SUM(TotalTutorat) -> 0 | Z2: =SUM(ECTS) -> 66 | AE2: =COUNTIF(NombreExpression,"x") -> 20 | AF2: =COUNTIF(NombreTEDS,"x") -> 6 | AG2: =COUNTIF(NombreMTU,"x") -> 4 | AH2: =COUNTIF(NombreProfessionnelle,"x") -> 2 | AI2: =COUNTIF(NombreInternationale,"x") -> 4 | AJ2: =COUNTIF(NombreNumerique,"x") -> 0 | AK2: =COUNTIF(NombreInformationnelle,"x") -> 4 | AL2: =COUNTIF(NombreVSS,"x") -> 5 | AM2: =COUNTIF(NombreInternationaleM,"x") -> 0 | AN2: {=COUNTIF(NombreProfessionnelleM,"x")} -> 0 | AO2: =COUNTIF(NombreRechercheM,"x") -> 0 | AP2: =COUNTIF(NombreCollab,"x") -> 0 | AR2: =SUM(TotalDistanciel) -> 0 | AS2: =SUM(TotalDistanciel) -> 0
D3: 1 Bloc de compétences = 1 ou plusieurs UE (cf Lexique) Intitulé UE sous forme de compétence = Titre du bloc de compétence. Idéalement, on regroupe tous les enseignements au service du développement d'une compétence (BC) en une UE cohérente, l'objectif étant que ces enseignements puissent être regroupés pour faciliter la certification autonome de chaque bloc de compétence associé. | I3: Ressources et SAC (Volumes horaires inclus dans les 1500h réglementaires) | T3: Volumes horaires hors 1500h réglementaires | X3: Modalités d'évaluation Indiquer ici le mode d'évaluation de la formation -> | AC3: Contrôle Continu Intégral | AE3: Compétences transversales licence | AM3: Compétences transversales master | AQ3: Modalités pédagogiques
T4: Projet | U4: Stage | W4: Tutorat | X4: Coefficient | Y4: Coeff UE (idem ECTS en L, 1 à 2 en LP) | Z4: ECTS (1 ECTS =10h ENS 25h travail étudiant Licence =180 ECTS 30 ECTS par semestre) | AA4: MCC (par ressource, SAE ou UE) (Ex de libellé : écrit, oral, soutenance, portfolio, SAC, certification en ligne, …) | AD4: Total heures évaluation (par UE ou ressources ou SAE) | AE4: (cocher les compétences transversales mobilisées dans les UE. Plusieurs compétences possibles quelque soit la typologie d'UE) | AM4: (cocher les compétences transversales mobilisées dans les UE. Plusieurs compétences possibles quelque soit la typologie d'UE) | AQ4: Format d'enseignement Par défaut, tout présentiel. Vol. horaire d'enseignement uniquement (cf colonne P) | AT4: Mutualisation ou Délégation (saisir le partenaire)
D5: Code UE | E5: Nom de l'UE (Voir le commentaire) | F5: BCC Court | G5: BCC détaillé (Saisir uniquement le BCC court, le BCC détaillé sera ajouté automatiquement) | H5: Niveau | I5: Intitulé | J5: Commun Mention | K5: Typologie principale | L5: CI | M5: CM | N5: TD | O5: TP | P5: Projet (encadrement) | Q5: Dont évaluation incluse | R5: Total Volume horaire enseignant | S5: Total UE | T5: Nb heures autonomie étudiant | U5: Heures d'encadrement ENSEIGNANTS | V5: Durée stage en heures | W5: Nb total d'heures de tutorat allouées | AA5: Libellé du type de contrôle (Contrôle continu, soutenance, portfolio...) | AB5: Libellé du type de contrôle pour étudiants dispensés d'assuidité (si contrôle continue) | AC5: Libellé du type de contrôle en seconde session le cas échéant | AE5: Expression | AF5: TEDS | AG5: MTU | AH5: Professionnelle | AI5: Internationale | AJ5: Numérique (PIX) | AK5: Compétences informationnelles | AL5: VSSH | AM5: Internationale | AN5: Professionnelle | AO5: Initiation recherche | AP5: Projet collaboratif | AQ5: Heures Présentiel | AR5: Heures distanciel | AS5: Heures hybride | AT5: Enseignements mutualisés avec d'autres Formation ou délégués à un service interne (SIO, LC) ou externe (associations...)
D6: L1 2A EEA
B7: Année 1 | C7: Semestre A | D7: UE11A | F7: Identification | G7: =VLOOKUP(F7,BCC,2,FALSE()) -> Identification des aspects relevant de l'EEA dans un système complexe | H7: 1 | I7: Mathématiques générales | J7: Oui | K7: Socle | N7: 0 | R7: =SUM(L7:P7) -> 0 | S7: =SUM(R7:R16) -> 102 | Y7: 4 | AA7: Entre 10 et 12 évaluations. Pour une même ressource, une évaluation suivante ne pourra avoir lieu qu’après restitution de la précédente | AB7: Modalités définies par un contrat pédagogique | AD7: 4 | AQ7: =R7 -> 0 | AR7: 0 | AS7: 0 | AT7: Licence Physique chimie (FST)
I8: Mathématiques générales UE supplémentaire Hors Maquette | J8: Non | K8: Tremplin | L8: 70 | R8: =SUM(L8:P8) -> 70 | Z8: 3 | AC8: La multiplicité de notes intègre la seconde chance
I9: Automatisme 1 | J9: Oui | K9: Socle | L9: Traité en semestre C | R9: =SUM(L9:P9) -> 0 | AQ9: =R9 -> 0 | AR9: 0 | AS9: 0 | AT9: BUT GEII (IUT)
I10: Automatisme 1 | J10: Non | K10: Tremplin | L10: Traité en semestre C | R10: =SUM(L10:P10) -> 0
I11: Electronique 1 | J11: Oui | K11: Socle | L11: Traité en semestre C | R11: =SUM(L11:P11) -> 0 | AQ11: =R11 -> 0 | AR11: 0 | AS11: 0 | AT11: BUT GEII (IUT)
I12: Electronique 1 | J12: Non | K12: Tremplin | L12: Traité en semestre C | R12: =SUM(L12:P12) -> 0
I13: Informatique 1 | J13: Oui | K13: Socle | L13: 16 | O13: 8 | R13: =SUM(L13:P13) -> 24 | AQ13: =R13 -> 24 | AR13: 0 | AS13: 0 | AT13: Licence informatique (FST) | AU13: Commun L1
I14: Informatique 1 | J14: Non | K14: Tremplin | N14: 8 | R14: =SUM(L14:P14) -> 8 | AU14: Commun L1
I15: Remédiation 1 | J15: Non | K15: Tremplin | R15: =SUM(L15:P15) -> 0 | AQ15: =R15 -> 0 | AU15: Commun L1
I16: SAC 11 | J16: Oui | K16: Transversal | R16: =SUM(L16:P16) -> 0 | AE16: x | AF16: x | AQ16: =R16 -> 0 | AR16: 0 | AS16: 0 | AU16: Commun L1
C18: Semestre A | D18: UE12A | F18: Analyse | G18: =VLOOKUP(F18,BCC,2,FALSE()) -> Analyses quantitatives et qualitatives des aspects relevant de l'EEA dans un système complexe | H18: 1 | I18: Mathématiques générales | J18: Oui | K18: Socle | R18: =SUM(L18:P18) -> 0 | S18: =SUM(R18:R27) -> 0 | Y18: 4 | AA18: Entre 10 et 12 évaluations. Pour une même ressource, une évaluation suivante ne pourra avoir lieu qu’après restitution de la précédente | AB18: Modalités définies par un contrat pédagogique | AQ18: =R18 -> 0 | AR18: 0 | AS18: 0
I19: Mathématiques générales | J19: Non | K19: Tremplin | R19: =SUM(L19:P19) -> 0 | AC19: La multiplicité de notes intègre la seconde chance
I20: Automatisme 1 | J20: Oui | K20: Socle | L20: Traité en semestre C
I21: Automatisme 1 | J21: Non | K21: Tremplin | L21: Traité en semestre C
I22: Electronique 1 | J22: Oui | K22: Socle | L22: Traité en semestre C
I23: Electronique 1 | J23: Non | K23: Tremplin | L23: Traité en semestre C | AQ23: =R23 -> 0 | AR23: 0 | AS23: 0
I24: Informatique 1 | J24: Oui | K24: Socle | R24: =SUM(L24:P24) -> 0 | AQ24: =R24 -> 0 | AR24: 0 | AS24: 0 | AU24: Commun L1
I25: Informatique 1 | J25: Non | K25: Tremplin | R25: =SUM(L25:P25) -> 0 | AQ25: =R25 -> 0 | AR25: 0 | AS25: 0 | AU25: Commun L1
I26: Remédiation 1 | J26: Non | K26: Tremplin | R26: =SUM(L26:P26) -> 0 | AU26: Commun L1
I27: SAC 11 | J27: Oui | K27: Transversal | R27: =SUM(L27:P27) -> 0 | AQ27: =R27 -> 0 | AR27: 0 | AS27: 0 | AU27: Commun L1
C29: Semestre A | D29: UE13A | F29: Mise en oeuvre | G29: =VLOOKUP(F29,BCC,2,FALSE()) -> Mise en œuvre des méthodes et outils de l'EEA dans un système complexe | H29: 1 | I29: Mathématiques générales | J29: Oui | K29: Socle | R29: =SUM(L29:P29) -> 0 | S29: =SUM(R29:R38) -> 0 | Y29: 4 | AA29: Entre 10 et 12 évaluations. Pour une même ressource, une évaluation suivante ne pourra avoir lieu qu’après restitution de la précédente | AB29: Modalités définies par un contrat pédagogique | AQ29: =R29 -> 0 | AR29: 0 | AS29: 0
I30: Mathématiques générales | J30: Non | K30: Tremplin | AC30: La multiplicité de notes intègre la seconde chance
I31: Automatisme 1 | J31: Oui | K31: Socle | L31: Traité en semestre C
I32: Automatisme 1 | J32: Non | K32: Tremplin | L32: Traité en semestre C
I33: Electronique 1 | J33: Oui | K33: Socle | L33: Traité en semestre C
I34: Electronique 1 | J34: Non | K34: Tremplin | L34: Traité en semestre C | AQ34: =R34 -> 0 | AR34: 0 | AS34: 0
I35: Informatique 1 | J35: Oui | K35: Socle | R35: =SUM(L35:P35) -> 0 | AQ35: 0 | AR35: 0 | AS35: 0 | AU35: Commun L1
I36: Informatique 1 | J36: Non | K36: Tremplin | R36: =SUM(L36:P36) -> 0 | AQ36: 0 | AR36: 0 | AS36: 0 | AU36: Commun L1
I37: Remédiation 1 | J37: Non | K37: Tremplin | R37: =SUM(L37:P37) -> 0 | AQ37: 1 | AU37: Commun L1
I38: SAC 11 | J38: Oui | K38: Transversal | R38: =SUM(L38:P38) -> 0 | AE38: x | AL38: x | AQ38: =R38 -> 0 | AR38: 0 | AS38: 0 | AU38: Commun L1
C40: Semestre A | D40: UE14A | F40: Projet professionnel | G40: =VLOOKUP(F40,BCC,2,FALSE()) -> Développement de son projet professionnel et enrichissement de sa discipline par des savoirs connexes | I40: Module LC1 : découvrir les espaces et les services du LC | J40: Oui | K40: Ouvert | N40: 1 | R40: =SUM(L40:P40) -> 1 | S40: =SUM(R40:R47) -> 31 | Y40: 3 | AA40: Entre 8 et 10 évaluations. Pour une même ressource, une évaluation suivante ne pourra avoir lieu qu’après restitution de la précédente | AB40: Modalités définies par un contrat pédagogique | AG40: x | AK40: x | AQ40: =R40 -> 1 | AR40: 0 | AS40: 0 | AT40: LC | AU40: Commun L1
I41: Module SIO1 : motivation | J41: Oui | K41: Tremplin | N41: 2 | R41: 2 | AK41: x | AQ41: =R41 -> 2 | AR41: 0 | AS41: 0 | AT41: SIO
I42: Module SIO2 : connaissance de soi | J42: Oui | K42: Tremplin | N42: 2 | R42: 2 | AG42: x | AQ42: =R42 -> 2 | AR42: 0 | AS42: 0 | AT42: SIO
I43: Module LC2 : chercher de l’information | J43: Oui | K43: Transversal | N43: 2 | AL43: x | AT43: LC | AU43: Commun L1
I44: Atelier Usages numériques | J44: Oui | K44: International | N44: 2 | R44: 2 | AD44: 2 | AE44: x | AI44: x | AQ44: =R44 -> 2 | AR44: 0 | AS44: 0 | AU44: Commun L1
...

Sheet 6-Réorientation
A1: Décrire les possibilités de réorientation dans ce parcours
A2: Des réorientation sont possibles au sein de la FST.
A4: Des étudiants de L2 ou L3 peuvent, sur dossier, intégrer une première année d’école d’ingénieurs.
A6: Par VAPP, des étudiants peuvent intégrer le L2 ou le L3

Sheet 7-Commentaires
A1: Commentaires
A2: La séparation des UEs sur 2 années ne permet de faire apparaitre les ECTS , il convient alors de se référer au M3C de la mention. La remise à niveau en Math sur les 3 premiers semestre permet d'acquérir 9 ECTS hors maquette valorisant ainsi l'investissement des ces étudiants.
A4: Les ressources "Commun L1" contribuent à l'obtention des UEs définit la L1 grâce à un contrat pédagogique qui reporte la note obtenue . Les MCC sont donc celles misent en œuvre dans la mention.
A6: Commun L1 mutualisé - les etudiants sont intégrés à la promo suivante pour minimiser les couts au regard du faible effectif.
A8: Le redoublement en L1 est soumis à l'avis du jury.

Sheet 8-Indicateurs
A1: Licence / Licence professionnelle / Master
A2: Maquette pédagogique de formation pour l'accréditation 2024-2028
A4: Mention : | B4: EEA
A6: Parcours : | B6: EEA
A8: Référent Parcours Etudiant : | B8: Gilles HERMANN
A10: Laboratoire (masters uniquement) :
A12: Vérification des typologies
A14: Socle | B14: Ouvert | C14: International | D14: Transversal | E14: Tremplin
A15: =D28 -> 355 | B15: =D34 -> 44 | C15: =D32 -> 74 | D15: =D30 -> 237 | E15: 0
A18: Indicateurs de la lettre de cadrage
D19: Les cellules en bleu des colonnes D et E deviennent vertes lorsque l'indicateur est validé. Les cellules en gris sont des informations qui aident à la validation.
A20: Indicateur | B20: Modalités de calcul | C20: Exigences à respecter | D20: Validation | E20: Validation (manuelle) : oui/non
A21: Le tableau de correspondance BC RNCP-BC Formation est renseigné | B21: Validation manuelle | C21: Livrable 1 | D21: N/A | E21: Oui
A22: Une coordination des Parcours Etudiant est désignée dans la maquette. | B22: La cellule B8 est renseignée | C22: Une coordination des Parcours est désignée. Elle prend en charge le suivi administratif et pédagogique des parcours personnalisés (loi ORE) | D22: =IF(ISBLANK(B8),"Non","Oui") -> Oui | E22: Oui
A23: La maquette fait apparaître des passerelles et réorientations | B23: La cellule A2 de l'onglet 6 est complétée | C23: Prévoir au moins une réorientation en fin de L1 (vérifier manuellement que c'est en fin de L1) | D23: =IF(ISBLANK('6-Réorientation'!A2),"Non","Oui") -> Oui | E23: Oui
A24: Volumes horaires à expliciter | B24: Renseigner les volumes horaires (CM, CI, TD, TP, Projet, Stage, tutorat, présentiel, distanciel, hybride). Si la modalité pédagogique n'est pas utilisée, inscrire 0 | C24: Si renseigné, alors présent, sinon absent (à vérifier comme pour les compétences transversales obligatoires) | E24: Non
A25: Total heures hors UE tremplin | B25: Sommes heures "Total ECUE" colonne Q moins heures tremplin | C25: Max 1500h Licence/ 1450 Max LP (vérifier manuellement les totaux par semestre : 450 LP3, LP3 obligatoirement en alternance)/ 800 Max pour Master/ Minimum 402h pour alternance en LP / 400H pour Master | D25: ='5-Maquette Licence Parcours x'!S2-SUMIF(TypologiePrincipale,"Tremplin",TotalHeuresEns) -> 710 | E25: Oui
A26: Total heures avec tremplin | B26: Total heures "Total ECUE" (colonne Q) | C26: Vérification manuelle des seuils : Max 1600 Tremplin 2 (publics hétérogènes hors Oui-Si, publics empêchés, parcours spécifiques professionnalisants) Max 1800h (Tremplin 1 : Oui-Si) | D26: ='5-Maquette Licence Parcours x'!S2 -> 997 | E26: Oui
A27: Spécialisation progressive : Pourcentage de parcours commun à la mention | B27: Total des heures maquettes pour les ECUE ayant "oui" dans la colonne "Commun Mention" / total des heures hors tremplin x 100 | C27: Vérifier manuellement l'attribution des ECTS sur les parcours : 45 ECTS en tout en L1 et 30 ECTS en L2 ou 75 ECTS lissés en L1 et L2 (soit environ 42%) | D27: =SUMIF(CommunMention,"Oui",TotalHeuresEns)/D26*100 -> 73.019057 | E27: Oui
A28: Total Socle | B28: Somme des Heures Socle (disciplinaires) | C28: max 80% du volume horaire total (1200-1300h max) | D28: =SUMIF(TypologiePrincipale,"Socle",TotalHeuresEns) -> 355 | E28: Oui
A29: % Socle/ Ensemble du cursus | B29: (Somme des Heures ENS. Socle/ Somme des heures ENS.(hors tremplin))*100 | C29: L: Socle <80% des heures cursus vérif manuelle : Max 21 ECTS au S1, 24 ECTS au S2 | D29: =D28/D25*100 -> 50 | E29: Oui
A30: Total Transversal | B30: Somme des Heures (ENS.) Transversales | C30: L : 6 ECTS (soit environ 50h au total) | D30: =SUMIF(TypologiePrincipale,"Transversal",TotalHeuresEns) -> 237 | E30: Oui
A31: Ratio Transversales/Nbre heures total Cursus | B31: (Somme des Heures ENS. Transversales / Somme des heures ENS.(hors tremplin))*100 | C31: L : 3% du volume total cursus (6ECTS minimum) | D31: =D30/D25*100 -> 33.380282 | E31: Oui
A32: Total Heures Internationales | B32: Somme des Heures (ENS.) Internationales | C32: Vérification manuelle : L : 144h environ dont 24h de LanSad par semestre / interculturalité recommandée LP : 24h par semestre excepté sur le semestre consacré au stage long. LP : langues appliquées aux compétences disciplinaires M (LanSad sur 3 semestres obligatoires en Master) NOTA : Possibilité équivalence stage à l'étranger et modules EPICUR, EUCOR L,LP, M... | D32: =SUMIF(TypologiePrincipale,"International",TotalHeuresEns) -> 74 | E32: Oui
A33: Ratio Internationale/Nbre heures total Cursus | B33: (Somme des Heures ENS. UE Internationale / Somme des heures ENS.(hors tremplin))*100 | C33: L : 6% du volume total cursus | D33: =D32/D25*100 -> 10.422535 | E33: Oui
A34: Total Heures Ouvertes | B34: Somme des Heures (ENS.) UE Ouverte | C34: Vérification manuelle : L : 6 ECTS minimum LP : Au moins 1 UE libre par an. Mise en situation = au moins 1/3 des ECTS en LP. M : module de préparation à l'insertion professionnelle obligatoire | D34: =SUMIF(TypologiePrincipale,"Ouvert",TotalHeuresEns) -> 44 | E34: Oui
A35: Ratio Ouvertes/Nbre heures total Cursus | B35: (Somme des Heures ENS. UE Ouverte/ Somme des heures ENS.(hors tremplin))*100 | C35: L : 3% minimum du volume total cursus | D35: =D34/D25*100 -> 6.1971831 | E35: Oui
A36: Total stage L et M | B36: Sommes heures de stage ENS+ETU | C36: Vérif manuelle : L : Au moins un stage ou projet tutoré en licence, de durée libre. M : stage de 8 semaines pour les masters généralistes (280h) et 4 mois minimum pour les master pros (600h) | D36: ='5-Maquette Licence Parcours x'!V2 -> 0 | E36: Oui
A37: Total stage LP | B37: Sommes heures de stage ENS+ETU : validé à partir de 140h | C37: LP: 140h minimum (4 semaines) Vérification manuelle : 2 stages a minima sur le cursus : 1 de 4 semaines LP1, LP2 et 1 de 12 à 16 semaines pour les LP en 1 an. LP3 exclusivement en alternance. | D37: ='5-Maquette Licence Parcours x'!V2 -> 0 | E37: N/A
A38: Heures soutien et remédiation | B38: Sommes heures tutorat (linguistique, méthodologique+positionnement+remédiation) | C38: Seul le calcul des heures tutorat (colonne T) est automatisé. A vérifier manuellement : Tutorat + ressources ou ECUE liées à soutien ou accompagnement dont UE tremplin | D38: ='5-Maquette Licence Parcours x'!W2 -> 0 | E38: Oui
A39: Total pédagogie diversifiée (pédagogie active) | B39: Somme heures hybridation+distanciel+projet (Enseignant et étudiant) | C39: 150h en pédagogie diversifiée (active) sur l'ensemble du cursus en UE socle. A vérifier manuellement : les commentaires sur les dispositifs de pédagogie active (onglet commentaire). | D39: ='5-Maquette Licence Parcours x'!AS2+'5-Maquette Licence Parcours x'!AR2+'5-Maquette Licence Parcours x'!T2+'5-Maquette Licence Parcours x'!P2 -> 197 | E39: Oui
A40: Total projets tutorés (encadrés par enseignant) | B40: Sommes heures projets ENS+ETU | C40: LP : 150h à minima | D40: ='5-Maquette Licence Parcours x'!P2+'5-Maquette Licence Parcours x'!T2 -> 197 | E40: Oui
A41: Total heures en TP | B41: Somme des heures de TP | C41: Min 150h pour pouvoir bénéficier 100h supplémentaires hybrides dans les filières scientifiques (vérif manuelle : obtention du label hybridation) | D41: ='5-Maquette Licence Parcours x'!O2 -> 212 | E41: Oui
A42: Des SAC sont proposées | B42: Validation manuelle (colonnes G et/ou Y) | C42: Au moins 1 SAC/an à partir de 2025; 3 SAC en 2028 | D42: N/A | E42: Oui
A43: Compétences transversales présentes (Licence) | B43: au moins une case cochée dans les colonnes AB à AM au moins 30h de TEDS au moins 6h de MTU en S1 en L | C43: ='5-Maquette Licence Parcours x'!AE5 -> Expression | D43: =IF('5-Maquette Licence Parcours x'!AE2>0,"Présent","Absent") -> Présent | E43: Oui
C44: ='5-Maquette Licence Parcours x'!AF5 -> TEDS | D44: =SUMIF(NombreTEDS,"x",TotalHeuresEns) -> 65 | E44: Oui
C45: ='5-Maquette Licence Parcours x'!AG5 -> MTU | D45: =SUMIF(NombreMTU,"x",TotalHeuresEns) -> 6 | E45: Oui
C46: ='5-Maquette Licence Parcours x'!AH5 -> Professionnelle | D46: =IF('5-Maquette Licence Parcours x'!AH2>0,"Présent","Absent") -> Présent | E46: Oui
C47: ='5-Maquette Licence Parcours x'!AI5 -> Internationale | D47: =IF('5-Maquette Licence Parcours x'!AI2>0,"Présent","Absent") -> Présent | E47: Oui
C48: ='5-Maquette Licence Parcours x'!AJ5 -> Numérique (PIX) | D48: =IF('5-Maquette Licence Parcours x'!AJ2>0,"Présent","Absent") -> Absent | E48: Oui
...

Sheet Feuil1
A1: =IF(#REF!="Ouvert",#REF!+#REF!+#REF!+#REF!+#REF!," ") -> #REF! | B1: =IF(#REF!="Transversal",#REF!+#REF!+#REF!+#REF!+#REF!," ") -> #REF! | C1: =IF(#REF!="Socle",#REF!+#REF!+#REF!+#REF!+#REF!," ") -> #REF! | H1: Somme H UE Ouverte | I1: =SUM(A:A) -> #REF!
A2: =IF(#REF!="Ouvert",#REF!+#REF!+#REF!+#REF!+#REF!," ") -> #REF! | B2: =IF(#REF!="Transversal",#REF!+#REF!+#REF!+#REF!+#REF!," ") -> #REF! | C2: =IF(#REF!="Socle",#REF!+#REF!+#REF!+#REF!+#REF!," ") -> #REF!
A3: =IF(#REF!="Ouvert",#REF!+#REF!+#REF!+#REF!+#REF!," ") -> #REF! | B3: =IF(#REF!="Transversal",#REF!+#REF!+#REF!+#REF!+#REF!," ") -> #REF! | C3: =IF(#REF!="Socle",#REF!+#REF!+#REF!+#REF!+#REF!," ") -> #REF!
A4: =IF(#REF!="Ouvert",#REF!+#REF!+#REF!+#REF!+#REF!," ") -> #REF! | B4: =IF(#REF!="Transversal",#REF!+#REF!+#REF!+#REF!+#REF!," ") -> #REF! | C4: =IF(#REF!="Socle",#REF!+#REF!+#REF!+#REF!+#REF!," ") -> #REF!
A5: =IF(#REF!="Ouvert",#REF!+#REF!+#REF!+#REF!+#REF!," ") -> #REF! | B5: =IF(#REF!="Transversal",#REF!+#REF!+#REF!+#REF!+#REF!," ") -> #REF! | C5: =IF(#REF!="Socle",#REF!+#REF!+#REF!+#REF!+#REF!," ") -> #REF!
A6: =IF(#REF!="Ouvert",#REF!+#REF!+#REF!+#REF!+#REF!," ") -> #REF! | B6: =IF(#REF!="Transversal",#REF!+#REF!+#REF!+#REF!+#REF!," ") -> #REF! | C6: =IF(#REF!="Socle",#REF!+#REF!+#REF!+#REF!+#REF!," ") -> #REF!
A7: =IF(#REF!="Ouvert",#REF!+#REF!+#REF!+#REF!+#REF!," ") -> #REF! | B7: =IF(#REF!="Transversal",#REF!+#REF!+#REF!+#REF!+#REF!," ") -> #REF! | C7: =IF(#REF!="Socle",#REF!+#REF!+#REF!+#REF!+#REF!," ") -> #REF!
A8: =IF(#REF!="Ouvert",#REF!+#REF!+#REF!+#REF!+#REF!," ") -> #REF! | B8: =IF(#REF!="Transversal",#REF!+#REF!+#REF!+#REF!+#REF!," ") -> #REF! | C8: =IF(#REF!="Socle",#REF!+#REF!+#REF!+#REF!+#REF!," ") -> #REF!
A9: =IF(#REF!="Ouvert",#REF!+#REF!+#REF!+#REF!+#REF!," ") -> #REF! | B9: =IF(#REF!="Transversal",#REF!+#REF!+#REF!+#REF!+#REF!," ") -> #REF! | C9: =IF(#REF!="Socle",#REF!+#REF!+#REF!+#REF!+#REF!," ") -> #REF!
A10: =IF(#REF!="Ouvert",#REF!+#REF!+#REF!+#REF!+#REF!," ") -> #REF! | B10: =IF(#REF!="Transversal",#REF!+#REF!+#REF!+#REF!+#REF!," ") -> #REF! | C10: =IF(#REF!="Socle",#REF!+#REF!+#REF!+#REF!+#REF!," ") -> #REF!
A11: =IF(#REF!="Ouvert",#REF!+#REF!+#REF!+#REF!+#REF!," ") -> #REF! | B11: =IF(#REF!="Transversal",#REF!+#REF!+#REF!+#REF!+#REF!," ") -> #REF! | C11: =IF(#REF!="Socle",#REF!+#REF!+#REF!+#REF!+#REF!," ") -> #REF!
A12: =IF(#REF!="Ouvert",#REF!+#REF!+#REF!+#REF!+#REF!," ") -> #REF! | B12: =IF(#REF!="Transversal",#REF!+#REF!+#REF!+#REF!+#REF!," ") -> #REF! | C12: =IF(#REF!="Socle",#REF!+#REF!+#REF!+#REF!+#REF!," ") -> #REF!
A13: =IF(#REF!="Ouvert",#REF!+#REF!+#REF!+#REF!+#REF!," ") -> #REF! | B13: =IF(#REF!="Transversal",#REF!+#REF!+#REF!+#REF!+#REF!," ") -> #REF! | C13: =IF(#REF!="Socle",#REF!+#REF!+#REF!+#REF!+#REF!," ") -> #REF!
... A21: =IF(#REF!="Ouvert",#REF!+#REF!+#REF!+#REF!+#REF!," ") -> #REF! | B21: =IF(#REF!="Transversal",#REF!+#REF!+#REF!+#REF!+#REF!," ") -> #REF! | C21: =IF(#REF!="Socle",#REF!+#REF!+#REF!+#REF!+#REF!," ") -> #REF!
A22: =IF(#REF!="Ouvert",#REF!+#REF!+#REF!+#REF!+#REF!,0) -> #REF! | B22: =IF(#REF!="Transversal",#REF!+#REF!+#REF!+#REF!+#REF!," ") -> #REF! | C22: =IF(#REF!="Socle",#REF!+#REF!+#REF!+#REF!+#REF!," ") -> #REF!
A23: =IF(#REF!="Ouvert",#REF!+#REF!+#REF!+#REF!+#REF!,0) -> #REF! | B23: =IF(#REF!="Transversal",#REF!+#REF!+#REF!+#REF!+#REF!," ") -> #REF! | C23: =IF(#REF!="Socle",#REF!+#REF!+#REF!+#REF!+#REF!," ") -> #REF!
A24: =IF(#REF!="Ouvert",#REF!+#REF!+#REF!+#REF!+#REF!,0) -> #REF! | B24: =IF(#REF!="Transversal",#REF!+#REF!+#REF!+#REF!+#REF!," ") -> #REF! | C24: =IF(#REF!="Socle",#REF!+#REF!+#REF!+#REF!+#REF!," ") -> #REF!
A25: =IF(#REF!="Ouvert",#REF!+#REF!+#REF!+#REF!+#REF!,0) -> #REF! | B25: =IF(#REF!="Transversal",#REF!+#REF!+#REF!+#REF!+#REF!," ") -> #REF! | C25: =IF(#REF!="Socle",#REF!+#REF!+#REF!+#REF!+#REF!," ") -> #REF!
A26: =IF(#REF!="Ouvert",#REF!+#REF!+#REF!+#REF!+#REF!,0) -> #REF! | B26: =IF(#REF!="Transversal",#REF!+#REF!+#REF!+#REF!+#REF!," ") -> #REF! | C26: =IF(#REF!="Socle",#REF!+#REF!+#REF!+#REF!+#REF!," ") -> #REF!
A27: =IF(#REF!="Ouvert",#REF!+#REF!+#REF!+#REF!+#REF!,0) -> #REF! | B27: =IF(#REF!="Transversal",#REF!+#REF!+#REF!+#REF!+#REF!," ") -> #REF! | C27: =IF(#REF!="Socle",#REF!+#REF!+#REF!+#REF!+#REF!," ") -> #REF!
A28: =IF(#REF!="Ouvert",#REF!+#REF!+#REF!+#REF!+#REF!,0) -> #REF! | B28: =IF(#REF!="Transversal",#REF!+#REF!+#REF!+#REF!+#REF!," ") -> #REF! | C28: =IF(#REF!="Socle",#REF!+#REF!+#REF!+#REF!+#REF!," ") -> #REF!
A29: =IF(#REF!="Ouvert",#REF!+#REF!+#REF!+#REF!+#REF!,0) -> #REF! | B29: =IF(#REF!="Transversal",#REF!+#REF!+#REF!+#REF!+#REF!," ") -> #REF! | C29: =IF(#REF!="Socle",#REF!+#REF!+#REF!+#REF!+#REF!," ") -> #REF!
A30: =IF(#REF!="Ouvert",#REF!+#REF!+#REF!+#REF!+#REF!,0) -> #REF! | B30: =IF(#REF!="Transversal",#REF!+#REF!+#REF!+#REF!+#REF!," ") -> #REF! | C30: =IF(#REF!="Socle",#REF!+#REF!+#REF!+#REF!+#REF!," ") -> #REF!
A31: =IF(#REF!="Ouvert",#REF!+#REF!+#REF!+#REF!+#REF!,0) -> #REF! | B31: =IF(#REF!="Transversal",#REF!+#REF!+#REF!+#REF!+#REF!," ") -> #REF! | C31: =IF(#REF!="Socle",#REF!+#REF!+#REF!+#REF!+#REF!," ") -> #REF!
A32: =IF(#REF!="Ouvert",#REF!+#REF!+#REF!+#REF!+#REF!,0) -> #REF! | B32: =IF(#REF!="Transversal",#REF!+#REF!+#REF!+#REF!+#REF!," ") -> #REF! | C32: =IF(#REF!="Socle",#REF!+#REF!+#REF!+#REF!+#REF!," ") -> #REF!
