Workbook
Name BCC: '[1]2-Référentiel UHA'!$A$3:$B$419
Name CommunL1L2: '3-Maquette parcours'!$D$7:$D$90
Name CommunMention: '3-Maquette parcours'!$D$7:$D$1048576
Name ECTS: '[1]3-Maquette Licence Parcours x'!$V$2:$V$1048576
Name NombreCollab: '3-Maquette parcours'!$AK$7:$AK$1048576
Name NombreExpression: '3-Maquette parcours'!$AB$7:$AB$1048576
Name NombreInformationnelle: '3-Maquette parcours'!$AE$7:$AE$1048576
Name NombreInternationale: '3-Maquette parcours'!$AH$7:$AH$1048576
Name NombreMTU: '3-Maquette parcours'!$AD$7:$AD$1048576
Name NombreNumerique: '3-Maquette parcours'!#REF!
Name NombreNumérique: '3-Maquette parcours'!$AG$7:$AG$868
Name NombreProfessionnelle: '3-Maquette parcours'!$AI$7:$AI$1048576
Name NombreRecherche: '3-Maquette parcours'!$AJ$7:$AJ$1048576
Name NombreSAC: '3-Maquette parcours'!#REF!
Name NombreTEDS: '3-Maquette parcours'!$AC$7:$AC$1048576
Name NombreVSS: '3-Maquette parcours'!$AF$7:$AF$1048576
Name Ressources: '[1]4-Corres. Compétences-Ressource'!$E$2:$AX$2
Name TotalCI: '[1]3-Maquette Licence Parcours x'!$J$5:$J$1048576
Name TotalCM: '[1]3-Maquette Licence Parcours x'!$K$5:$K$1048576
Name TotalDistanciel: '3-Maquette parcours'!$AS$7:$AS$1048576
Name TotalECTS: '3-Maquette parcours'!$T$7:$T$1048576
Name TotalECUE: '3-Maquette parcours'!$M$5:$M$1048576
Name TotalHeuresEns: '[1]3-Maquette Licence Parcours x'!$O$5:$O$1048576
Name TotalHybride: '3-Maquette parcours'!$AT$7:$AT$1048576
Name TotalMaquette: '3-Maquette parcours'!$AV$7:$AV$1048576
Name TotalProjet: '3-Maquette parcours'!$N$7:$N$1048576
Name TotalProjetAutonomie: '[1]3-Maquette Licence Parcours x'!$Q$5:$Q$1048576
Name TotalProjetEncadrement: '[1]3-Maquette Licence Parcours x'!$N$5:$N$1048576,'[1]3-Maquette Licence Parcours x'!$N$2,'[1]3-Maquette Licence Parcours x'!$G$2
Name TotalProjetEns: '3-Maquette parcours'!$K$7:$K$1048576
Name TotalStage: '[1]3-Maquette Licence Parcours x'!$S$5:$S$1048576
Name TotalStageEtudiant: '3-Maquette parcours'!$P$7:$P$1048576
Name TotalTD: '[1]3-Maquette Licence Parcours x'!$L$5:$L$1048576
Name TotalTP: '3-Maquette parcours'!$J$7:$J$1048576
Name TotalTutorat: '3-Maquette parcours'!$Q$7:$Q$1048576
Name TypologiePrincipale: '3-Maquette parcours'!$E$7:$E$1048576
Name VolumeHoraire: '[1]3-Maquette Licence Parcours x'!$O$2:$O$1048576

Sheet Feuil1
A1: =IF(#REF!="Ouvert",#REF!+#REF!+#REF!+#REF!+#REF!," ") -> #REF! | B1: =IF(#REF!="Transversal",#REF!+#REF!+#REF!+#REF!+#REF!," ") -> #REF! | C1: =IF(#REF!="Socle",#REF!+#REF!+#REF!+#REF!+#REF!," ") -> #REF! | H1: Somme H UE Ouverte | I1: =SUM(A:A) -> #REF!
A2: =IF(#REF!="Ouvert",#REF!+#REF!+#REF!+#REF!+#REF!," ") -> #REF! | B2: =IF(#REF!="Transversal",#REF!+#REF!+#REF!+#REF!+#REF!," ") -> #REF! | C2: =IF(#REF!="Socle",#REF!+#REF!+#REF!+#REF!+#REF!," ") -> #REF!
A3: =IF(#REF!="Ouvert",#REF!+#REF!+#REF!+#REF!+#REF!," ") -> #REF! | B3: =IF(#REF!="Transversal",#REF!+#REF!+#REF!+#REF!+#REF!," ") -> #REF! | C3: =IF(#REF!="Socle",#REF!+#REF!+#REF!+#REF!+#REF!," ") -> #REF!
A4: =IF(#REF!="Ouvert",#REF!+#REF!+#REF!+#REF!+#REF!," ") -> #REF! | B4: =IF(#REF!="Transversal",#REF!+#REF!+#REF!+#REF!+#REF!," ") -> #REF! | C4: =IF(#REF!="Socle",#REF!+#REF!+#REF!+#REF!+#REF!," ") -> #REF!
A5: =IF(#REF!="Ouvert",#REF!+#REF!+#REF!+#REF!+#REF!," ") -> #REF! | B5: =IF(#REF!="Transversal",#REF!+#REF!+#REF!+#REF!+#REF!," ") -> #REF! | C5: =IF(#REF!="Socle",#REF!+#REF!+#REF!+#REF!+#REF!," ") -> #REF!
A6: =IF(#REF!="Ouvert",#REF!+#REF!+#REF!+#REF!+#REF!," ") -> #REF! | B6: =IF(#REF!="Transversal",#REF!+#REF!+#REF!+#REF!+#REF!," ") -> #REF! | C6: =IF(#REF!="Socle",#REF!+#REF!+#REF!+#REF!+#REF!," ") -> #REF!
A7: =IF(#REF!="Ouvert",#REF!+#REF!+#REF!+#REF!+#REF!," ") -> #REF! | B7: =IF(#REF!="Transversal",#REF!+#REF!+#REF!+#REF!+#REF!," ") -> #REF! | C7: =IF(#REF!="Socle",#REF!+#REF!+#REF!+#REF!+#REF!," ") -> #REF!
A8: =IF(#REF!="Ouvert",#REF!+#REF!+#REF!+#REF!+#REF!," ") -> #REF! | B8: =IF(#REF!="Transversal",#REF!+#REF!+#REF!+#REF!+#REF!," ") -> #REF! | C8: =IF(#REF!="Socle",#REF!+#REF!+#REF!+#REF!+#REF!," ") -> #REF!
A9: =IF(#REF!="Ouvert",#REF!+#REF!+#REF!+#REF!+#REF!," ") -> #REF! | B9: =IF(#REF!="Transversal",#REF!+#REF!+#REF!+#REF!+#REF!," ") -> #REF! | C9: =IF(#REF!="Socle",#REF!+#REF!+#REF!+#REF!+#REF!," ") -> #REF!
A10: =IF(#REF!="Ouvert",#REF!+#REF!+#REF!+#REF!+#REF!," ") -> #REF! | B10: =IF(#REF!="Transversal",#REF!+#REF!+#REF!+#REF!+#REF!," ") -> #REF! | C10: =IF(#REF!="Socle",#REF!+#REF!+#REF!+#REF!+#REF!," ") -> #REF!
A11: =IF(#REF!="Ouvert",#REF!+#REF!+#REF!+#REF!+#REF!," ") -> #REF! | B11: =IF(#REF!="Transversal",#REF!+#REF!+#REF!+#REF!+#REF!," ") -> #REF! | C11: =IF(#REF!="Socle",#REF!+#REF!+#REF!+#REF!+#REF!," ") -> #REF!
A12: =IF(#REF!="Ouvert",#REF!+#REF!+#REF!+#REF!+#REF!," ") -> #REF! | B12: =IF(#REF!="Transversal",#REF!+#REF!+#REF!+#REF!+#REF!," ") -> #REF! | C12: =IF(#REF!="Socle",#REF!+#REF!+#REF!+#REF!+#REF!," ") -> #REF!
A13: =IF(#REF!="Ouvert",#REF!+#REF!+#REF!+#REF!+#REF!," ") -> #REF! | B13: =IF(#REF!="Transversal",#REF!+#REF!+#REF!+#REF!+#REF!," ") -> #REF! | C13: =IF(#REF!="Socle",#REF!+#REF!+#REF!+#REF!+#REF!," ") -> #REF!
... A21: =IF(#REF!="Ouvert",#REF!+#REF!+#REF!+#REF!+#REF!," ") -> #REF! | B21: =IF(#REF!="Transversal",#REF!+#REF!+#REF!+#REF!+#REF!," ") -> #REF! | C21: =IF(#REF!="Socle",#REF!+#REF!+#REF!+#REF!+#REF!," ") -> #REF!
A22: =IF(#REF!="Ouvert",#REF!+#REF!+#REF!+#REF!+#REF!,0) -> #REF! | B22: =IF(#REF!="Transversal",#REF!+#REF!+#REF!+#REF!+#REF!," ") -> #REF! | C22: =IF(#REF!="Socle",#REF!+#REF!+#REF!+#REF!+#REF!," ") -> #REF!
A23: =IF(#REF!="Ouvert",#REF!+#REF!+#REF!+#REF!+#REF!,0) -> #REF! | B23: =IF(#REF!="Transversal",#REF!+#REF!+#REF!+#REF!+#REF!," ") -> #REF! | C23: =IF(#REF!="Socle",#REF!+#REF!+#REF!+#REF!+#REF!," ") -> #REF!
A24: =IF(#REF!="Ouvert",#REF!+#REF!+#REF!+#REF!+#REF!,0) -> #REF! | B24: =IF(#REF!="Transversal",#REF!+#REF!+#REF!+#REF!+#REF!," ") -> #REF! | C24: =IF(#REF!="Socle",#REF!+#REF!+#REF!+#REF!+#REF!," ") -> #REF!
A25: =IF(#REF!="Ouvert",#REF!+#REF!+#REF!+#REF!+#REF!,0) -> #REF! | B25: =IF(#REF!="Transversal",#REF!+#REF!+#REF!+#REF!+#REF!," ") -> #REF! | C25: =IF(#REF!="Socle",#REF!+#REF!+#REF!+#REF!+#REF!," ") -> #REF!
A26: =IF(#REF!="Ouvert",#REF!+#REF!+#REF!+#REF!+#REF!,0) -> #REF! | B26: =IF(#REF!="Transversal",#REF!+#REF!+#REF!+#REF!+#REF!," ") -> #REF! | C26: =IF(#REF!="Socle",#REF!+#REF!+#REF!+#REF!+#REF!," ") -> #REF!
A27: =IF(#REF!="Ouvert",#REF!+#REF!+#REF!+#REF!+#REF!,0) -> #REF! | B27: =IF(#REF!="Transversal",#REF!+#REF!+#REF!+#REF!+#REF!," ") -> #REF! | C27: =IF(#REF!="Socle",#REF!+#REF!+#REF!+#REF!+#REF!," ") -> #REF!
A28: =IF(#REF!="Ouvert",#REF!+#REF!+#REF!+#REF!+#REF!,0) -> #REF! | B28: =IF(#REF!="Transversal",#REF!+#REF!+#REF!+#REF!+#REF!," ") -> #REF! | C28: =IF(#REF!="Socle",#REF!+#REF!+#REF!+#REF!+#REF!," ") -> #REF!
A29: =IF(#REF!="Ouvert",#REF!+#REF!+#REF!+#REF!+#REF!,0) -> #REF! | B29: =IF(#REF!="Transversal",#REF!+#REF!+#REF!+#REF!+#REF!," ") -> #REF! | C29: =IF(#REF!="Socle",#REF!+#REF!+#REF!+#REF!+#REF!," ") -> #REF!
A30: =IF(#REF!="Ouvert",#REF!+#REF!+#REF!+#REF!+#REF!,0) -> #REF! | B30: =IF(#REF!="Transversal",#REF!+#REF!+#REF!+#REF!+#REF!," ") -> #REF! | C30: =IF(#REF!="Socle",#REF!+#REF!+#REF!+#REF!+#REF!," ") -> #REF!
A31: =IF(#REF!="Ouvert",#REF!+#REF!+#REF!+#REF!+#REF!,0) -> #REF! | B31: =IF(#REF!="Transversal",#REF!+#REF!+#REF!+#REF!+#REF!," ") -> #REF! | C31: =IF(#REF!="Socle",#REF!+#REF!+#REF!+#REF!+#REF!," ") -> #REF!
A32: =IF(#REF!="Ouvert",#REF!+#REF!+#REF!+#REF!+#REF!,0) -> #REF! | B32: =IF(#REF!="Transversal",#REF!+#REF!+#REF!+#REF!+#REF!," ") -> #REF! | C32: =IF(#REF!="Socle",#REF!+#REF!+#REF!+#REF!+#REF!," ") -> #REF!
A33: =IF(#REF!="Ouvert",#REF!+#REF!+#REF!+#REF!+#REF!,0) -> #REF! | B33: =IF(#REF!="Transversal",#REF!+#REF!+#REF!+#REF!+#REF!," ") -> #REF! | C33: =IF(#REF!="Socle",#REF!+#REF!+#REF!+#REF!+#REF!," ") -> #REF!
... A71: =IF(#REF!="Ouvert",#REF!+#REF!+#REF!+#REF!+#REF!,0) -> #REF! | B71: =IF(#REF!="Transversal",#REF!+#REF!+#REF!+#REF!+#REF!," ") -> #REF! | C71: =IF(#REF!="Socle",#REF!+#REF!+#REF!+#REF!+#REF!," ") -> #REF!

Sheet 1-FAQ & Lexique
A1: Ce document contient 6 onglets - Faire défiler en bas de la fenêtre Excel
A2: Lexique et Information : Préambule
A3: Ce classeur Excel contient tous les éléments permettant : - d'harmoniser les maquettes en fonction de la note de cadrage UHA - d'organiser les curriculum en conformité avec l'APC ET avec les nouvelles modalités pédagogiques introduites par la loi ORE (modularité, personnalisation des parcours). Il comporte 6 onglets 1. Lexique et information : Cet onglet de présentation déroule un mode d'emploi succinct de la trame de maquette (partie 1). Il explique également la terminologie et les abréviations utilisées dans la maquette (parties 2 et 3) 2. Correspondance BC RNCP/ BC UHA : tableau de correspondance qui permet de respecter l'obligation réglementaire de mettre en adéquation les blocs de compétences du Référentiel de Formation avec les blocs de compétences du RNCP -> à renseigner dès maintenant 3. Maquette Parcours : trame de maquette adaptée aux mentions qui démarrent dans l'approche par compétences. 4. Réorientation : décrire les dispositifs de réorientation envisagés 5. Commentaires : si besoin, vous pouvez expliquer vos choix dans cet onglet. 6. Indicateurs : comporte les indications de la mention et du parcours. Comporte aussi les indicateurs de suivi à fournir obligatoirement en Licence, Licence Pro, Master pour attester de la conformité de l'offre UHA aux exigences réglementaires et stratégiques de l'Etablissement.
A5: 1. Comment renseigner la trame de maquette UHA.
A7: 1.1 Quelle maquette utiliser : maquette APC niveau 1 ou niveau 2 ?
A8: Si vous n'avez pas encore établi votre référentiel de formation ou si vous avez reformulé légèrement la liste de compétences RNCP, privilégiez la maquette APC niveau 1 (ce fichier excel)
A9: Si vous avez travaillé sur un référentiel de formation (accompagné par le collectif de soutien APC), vous pouvez opter pour la maquette APC niveau 2
A11: 1.2 Quels sont les éléments obligatoires à remplir dans la maquette?
A12: La plupart des éléments sont obligatoires. Certains ne sont à renseigner que s'ils sont adaptés. Exemple : un cursus ne dispose pas forcément d'enseignements mutualisés. La colonne "Mutualisation" n'est donc à renseigner que si elle correspond à la réalité de votre cursus. !! Des indications complémentaires sont données en entête de colonne sur la façon de les renseigner. Le passage aux BCC se fera en lien avec les fiches RNCP et avec 3 niveaux de déploiement : - phase 1 : organiser la maquette en BCC et en UE ; (2024) - phase 2 : développer au sein d’au moins un BCC des stratégies pédagogiques alignant les objectifs (dès 2025) (définis en phase 1), les activités et les évaluations. Il s’agit ici notamment de la mise en place de séquences d’apprentissage mobilisant les compétences du BCC, et l’évaluation inhérente ; - phase 3 : généraliser la phase 2 à tous les BCC d’une même formation.", UHA, Note de cadrage, mai 2023, p. 5
A14: 1.3 Comment et pourquoi utiliser l'onglet 2 - Correspondance RNCP / Référentiel
A15: 1. Vous avez établi un référentiel de compétences propre à votre Formation --> utilisez le tableau Correspondance BC RNCP - BC UHA (onglet 2) pour établir les correspondances entre les blocs de compétence de votre référentiel et ceux de la fiche RNCP de la mention nationale.
A16: 2. Vous n'avez pas de référentiel de compétences spécifique --> copiez-coller les éléments de référentiel de la fiche RNCP de la Mention nationale.
... A20: Les volumes horaires de la maquette sont les volumes de face à face pédagogique suivis par les étudiants. Ils sont calculés automatiquement uniquement sur la base des heures d'enseignement et de suivi pédagogique. Vous pouvez choisir d'inclure ou non les heures d'évaluation dans les heures maquette. Attention, pour que les temps d'évaluation soient pris en compte dans les 1500h réglementaires, ils doivent être saisis dans les heures CM, TD, TP. Les temps de travail étudiant indiqués pour les stages et projets ne sont pas décomptés dans le calcul de la maquette. Si la formation a recours à un service (Learning Center et SIO...) pour animer certaines séquences d'enseignement, ces heures figurent dans la maquette de la Formation. Les heures d'hybridation ou de distanciel sont intégrées dans les heures d'enseignement de la section. Au sein du volume horaire global d'une UE, on précisera par ailleurs la répartition de volumes horaires entre différentes d'apprentissage(Présentiel/Distanciel/Hybride). Cette distinction permettra notamment de justifier du volume horaire supplémentaire accordé à certaines mentions sous réserve qu'elles aient recours à l'hybridation. En cas d'insertion de nouvelles lignes ou colonne au modèle, il se peut que les formules ne se mettent pas à jour. Veuillez vérifier que les références de formules sont bien mises à jour.
A22: Note de cadrage (volume horaire appuyé sur la réglementation) | B22: Licence
B23: Pas moins de 1500h d'enseignement ou d'encadrement en face à face (obligation réglementaire). Pas plus de 1500h sur 3 ans pour le standard sauf dispositions spécifiques aux UE Tremplin (<300h de soutien en plus) et/ou 100h hybridées de plus
A24: Licence Pro | B24: Master
A25: 1450h sur 3 ans : Le volume horaire annuel ne devra pas dépasser 500h encadrées, 450h la dernière année. | B25: De 400h à 800h sur deux ans.
A26: 1.5 Comment attribuer les crédits ECTS aux UE?
A27: Les ECTS sont attribuées uniquement aux UE (pas aux ECUE). 1 UE se voit accorder 3 ECTS minimum. 1 ECTS correspond à 25-30 heures de travail pour l'étudiant, comprenant au plus 10 heures d'enseignement ou d’encadrement pédagogique de type suivi de projet en présentiel ou hybride.
A28: 1.6 Comment sont spécifiées les durées de stage ?
A29: Les durées de stage sont spécifiées dans la maquette en conformité avec les éléments ci-après.
A30: Stage obligatoire en L, M et LP | B30: Licence
B31: Pas de cadrage sur la durée, au choix de la Formation.
A32: Licence Pro | B32: Master
A33: 12 à 16 semaines en milieu professionnel (au moins 1/3 des crédits ECTS attribuables à des mises en situations professionnelles en UE ouvertes. Un stage d’au moins 4 semaines devra être mis en place dans les 2 premières années. un projet tutoré de 150 h. | B33: > ou = à 8 semaines. > ou = à 4 mois dans les filières professionnalisantes ;
A34: 1.6 Comment sont calculés les indicateurs?
A35: Les volumes horaires totaux et par catégorie d'UE sont calculés automatiquement dans les modèles de maquette. Les indicateurs de suivi complémentaires permettent d'attester de l'application des dispositions légales et de la note de cadrage seront calculés selon les formules de calcul spécifiées dans l'onglet Indicateurs.
A36: 2. Eléments de lexique
A38: 2.1 Lexique spécifique UHA - Approche par Compétences
A40: Alignement pédagogique : Mis au jour par John Biggs, ce concept mentionné dans la note de cadrage est au coeur de la démarche APC. Il s'agit de mettre en cohérence 1) les objectifs d’apprentissage d’un enseignement/d’une formation, 2) les méthodes et activités pédagogiques et 3) les méthodes d’évaluation des apprentissages des étudiants. Ainsi, si un des objectifs d'apprentissage d'un enseignement est de "Travailler en équipe dans un laboratoire", il sera adapté de mettre en place des activités de travaux pratiques en laboratoire et d'évaluer les étudiants en situation via une grille critériée sur la qualité de leur coopération.
A41: Apprentissage critique (Maquette APC Niveau 2) Dans un référentiel de compétences, un apprentissage critique explicite ce que l’étudiant doit effectivement maîtriser pour passer d’un niveau de développement à un autre de la compétence. L'apprentissage critique (Tardif) est similaire à la "microcompétence" (IDIP).
A42: Compétence (/ Macro-compétence) Une compétence consiste en la mobilisation de manière pertinente des ressources d’un individu pour exercer une activité en fonction d’objectifs à finalité professionnelle à atteindre. Le résultat de sa mise en œuvre est évaluable dans un contexte donné et transférable d’un contexte professionnel à un autre (inspiré du RNCP). Cette définition s'appuie sur celle de Tardif : "Une compétence est un "savoir-agir complexe, prenant appui sur la mobilisation et la combinaison efficaces d'une variété de ressources à l'intérieur d'une famille de situations" (Tardif, 2006)". A l'UHA, ce terme est exclusivement utilisé pour désigner une compétence générique (parfois désignée sous forme de macro-compétence) équivalent au titre d'un bloc de compétence du référentiel. Elle est subdivisée en apprentissages critiques qui précisent quant à eux les apprentissages essentiels à acquérir à chaque niveau de développement de cette compétence.
A43: Objectif d'apprentissage La formulation des objectifs d’apprentissage permet aux étudiants d'identifier ce qu'ils devraient savoir et savoir faire à l'issue d'une activité d'apprentissage. Par souci de cohérence, le choix des méthodes d’évaluations, des activités d’enseignement-apprentissage et l’organisation du contenu du cours découlent des objectifs d’apprentissage. NB : L'université de Lorraine a publié une fiche pratique très claire sur la construction d'un objectif d'apprentissage. Source : https://sup.univ-lorraine.fr/files/2020/07/FC_formuler_objectifs_apprentissage.pdf
A44: Situation d'Apprentissage Complexe & Evaluation
A45: "La mise en œuvre de « situations d’apprentissage complexe » sera à développer. De telles situations exigent de mettre en œuvre plusieurs compétences, transversales, disciplinaires et pluridisciplinaires, amenant les étudiants à mobiliser et intégrer de manière cohérente et simultanée des savoirs (connaissances), savoir-être (attitudes) et savoir-faire (capacités) multiples. A ce titre, il est recommandé que les compétences disciplinaires d’une ou plusieurs UE puissent être développées via un enseignement en langue étrangère.", Note de cadrage UHA, mai 2023. EUne situation d'apprentissage complexe ne se solde pas obligatoirement par une évaluation. Elle peut toutefois être complétée d'une évaluation par exemple sous forme de grille critériée (notamment dans les maquettes APC de niveau 2) pour évaluer une ou plusieurs compétences en situation.
A48: 2.2 Lexique spécifique UHA - Référentiel de formation / Modularité et aménagement du parcours de formation
A50: Catégories d'UE. Les catégories d'UE sont au coeur du référentiel de formation, visant à définir l'organisation du parcours de formation. Afin d'impulser une plus grande modularité des activités d'apprentissage et une variété des types de compétences visées par ses diplômes, l'UHA, suivant les recommandations du rapport HCERES, a structuré 4 catégories d'UE contribuant au développement de compétences transversales obligatoires ou mise en avant dans la stratégie de formation de l'UHA + 1UE optionnelle. Ces catégories vient à faciliter les regroupement transdisciplinaires et à suivre la répartition des volumes horaires en fonction des types de compétences auxquelles contribuent les UE.
... A62: Compétences transversales
A63: Dénomination UHA | B63: Arrêté 01/2020 | C63: Licence/Licence Pro/Master
A64: Professionnelle | B64: Pré-professionnelle et professionnelle
...

Sheet 4-Réorientation
A1: Décrire les possibilités de réorientation dans ce parcours (Une réorientation doit être prévue en fin de L1)
A2: Après la L1 de la licence Informatique, les étudiant(e)s peuvent se ré-orienter dans la L2 de la licence Mathématiques.

Sheet 2- BC RNCP-BC Formation UHAb
B1: !! Comment renseigner ce tableau? 3 cas : Cas 1. Si vous n'avez pas de référentiel, renseignez uniquement la colonne obligatoire ci-dessous (B) et inscrire des x en face de chaque compétence dans la colonne C Cas 2. Si vous avez reformulé les titres de blocs du référentiel national, spécifiez dans les colonnes de droite (à partir de C2) les titres de vos BC Formation UHA (obligatoire). Inscrivez une x chaque fois que vos blocs de Formation prennent en compte des compétences (C) des blocs RNCP. Cas 3. Si vous avez votre propre référentiel de compétences, renseignez également la colonne des apprentissages critiques AC à partir de la cellule C3. Inscrivez ensuite une x chaque fois qu'un AC correspondra à une Compétence C des blocs RNCP (voir exemples).
B3: France Compétences fiche RNCP RNCP24514 | C3: BC1. Développer des applications | K3: BC 2. Gérer un système d’information | N3: BC 3. Raisonner et calculer | U3: BC 4. Accompagner le fonctionnement de l’entreprise (parcours MIAGE) | AA3: BC 5. Communiquer et collaborer | AH3: BC 6. Travailler en milieu professionnel
B4: Copier-coller dans tous les cas les éléments de la fiche RNCP ci-dessous. | C4: AC1.1 Appliquer des approches raisonnées de résolution de problèmes complexes par décompositions et/ou approximations successives et mettre en œuvre des méthodes d’analyse pour concevoir des applications et algorithmes à partir d’un cahier des charges partiellement donné. | D4: AC 1.2 Choisir, sur des critères objectifs, les structures de données et construire les algorithmes les mieux adaptés à un problème donné. | E4: AC1.3 Identifier les concepts fondamentaux de complexité, calculabilité, décidabilité, vérification : apprécier la complexité et les limites de validité d’une solution. | F4: AC 1.4 Caractériser le rôle des tests et des preuves de correction dans le développement des logiciels et mettre en œuvre des tests élémentaires et des invariants de boucle. | G4: AC 1.5 Analyser et interpréter les résultats produits par l'exécution d'un programme. | H4: AC 1.6 Concevoir le traitement informatisé d’informations de différentes natures, telles que des données, des images et des textes. | I4: AC 1.7 Se servir aisément de plusieurs styles/paradigmes algorithmiques et de programmation (approches impérative, fonctionnelle, objet et multitâche) ainsi que plusieurs langages de programmation. | J4: AC 1.8 Expliquer et documenter la mise en œuvre d'une solution technique. | K4: AC2.1 Concevoir, implémenter et exploiter des bases de données. | L4: AC2.2 Identifier et caractériser les principaux éléments fonctionnels et l’architecture matérielle d’un ordinateur, interpréter les informations techniques fournies par les constructeurs, écrire des routines simples en langage machine. | M4: AC2.3 Caractériser le fonctionnement des systèmes et des réseaux, ainsi que les pratiques, outils et techniques visant à assurer la sécurité des systèmes informatiques pendant leur développement et leur utilisation. | N4: AC3.1 Caractériser les outils logiques et algébriques fondamentaux (théorie des langages et de la compilation, logique et raisonnement, ordres, induction) et leurs implications dans la programmation et la modélisation. | O4: AC3.2 Construire et rédiger une démonstration mathématique synthétique et rigoureuse. | P4: AC3.3 Caractériser les techniques de gestion de l’aléatoire (probabilités et statistique) et leurs rôles dans le traitement de certaines données. | Q4: AC3.4 Utiliser un logiciel de calcul formel ou scientifique. | R4: AC3.5 Se servir aisément des bases de la logique pour organiser un raisonnement mathématique et rédiger de manière synthétique et rigoureuse. | S4: AC3.6 Traduire un problème simple en langage mathématique. | T4: AC3.7 Respecter les principes d’éthique, de déontologie et de responsabilité environnementale. | U4: AC4.1 Intervenir en informatique de gestion | V4: AC4.2 Connaître les fondements de la comptabilité générale | W4: AC4.3 Comprendre l’environnement et le fonctionnement économique et juridique des entreprises et des organisations | X4: ACA4.4 Mobiliser les principaux concepts de la gestion des organisations dans le cadre des analyses en gestion des systèmes d'information. | Y4: ACA4.5 Utiliser les méthodes et techniques de la gestion courante des organisations pour préparer et mettre en œuvre des décisions des organisations. | Z4: AC4.6 Mobiliser les principaux concepts de l'économie (micro-économie, macro-économie), pour la gestion des systèmes d'information des entreprises. | AA4: AC5.1 Utiliser les outils numériques de référence et les règles de sécurité informatique pour acquérir, traiter, produire et diffuser de l’information ainsi que pour collaborer en interne et en externe. | AB4: AC5.2 Identifier, sélectionner et analyser avec esprit critique diverses ressources dans son domaine de spécialité pour documenter un sujet et synthétiser ces données en vue de leur exploitation. | AC4: AC5.3 Analyser et synthétiser des données en vue de leur exploitation. | AD4: AC5.4 Développer une argumentation avec esprit critique. | AE4: AC5.5 Se servir aisément des différents registres d’expression écrite et orale de la langue française. | AF4: AC5.6 Communiquer par oral et par écrit, de façon claire et non-ambiguë, dans au moins une langue étrangère. | AG4: AC5.7 Identifier et situer les champs professionnels potentiellement en relation avec les acquis de la mention ainsi que les parcours possibles pour y accéder. | AH4: AC6.1 Situer son rôle et sa mission au sein d'une organisation pour s'adapter et prendre des initiatives. | AI4: AC6.2 Identifier le processus de production, de diffusion et de valorisation des savoirs. | AJ4: AC6.3 Respecter les principes d’éthique, de déontologie et de responsabilité environnementale. | AK4: AC6.4 Travailler en équipe autant qu’en autonomie et responsabilité au service d’un projet. | AL4: AC6.5 Caractériser et valoriser son identité, ses compétences et son projet professionnel en fonction d’un contexte. | AM4: AC6.6 Analyser ses actions en situation professionnelle, s’auto-évaluer pour améliorer sa pratique. | AN4: AC6.7 Prendre du recul face à une situation.
B5: BC1. RNCP24514BC01 – Identification d’un questionnement au sein d’un champ disciplinaire
B6: C 1.1 – Caractériser les techniques de gestion de l’aléatoire (probabilités et statistique) et leurs rôles dans le traitement de certaines données. | N6: x | P6: X
B7: C 1.2 – Choisir, sur des critères objectifs, les structures de données et construire les algorithmes les mieux adaptés à un problème donné. | D7: X
B8: BC2. RNCP24514BC02 – Analyse d''un questionnement en mobilisant des concepts disciplinaires
B9: C 2.1 – Analyser et interpréter les résultats produits par l'exécution d'un programme. | G9: X
B10: C 2.2 – Identifier les concepts fondamentaux de complexité, calculabilité, décidabilité, vérification : apprécier la complexité et les limites de validité d’une solution. | E10: X
B11: C 2.3 – Identifier et caractériser les principaux éléments fonctionnels et l’architecture matérielle d’un ordinateur, interpréter les informations techniques fournies par les constructeurs, écrire des routines simples en langage machine. | L11: X
B12: C 2.4 – Caractériser le fonctionnement des systèmes et des réseaux, ainsi que les pratiques, outils et techniques visant à assurer la sécurité des systèmes informatiques pendant leur développement et leur utilisation. | M12: X
B13: BC3. RNCP24514BC03 – Mise en œuvre de méthodes et d’outils du champ disciplinaire
B14: C 3.1 – Appliquer des approches raisonnées de résolution de problèmes complexes par décompositions et/ou approximations successives et mettre en œuvre des méthodes d’analyse pour concevoir des applications et algorithmes à partir d’un cahier des charges partiellement donné. | C14: X
B15: C 3.2 – Se servir aisément de plusieurs styles/paradigmes algorithmiques et de programmation (approches impérative, fonctionnelle, objet et multitâche) ainsi que plusieurs langages de programmation. | I15: X
B16: C 3.3 – Concevoir le traitement informatisé d’informations de différentes natures, telles que des données, des images et des textes. | H16: X
B17: C 3.4 – Caractériser le rôle des tests et des preuves de correction dans le développement des logiciels et mettre en œuvre des tests élémentaires et des invariants de boucle. | F17: X
B18: C 3.5 – Expliquer et documenter la mise en œuvre d'une solution technique. | J18: x
B19: C 3.6 – Concevoir, implémenter et exploiter des bases de données. | K19: X
B20: C 3.7 – Caractériser les outils logiques et algébriques fondamentaux (théorie des langages et de la compilation, logique et raisonnement, ordres, induction) et leurs implications dans la programmation et la modélisation. | N20: X
B21: C 3.8 – Construire et rédiger une démonstration mathématique synthétique et rigoureuse. | O21: X | R21: x
B22: C 3.9 – Utiliser un logiciel de calcul formel ou scientifique. | Q22: X
B23: BC4. RNCP24514BC04 – Usages digitaux et numériques
B24: C 4.1 – Utiliser les outils numériques de référence et les règles de sécurité informatique pour acquérir, traiter, produire et diffuser de l’information ainsi que pour collaborer en interne et en externe. | AA24: x
B25: BC5. RNCP24514BC05 – Exploitation de données à des fins d’analyse
B26: C 5.1 – Identifier, sélectionner et analyser avec esprit critique diverses ressources dans son domaine de spécialité pour documenter un sujet et synthétiser ces données en vue de leur exploitation. | AB26: x
B27: C 5.2 – Analyser et synthétiser des données en vue de leur exploitation. | AC27: x
B28: C 5.3 – Développer une argumentation avec esprit critique. | AD28: x
B29: BC6. RNCP24514BC06 – Expression et communication écrites et orales
B30: C 6.1 – Se servir aisément des différents registres d’expression écrite et orale de la langue française. | AE30: x
B31: C 6.2 – Communiquer par oral et par écrit, de façon claire et non-ambiguë, dans au moins une langue étrangère. | AF31: x
B32: BC7. RNCP24514BC07 – Positionnement vis-à-vis d''un champ professionnel
B33: C 7.1 – Identifier et situer les champs professionnels potentiellement en relation avec les acquis de la mention ainsi que les parcours possibles pour y accéder. | AG33: x
B34: C 7.2 – Caractériser et valoriser son identité, ses compétences et son projet professionnel en fonction d’un contexte. | AL34: x
B35: C 7.3 – Identifier le processus de production, de diffusion et de valorisation des savoirs. | AI35: x
B36: BC8. RNCP24514BC08 – Action en responsabilité au sein d''une organisation professionnelle
B37: C 8.1 – Situer son rôle et sa mission au sein d'une organisation pour s’adapter et prendre des initiatives. | AH37: x
B38: C 8.2 – Respecter les principes d’éthique, de déontologie et de responsabilité environnementale. | T38: x | AJ38: x
B39: C 8.3 – Travailler en équipe et en réseau ainsi qu’en autonomie et responsabilité au service d’un projet. | AK39: x
B40: C 8.4 – Analyser ses actions en situation professionnelle, s’autoévaluer pour améliorer sa pratique. | AM40: x

Sheet 3-Maquette parcours
D1: =COUNTIF(CommunMention,"Oui") -> 75 | F1: Total : | J1: =SUM(TotalTP)/2 -> 191 | K1: =SUM(TotalProjetEns)/2 -> 6 | M1: =SUM(TotalECUE)/2 -> 1615 | N1: =SUM(TotalProjet)/2 -> 120 | P1: =SUM(TotalStageEtudiant)/2 -> 0 | Q1: =SUM(TotalTutorat)/2 -> 10 | T1: =SUM(TotalECTS)/2 -> 180 | AB1: =COUNTIF(NombreExpression,"x") -> 15 | AC1: =COUNTIF(NombreTEDS,"x") -> 1 | AD1: =COUNTIF(NombreMTU,"x") -> 3 | AE1: =COUNTIF(NombreInformationnelle,"x") -> 3 | AF1: =COUNTIF(NombreVSS,"x") -> 1 | AG1: =COUNTIF(NombreNumérique,"x") -> 3 | AH1: =COUNTIF(NombreInternationale,"x") -> 10 | AI1: =COUNTIF(NombreProfessionnelle,"x") -> 3 | AJ1: =COUNTIF(NombreRecherche,"x") -> 0 | AK1: =COUNTIF(NombreCollab,"x") -> 0 | AS1: =SUM(TotalDistanciel)/2 -> 0 | AT1: =SUM(TotalHybride)/2 -> 183 | AV1: =SUM(TotalMaquette)/2 -> 1615
A2: Titre UE/ECUE | G2: Volumes horaires d'enseignement et d'encadrement pédagogique dans les 1500h réglementaires | N2: Volumes horaires de travail personnel cadré (hors 1500h réglementaires) | R2: Modalités d'évaluation Indiquer ici le mode d'évaluation de la formation -> | W2: Contrôle Continu Intégral | AB2: Correspondance Compétences / UE Compétences transversales réglementaires ou stratégiques OBLIGATOIRE | AR2: Modalités pédagogiques UE/ECUE | AV2: Total volume heure maquette (reprise colonne M)
A3: Code UE | B3: Libellé UE | C3: Libellé ECUE ou SAC | D3: Commun Mention (Oui/Non) | E3: Typologie principale | F3: Niveau d'acquisition visé | N3: Projet | O3: Stage | Q3: Tutorat | R3: Coeff. Par ECUE | S3: Coeff. Par UE (idem ECTS en L, de 1 à 3 en LP) | T3: ECTS OBLIGATOIRE 1=10h ENS / 25h travail étudiant 3 crédits ECTS minimum attribués au niveau de l'UE | U3: MCC (par ECUE ou pour toute l'UE) Ex de libellé : écrit, oral, soutenance, portfolio, SAC, certification en ligne, … | X3: M3C Contrôle Continu Intégral | AA3: Volume horaire évaluation hors maquette | AB3: (cocher les compétences transversales mobilisées dans les UE. Plusieurs compétences possibles quelque soit la typologie d'UE) | AL3: Compétences Formation UHA ou RNCP | AR3: Format d'enseignement Par défaut, tout présentiel. Vol. horaire d'enseignement uniquement (cf colonne M) | AU3: Mutualisation ou Délégation (Saisir le partenaire)
G4: CM | H4: CI | I4: TD | J4: TP | K4: Projet (encadrement) | L4: Dont évaluation incluse | M4: Total ECUE | N4: Nb heures autonomie étudiant | O4: Heures d'encadrement ENSEIGNANTS | P4: Durée stage en heures | Q4: Nb total d'heures de tutorat allouées | U4: Libellé du type de contrôle en toutes lettres | V4: Libellé du type de contrôle pour étudiants dispensés d'assiduité (si contrôle continue) | W4: Libellé du type de contrôle en seconde session/2e chance le cas échéant | X4: Note normale | Y4: Note 2e chance | Z4: Note finale | AB4: Expression | AC4: TEDS | AD4: MTU | AE4: Compétences informationnelles | AF4: VSSH | AG4: Numérique (PIX) | AH4: Internationale | AI4: Professionnelle | AJ4: Initiation recherche | AK4: Projet collaboratif | AL4: Développer des applications | AM4: Gérer un système d’information | AN4: Raisonner et calculer | AO4: Accompagner le fonctionnement de l’entreprise | AP4: Communiquer et collaborer | AQ4: Travailler en milieu professionnel | AR4: Heures Présentiel | AS4: Heures distanciel | AT4: Heures hybrides | AU4: Enseignements mutualisés avec d'autres Formations ou délégués à un service interne (SIO, LC) ou externe (associations...)
A5: Semestre 1 | AB5: Licence /LP | AH5: Licence et Master | AJ5: Master
A6: BC1. Développer des applications
A7: BC1 – UE1 | B7: Choix : 1 UE parmi les deux UE indiquées | D7: Oui | E7: Socle | F7: Novice | H7: 16 | J7: 8 | M7: =SUM(G7:K7) -> 24 | S7: 3.9 | T7: 3 | AL7: x | AR7: =M7 -> 24 | AS7: 0 | AT7: 0 | AU7: L1 Maths, EEA | AV7: =M7 -> 24
C8: UE Informatique | D8: Oui | E8: Socle | F8: Novice | H8: 16 | J8: 8 | M8: 0 | U8: TD, écrit, Au moins 3 évaluations | V8: Selon les modalités du contrat pédagogique | W8: Règle calcul moyenne modulée | X8: Info = (TD1+TD2+2*EC)/4 | Y8: Info₂ = (TD1+2*TD2+3*EC)/6 | Z8: Info_F = max(Info, Info₂) | AA8: 2 | AL8: x | AR8: =M8 -> 0 | AS8: 0 | AT8: 0 | AU8: L1 Maths | AV8: =M8 -> 0
C9: UE Informatique Avancée | D9: Oui | E9: Socle | F9: Novice | H9: 16 | J9: 8 | M9: 0 | U9: TD, écrit, Au moins 3 évaluations | V9: Selon les modalités du contrat pédagogique | W9: Règle calcul moyenne modulée | X9: InfoAv = (TD1+TD2+2*EC)/4 | Y9: InfoAv₂ = (TD1+2*TD2+3*EC)/6 | Z9: InfoAv_F = max(InfoAv, InfoAv₂) | AA9: 2 | AL9: x | AR9: =M9 -> 0 | AS9: 0 | AT9: 0 | AU9: L1 Maths | AV9: =M9 -> 0
A10: BC1 – UE2 | B10: Choix : 1 UE parmi les deux UE indiquées | D10: Oui | E10: Socle | F10: Novice | H10: 36 | J10: 10 | M10: =SUM(G10:K10) -> 46 | S10: 8 | T10: 7 | AL10: x | AR10: =M10 -> 46 | AS10: 0 | AT10: 0 | AU10: L1 Maths | AV10: =M10 -> 46
C11: UE Algorithmique et programmation 1 | D11: Oui | E11: Socle | F11: Novice | H11: 36 | J11: 10 | M11: 0 | U11: TD, TP, écrit, Au moins 4 évaluations | V11: Selon les modalités du contrat pédagogique | W11: Règle calcul moyenne modulée | X11: AP1 = (TD+TP+2*EC)/4 | Y11: AP1₂ = (2*TD+TP+3*EC)/6 | Z11: AP1_F = max(AP1, AP1₂) | AA11: 2 | AL11: x | AR11: =M11 -> 0 | AS11: 0 | AT11: 0 | AU11: L1 Maths | AV11: =M11 -> 0
C12: UE Algorithmique et programmation 1 avancée | D12: Oui | E12: Socle | F12: Novice | H12: 36 | J12: 10 | M12: 0 | U12: TD, TP, écrit, Au moins 4 évaluations | V12: Selon les modalités du contrat pédagogique | W12: Règle calcul moyenne modulée | X12: AP1Av = (TD+TP+2*EC)/4 | Y12: AP1Av₂ = (2*TD+TP+3*EC)/6 | Z12: AP1Av_F = max(AP1Av, AP1Av₂) | AA12: 2 | AL12: x | AR12: =M12 -> 0 | AS12: 0 | AT12: 0 | AU12: L1 Maths | AV12: =M12 -> 0
A13: BC 3. Raisonner et calculer
A14: BC3 – UE3 | B14: Analyse 1 | C14: Remise à niveau mathématiques | D14: Oui | E14: Tremplin | F14: Novice | H14: 24 | M14: =SUM(G14:K14) -> 24 | R14: 0 | S14: 7 | T14: 6 | U14: Pas de note attendue, présence obligatoire | V14: Selon les modalités du contrat pédagogique | W14: Pas de note attendue, présence obligatoire | X14: cf. Licence Maths | Y14: cf. Licence Maths | Z14: Pas de note attendue, présence obligatoire | AN14: x | AR14: =M14 -> 24 | AS14: 0 | AT14: 0 | AU14: L1 Maths | AV14: =M14 -> 24
B15: Analyse 1 | C15: Analyse 1 | D15: Oui | E15: Socle | F15: Novice | H15: 56 | M15: =SUM(G15:K15) -> 56 | R15: 1 | U15: Au moins 2 examens de TD (coef 1), EC1 écrit 2h (coef 1), EC2 écrit 2h (coef 1) | V15: Selon les modalités du contrat pédagogique | W15: Neutralisation de la plus mauvaise note de TD | X15: cf. Licence Maths | Y15: cf. Licence Maths | Z15: Neutralisation de la plus mauvaise note de TD | AA15: 4 | AN15: x | AR15: =M15 -> 56 | AS15: 0 | AT15: 0 | AU15: L1 Maths | AV15: =M15 -> 56
A16: BC3 – UE4 | B16: Algèbre | D16: Oui | E16: Socle | F16: Novice | H16: 50 | K16: 6 | M16: =SUM(G16:K16) -> 56 | Q16: 10 | S16: 6 | T16: 5 | U16: Au moins 2 examens de TD (coef 1), EC1 écrit 2h (coef 1), EC2 écrit 2h (coef 1) | V16: Selon les modalités du contrat pédagogique | W16: Neutralisation de la plus mauvaise note de TD | X16: cf. Licence Maths | Y16: cf. Licence Maths | Z16: Neutralisation de la plus mauvaise note de TD | AA16: 4 | AN16: x | AR16: =M16 -> 56 | AS16: 0 | AT16: 0 | AU16: L1 Maths | AV16: =M16 -> 56
A17: BC3 – UE5 | B17: Environnement | D17: Oui | E17: Transversal | F17: Novice | H17: 28 | M17: =SUM(G17:K17) -> 28 | S17: =T17 -> 3 | T17: 3 | U17: TD, écrit, Au moins 3 évaluations | V17: Selon les modalités du contrat pédagogique | W17: Règle calcul moyenne modulée | X17: Env = (TD+EC1+EC2)/3 | Y17: Env₂ = (TD+2*EC1+3*EC2)/6 | Z17: Env_F = max(Env, Env₂) | AC17: x | AN17: x | AR17: 0 | AS17: 0 | AT17: 28 | AU17: L1 Maths | AV17: =M17 -> 28
A18: BC 5. Communiquer et collaborer
A19: BC5 – UE6 | B19: Projet Professionnel 1 | S19: 4.6 | T19: 6 | X19: PP = (3*Anglais+OI+DN+PPP)/5 | Z19: PP_F = (3*Anglais_F+OI_F+DN_F+PPP_F)/5
C20: ECUE Anglais | D20: Oui | E20: International | F20: Novice | I20: 24 | M20: =SUM(G20:K20) -> 24 | R20: 3 | U20: TD, Au moins 2 évaluations | V20: Selon les modalités du contrat pédagogique | W20: Règle calcul moyenne modulée | X20: Anglais = moyenne notes TD | Y20: Anglais₂ = moyenne alternative | Z20: Anglais_F =max(Anglais, Anglais₂) | AH20: x | AP20: x | AR20: 0 | AS20: 0 | AT20: 1 | AU20: Langues FST | AV20: =M20 -> 24
C21: ECUE Module LC1 : découvrir les espaces et les services du LC | D21: Oui | E21: Transversal | F21: Novice | I21: 1 | M21: =SUM(G21:K21) -> 1 | U21: Pas de note attendue | V21: Selon les modalités du contrat pédagogique | AD21: x | AE21: x | AP21: x | AU21: LC | AV21: =M21 -> 1
C22: ECUE Module LC2 : chercher de l’information | D22: Oui | E22: Transversal | F22: Novice | I22: 3 | M22: =SUM(G22:K22) -> 3 | U22: Pas de note attendue | V22: Selon les modalités du contrat pédagogique | AD22: x | AE22: x | AP22: x | AR22: 0 | AS22: 0 | AT22: 3 | AU22: LC | AV22: =M22 -> 3
C23: ECUE Outils informatiques | D23: Oui | E23: Transversal | F23: Novice | J23: 8 | M23: =SUM(G23:K23) -> 8 | R23: 1 | U23: Examen sur Moodle | V23: Selon les modalités du contrat pédagogique | X23: OI = note examen Moodle | Y23: OI₂ = OI | Z23: OI_F = Max(OI, OI₂) | AG23: x | AP23: x | AR23: =M23 -> 8 | AS23: 0 | AT23: 0 | AU23: L1 Maths | AV23: =M23 -> 8
C24: ECUE Doc. Numériques | D24: Oui | E24: Transversal | F24: Novice | I24: 10 | M24: =SUM(G24:K24) -> 10 | R24: 1 | U24: TD, Au moins 1 évaluation | V24: Selon les modalités du contrat pédagogique | X24: DN = examen | Y24: DN₂ = DN | Z24: DN_F = Max(DN, DN₂) | AG24: x | AP24: x | AR24: =M24 -> 10 | AS24: 0 | AT24: 0 | AU24: L1 Maths | AV24: =M24 -> 10
C25: ECUE PPP | D25: Oui | E25: Transversal | F25: Novice | G25: 2 | I25: 6 | M25: =SUM(G25:K25) -> 8 | R25: 1 | U25: Rapport, soutenance orale | V25: Selon les modalités du contrat pédagogique | X25: PPP = note projet | Y25: PPP₂ = PPP | Z25: PPP_F =Max(PPP, PP₂) | AB25: x | AI25: x | AP25: x | AR25: =M25 -> 8 | AS25: 0 | AT25: 0 | AU25: L1 Maths, Phys. Chim. EEA | AV25: =M25 -> 8
C26: ECUE Violences sexistes et sexuelles et homophobes | D26: Oui | E26: Transversal | F26: Novice | U26: Pas de note attendue, présence obligatoire | V26: Selon les modalités du contrat pédagogique | AF26: x
D27: TOTAUX SEMESTRE par colonne : | G27: =SUM(G7:G25) -> 2 | H27: =SUM(H7:H25) -> 314 | I27: =SUM(I7:I25) -> 44 | J27: =SUM(J7:J25) -> 62 | K27: =SUM(K7:K25) -> 6 | M27: =SUM(M7:M25) -> 288 | N27: =SUM(N7:N25) -> 0 | O27: =SUM(O7:O25) -> 0 | P27: =SUM(P7:P25) -> 0 | Q27: =SUM(Q7:Q25) -> 10 | T27: =SUM(T7:T25) -> 30 | AA27: =SUM(AA7:AA25) -> 16 | AR27: =SUM(AR7:AR25) -> 232 | AS27: =SUM(AS7:AS25) -> 0 | AT27: =SUM(AT7:AT25) -> 32 | AV27: =SUM(AV7:AV25) -> 288
A28: Semestre 2
A29: BC1. Développer des applications
A30: BC1 – UE1 | B30: Informatique appliquée | S30: 11 | T30: 11 | W30: Règle calcul moyenne modulée | X30: IA = (6*AP+2*ANP+2*(ITI ou IPA))/10 | Z30: IA_F = (6*AP_F+2*ANP_F+2*(ITI_F ou IPA_F))/10
C31: Algorithmique et programmation 2 | D31: Oui | E31: Socle | F31: Novice | H31: 31 | J31: 14 | M31: 45 | R31: 6 | U31: écrit, TP, Au moins 3 évaluations | V31: Selon les modalités du contrat pédagogique | X31: AP = (TP+2*EC1+2*EC2)/5 | Y31: AP₂ = (1,5*TP+3,5*EC1+5*EC2)/10 | Z31: AP_F = Max(AP, AP₂) | AA31: 2 | AL31: x | AR31: 45 | AS31: 0 | AT31: 0 | AU31: L1 Maths | AV31: 45
C32: Analyse Numérique et programmation | D32: Oui | E32: Socle | F32: Novice | H32: 5 | J32: 10 | M32: =SUM(G32:K32) -> 15 | R32: 2 | U32: Écrit, Examen sur machine 1 évaluation | V32: Selon les modalités du contrat pédagogique | X32: ANP = EC | Y32: ANP₂ = EC | Z32: ANP_F = Max(ANP, ANP₂) | AA32: 2 | AL32: x | AR32: =M32 -> 15 | AS32: 0 | AT32: 0 | AV32: =M32 -> 15
C33: Choix (1 ECUE parmi les 2 suivantes) | D33: Oui | E33: Selectionner... | F33: Novice | I33: 15 | M33: =SUM(G33:K33) -> 15 | AL33: x | AR33: =M33 -> 15 | AS33: 0 | AT33: 0 | AV33: =M33 -> 15
C34: Initiation aux techniques d'internet | D34: Oui | E34: Socle | F34: Novice | I34: 15 | M34: 0 | R34: 2 | U34: écrit, 1 évaluation | V34: Selon les modalités du contrat pédagogique | X34: ITI = EC | Y34: ITI₂ = EC | Z34: ITI_F = Max(ITI, ITI₂) | AA34: 2 | AL34: x | AR34: =M34 -> 0 | AS34: 0 | AT34: 0 | AV34: =M34 -> 0
C35: OU
C36: Informatique appliquée avancée | D36: Oui | E36: Socle | F36: Novice | I36: 15 | M36: 0 | R36: 2 | U36: écrit, 1 évaluation | V36: Selon les modalités du contrat pédagogique | X36: IPA = EC | Y36: IPA₂ = EC | Z36: IPA_F = Max(IPA, IPA₂) | AA36: 2 | AL36: x | AR36: =M36 -> 0 | AS36: 0 | AT36: 0 | AV36: =M36 -> 0
A37: BC 3. Raisonner et calculer
A38: BC3 – UE2 | B38: Analyse 2 | C38: Méthodes de calcul en Analyse | D38: Oui | E38: Socle | F38: Novice | H38: 40 | M38: =SUM(G38:K38) -> 40 | R38: 4 | S38: 9 | T38: 8 | U38: Au moins 2 examens de TD (coef 1), EC1 écrit 2h (coef 1), EC2 écrit 2h (coef 1) | V38: Selon les modalités du contrat pédagogique | W38: Neutralisation de la plus mauvaise note de TD | X38: cf. Licence Maths | Y38: cf. Licence Maths | Z38: cf. Licence Maths | AA38: 4 | AN38: x | AR38: =M38 -> 40 | AS38: 0 | AT38: 0 | AU38: L1 Maths | AV38: =M38 -> 40
C39: Fondements de l'Analyse | D39: Oui | E39: Socle | F39: Novice | H39: 32 | M39: =SUM(G39:K39) -> 32 | R39: 3 | U39: Au moins 2 examens de TD (coef 1), EC1 écrit 2h (coef 1), EC2 écrit 2h (coef 1) | V39: Selon les modalités du contrat pédagogique | W39: Neutralisation de la plus mauvaise note de TD | X39: cf. Licence Maths | Y39: cf. Licence Maths | Z39: cf. Licence Maths | AA39: 4 | AN39: x | AR39: =M39 -> 32 | AS39: 0 | AT39: 0 | AU39: L1 Maths | AV39: =M39 -> 32
A40: BC3 – UE3 | B40: Algèbre linéaire | C40: Algèbre linéaire | D40: Oui | E40: Socle | F40: Novice | H40: 50 | M40: =SUM(G40:K40) -> 50 | S40: 6 | T40: 5 | U40: Au moins 2 examens de TD (coef 1), EC1 écrit 2h (coef 1), EC2 écrit 2h (coef 1) | V40: Selon les modalités du contrat pédagogique | W40: Neutralisation de la plus mauvaise note de TD | X40: cf. Licence Maths | Y40: cf. Licence Maths | Z40: cf. Licence Maths | AA40: 4 | AN40: x | AR40: =M40 -> 50 | AS40: 0 | AT40: 0 | AU40: L1 Maths | AV40: =M40 -> 50
...

Sheet 5-Commentaires
A1: Commentaires
A2: En L2 et L3, les séances de TP sont des TP sur machine encadrés par un seul enseignant et donc comptabilisées pour les enseignants comme des TD.
A4: Allemand Semestre 3 : 8 heures (non comptabilisées dans la maquette) sont prévues en plus pour les étudiant(e)s qui n’ont jamais fait d’allemand.
A6: UE à choix : Il y a des UE à choix qui ont le même nombre d’heures total mais pas forcément la même répartition cours/TD/TP. Les totaux des nombres d’heures total seront corrects, en revanche les totaux des heures de cours/TD/TP seront incorrects car ils compteront les totaux des UE du choix alors qu’une seule sera effectivement suivie.
A8: Projets : – note projet : note qui comprend au moins une note de rapport écrit et une note de soutenance orale et qui peut inclure d'autres évaluations. – en cas d'absence prolongée justifiée exceptionnelle (motif lié à la maladie, à un accident, à la grossesse, à la paternité), l'enseignant responsable peut proposer une validation alternative par projet de substitution ou par épreuve écrite et/ou orale de substitution. Les autres cas d'absence entraîneront un défaillant. – les projets sont rémunérés pour les enseignant(e)s suivant le référentiel de l’UHA : 1 h TD par étudiant(e)
A10: Stage : – La note de stage contient une note de rapport écrit, une note de soutenance orale et une note de jury. – Dans le cas exceptionnel (motif lié à la maladie, à un accident, à la grossesse, à la paternité ou à l'adoption) où l'étudiant n'a pas trouvé de stage, une validation est possible par un projet de substitution. Dans ce cas l'intitulé de l'UE, « UE STAGE », sera remplacé par l'intitulé « UE PROJET DE SUBSTITUTION AU STAGE ». – En cas d'interruption du stage (motif lié à la maladie, à un accident, à la grossesse, à la paternité, à l'adoption ou, en accord avec l'établissement, en cas de non-respect des stipulations pédagogiques de la convention ou en cas de rupture de la convention à l'initiative de l'organisme d'accueil), les enseignants responsables peuvent proposer une validation alternative par : – report de tout ou partie de la fin de la période de stage en accord avec l'organisme d'accueil sur l'année universitaire en cours ; – projet de substitution ; – épreuve écrite et/ou orale de substitution. – Une non remise injustifiée du rapport de stage et/ou une absence injustifiée à la soutenance de stage entraîneront un stage défaillant.
A12: Compensation et redoublement : – Conformément à l’arrêté Licence, la compensation entre UE ne se fait qu’entre UE d’un même bloc de connaissances et de compétences – Le jury de semestre reste souverain pour appliquer au cas par cas s’il le souhaite la compensation semestrielle (si elle s’applique) et le jury d’année reste souverain pour appliquer au cas par cas s’il le souhaite la compensation annuelle (si elle s’applique, entre les semestres S1 et S2, ou S3 et S4, ou S5 et S6) – Conformément à l’arrêté Licence, les notes des ECUE des UE non acquises ne sont pas conservées d'une année à l'autre dans le cas d'un redoublement.
A14: Divers : – Semestre 1, PPP (Projet Professionnel Personnel) : l'absence injustifiée entraîne un ajournement à l'UE Projet Professionnel quelle que soit la note
A16: Explication 2e chance : sont indiquées pour les ECUE/UE : la note normale, la note de 2e chance et la note finale qui figurera sur le bulletin de notes qui est en général le maximum de la note normale et de la note de 2e chance.

Sheet 6-Indicateurs
A1: Licence / Licence professionnelle / Master
A2: Maquette pédagogique de formation pour l'accréditation 2024-2028
A4: Mention : | B4: Informatique
A6: Parcours : | B6: Informatique
A8: Référent Parcours Etudiant : | B8: Stéphane Rivière ?
A10: Laboratoire (masters uniquement) :
A14: Socle | B14: Ouvert | C14: International | D14: Transversal | E14: Tremplin
A15: =D28 -> 1138 | B15: =D34 -> 24 | C15: =D32 -> 136 | D15: =D30 -> 178 | E15: =SUMIF(TypologiePrincipale,"Tremplin",TotalMaquette) -> 24
A18: Indicateurs de la lettre de cadrage
D19: Les cellules en bleu des colonnes D et E deviennent vertes lorsque l'indicateur est validé. Les cellules en gris sont des informations qui aident à la validation.
A20: Indicateur | B20: Modalités de calcul | C20: Exigences à respecter | D20: Résultats des formules de calcul | E20: Validation (manuelle) : oui/non
A21: Le tableau de correspondance BC RNCP-BC Formation est renseigné | B21: Validation manuelle | C21: Livrable 1 | D21: N/A | E21: Oui
A22: Une coordination des Parcours Etudiant est désignée dans la maquette. | B22: La cellule B8 est renseignée | C22: Une coordination des Parcours est désignée. Elle prend en charge le suivi administratif et pédagogique des parcours personnalisés (loi ORE) | D22: =IF(ISBLANK(B8),"Non","Oui") -> Oui | E22: Non
A23: La maquette fait apparaître des passerelles et réorientations | B23: La cellule A2 de l'onglet 4 est complétée | C23: Prévoir au moins une réorientation en fin de L1 (vérifier manuellement que c'est en fin de L1) | D23: =IF(ISBLANK('4-Réorientation'!A2),"Non","Oui") -> Oui | E23: Oui
A24: Volumes horaires à expliciter | B24: Renseigner les volumes horaires (CM, CI, TD, TP, Projet, Stage, tutorat, présentiel, distanciel, hybride). Si la modalité pédagogique n'est pas utilisée, inscrire 0 | C24: Si renseigné, alors présent, sinon absent (à vérifier comme pour les compétences transversales obligatoires) | E24: Non
A25: Total heures hors UE tremplin | B25: Sommes heures "Total ECUE" colonne M moins heures tremplin | C25: Max 1500h Licence/ 1450 Max LP (vérifier manuellement les totaux par semestre : 450 LP3, LP3 obligatoirement en alternance)/ 800 Max pour Master/ Minimum 402h pour alternance en LP / 400H pour Master | D25: ='3-Maquette parcours'!M1-SUMIF(TypologiePrincipale,"Tremplin",TotalMaquette) -> 1591 | E25: Non
A26: Total heures avec tremplin | B26: Total heures "Total ECUE" (colonne M) | C26: Vérification manuelle des seuils : Max 1600 Tremplin 2 (publics hétérogènes hors Oui-Si, publics empêchés, parcours spécifiques professionnalisants) Max 1800h (Tremplin 1 : Oui-Si) | D26: ='3-Maquette parcours'!M1 -> 1615 | E26: Non
A27: Spécialisation progressive : Pourcentage de parcours commun à la mention | B27: Total des heures maquettes pour les ECUE ayant "oui" dans la colonne "Commun Mention" / total des heures hors tremplin x 100 | C27: Vérifier manuellement l'attribution des ECTS sur les parcours : 45 ECTS en tout en L1 et 30 ECTS en L2 ou 75 ECTS lissés en L1 et L2 (soit environ 42%) | D27: =SUMIF(CommunL1L2,"Oui",TotalMaquette)/1000*100 -> 109.3 | E27: Oui
A28: Total Socle | B28: Somme des Heures Socle (disciplinaires) | C28: max 80% du volume horaire total (1200-1300h max) | D28: =SUMIF(TypologiePrincipale,"Socle",TotalMaquette) -> 1138 | E28: Oui
A29: % Socle/ Ensemble du cursus | B29: (Somme des Heures ENS. Socle/ Somme des heures ENS.(hors tremplin))*100 | C29: L: Socle <80% des heures cursus vérif manuelle : Max 21 ECTS au S1, 24 ECTS au S2 | D29: =D28/D25*100 -> 71.527341 | E29: Oui
A30: Total Transversal | B30: Somme des Heures (ENS.) Transversales | C30: L : 6 ECTS (soit environ 50h au total) | D30: =SUMIF(TypologiePrincipale,"Transversal",TotalMaquette) -> 178 | E30: Oui
A31: Ratio Transversales/Nbre heures total Cursus | B31: (Somme des Heures ENS. Transversales / Somme des heures ENS.(hors tremplin))*100 | C31: L : 3% du volume total cursus (6ECTS minimum) | D31: =D30/D25*100 -> 11.187932 | E31: Oui
A32: Total Heures Internationales | B32: Somme des Heures (ENS.) Internationales | C32: Vérification manuelle : L : 144h environ dont 24h de LanSad par semestre / interculturalité recommandée LP : 24h par semestre excepté sur le semestre consacré au stage long. LP : langues appliquées aux compétences disciplinaires M (LanSad sur 3 semestres obligatoires en Master) NOTA : Possibilité équivalence stage à l'étranger et modules EPICUR, EUCOR L,LP, M... | D32: =SUMIF(TypologiePrincipale,"International",TotalMaquette) -> 136 | E32: Oui
A33: Ratio Internationale/Nbre heures total Cursus | B33: (Somme des Heures ENS. UE Internationale / Somme des heures ENS.(hors tremplin))*100 | C33: L : 6% du volume total cursus | D33: =D32/D25*100 -> 8.548083 | E33: Oui
A34: Total Heures Ouvertes | B34: Somme des Heures (ENS.) UE Ouverte | C34: Vérification manuelle : L : 6 ECTS minimum LP : Au moins 1 UE libre par an. Mise en situation = au moins 1/3 des ECTS en LP. M : module de préparation à l'insertion professionnelle obligatoire | D34: =SUMIF(TypologiePrincipale,"Ouvert",TotalMaquette) -> 24 | E34: Oui
A35: Ratio Ouvertes/Nbre heures total Cursus | B35: (Somme des Heures ENS. UE Ouverte/ Somme des heures ENS.(hors tremplin))*100 | C35: L : 3% minimum du volume total cursus | D35: =D34/D25*100 -> 1.5084852 | E35: Oui
A36: Total stage L et M | B36: Sommes heures de stage ENS+ETU | C36: Vérif manuelle : L : Au moins un stage ou projet tutoré en licence, de durée libre. M : stage de 8 semaines pour les masters généralistes (280h) et 4 mois minimum pour les master pros (600h) | D36: ='3-Maquette parcours'!P1 -> 0 | E36: Oui
A37: Total stage LP | B37: Sommes heures de stage ENS+ETU : validé à partir de 140h | C37: LP: 140h minimum (4 semaines) Vérification manuelle : 2 stages a minima sur le cursus : 1 de 4 semaines LP1, LP2 et 1 de 12 à 16 semaines pour les LP en 1 an. LP3 exclusivement en alternance. | D37: ='3-Maquette parcours'!P1 -> 0 | E37: N/A
A38: Heures soutien et remédiation | B38: Sommes heures tutorat (linguistique, méthodologique+positionnement+remédiation) | C38: Seul le calcul des heures tutorat (colonne T) est automatisé. A vérifier manuellement : Tutorat + ressources ou ECUE liées à soutien ou accompagnement dont UE tremplin | D38: ='3-Maquette parcours'!Q1 -> 10 | E38: Oui
A39: Total pédagogie diversifiée (pédagogie active) | B39: Somme heures hybridation+distanciel+projet (Enseignant et étudiant) | C39: 150h en pédagogie diversifiée (active) sur l'ensemble du cursus en UE socle. A vérifier manuellement : les commentaires sur les dispositifs de pédagogie active (onglet commentaire). | D39: ='3-Maquette parcours'!N1+'3-Maquette parcours'!AS1+'3-Maquette parcours'!AT1 -> 303 | E39: Oui
A40: Total projets tutorés (encadrés par enseignant) | B40: Sommes heures projets ENS+ETU | C40: LP : 150h à minima | D40: ='3-Maquette parcours'!K1+'3-Maquette parcours'!N1 -> 126 | E40: Oui
A41: Total heures en TP | B41: Somme des heures de TP | C41: Min 150h pour pouvoir bénéficier 100h supplémentaires hybrides dans les filières scientifiques (vérif manuelle : obtention du label hybridation) | D41: ='3-Maquette parcours'!J1 -> 191 | E41: Oui
A42: Des SAC sont proposées | B42: Validation manuelle (colonnes C et/ou U) | C42: Au moins 1 SAC/an à partir de 2025; 3 SAC en 2028 | D42: N/A | E42: N/A
A43: Compétences transversales présentes (Licence + Licence Pro) | B43: Toutes les compétences des colonnes X à AG doivent être cochées au moins une fois | C43: ='3-Maquette parcours'!AB4 -> Expression | D43: =IF('3-Maquette parcours'!AB1>0,"Présent","Absent") -> Présent | E43: Oui | F43: au moins 30h de TEDS au moins 6h de MTU en S1 en L NOTA : Compétences informationnelles correspond à Initiation à la recherche (documentaire) dans la lettre de cadrage
C44: ='3-Maquette parcours'!AC4 -> TEDS | D44: =SUMIF(NombreTEDS,"x",TotalECUE) -> 56 | E44: Oui
C45: ='3-Maquette parcours'!AD4 -> MTU | D45: =SUMIF(NombreMTU,"x",TotalECUE) -> 48 | E45: Oui
C46: ='3-Maquette parcours'!AG4 -> Numérique (PIX) | D46: =IF('3-Maquette parcours'!AG1>0,"Présent","Absent") -> Présent | E46: Oui
C47: ='3-Maquette parcours'!AE4 -> Compétences informationnelles | D47: =IF('3-Maquette parcours'!AE1>0,"Présent","Absent") -> Présent | E47: Non
C48: ='3-Maquette parcours'!AF4 -> VSSH | D48: =IF('3-Maquette parcours'!AF1>0,"Présent","Absent") -> Présent | E48: Non
A49: Compétences transversales présentes (Licence + LP + Master) | C49: ='3-Maquette parcours'!AG4 -> Numérique (PIX) | D49: =IF('3-Maquette parcours'!AG1>0,"Présent","Absent") -> Présent | E49: Oui
...
