Workbook
Name BCC: '2-Référentiel UHA'!$A$3:$B$375
Name CommunMention: '5-Maquette'!$I$5:$I$1048576
Name ECTS: '5-Maquette'!$Y$2:$Y$1048576
Name NombreCollab: '5-Maquette'!$AO$5:$AO$1048576
Name NombreExpression: '5-Maquette'!$AD$5:$AD$1048576
Name NombreInformationnelle: '5-Maquette'!$AJ$5:$AJ$1048576
Name NombreInternationale: '5-Maquette'!$AH$5:$AH$1048576
Name NombreInternationaleM: '5-Maquette'!$AL$5:$AL$1048576
Name NombreMTU: '5-Maquette'!$AF$5:$AF$1048576
Name NombreNumerique: '5-Maquette'!$AI$5:$AI$1048576
Name NombreProfessionnelle: '5-Maquette'!$AG$5:$AG$1048576
Name NombreProfessionnelleM: '5-Maquette'!$AM$5:$AM$1048576
Name NombreRechercheM: '5-Maquette'!$AN$5:$AN$1048576
Name NombreSAC: '5-Maquette'!#REF!
Name NombreTEDS: '5-Maquette'!$AE$5:$AE$1048576
Name NombreVSS: '5-Maquette'!$AK$5:$AK$1048576
Name Ressources: '4-Corres. Compétences-Ressource'!$E$3:$BN$3
Name TotalCI: '5-Maquette'!$K$5:$K$1048576
Name TotalCM: '5-Maquette'!$L$5:$L$1048576
Name TotalDistanciel: '5-Maquette'!$AQ$5:$AQ$1048576
Name TotalECUE: '[1]3-Maquette parcours'!$M$5:$M$1048576
Name TotalHeuresEns: '5-Maquette'!$Q$5:$Q$1048576
Name TotalHybride: '5-Maquette'!$AR$5:$AR$1048576
Name TotalMaquette: '5-Maquette'!#REF!
Name TotalProjet: '5-Maquette'!#REF!
Name TotalProjetAutonomie: '5-Maquette'!$S$5:$S$1048576
Name TotalProjetEncadrement: '5-Maquette'!$O$5:$O$1048576,'5-Maquette'!$O$2,'5-Maquette'!$H$2
Name TotalStage: '5-Maquette'!$U$5:$U$1048576
Name TotalTD: '5-Maquette'!$M$5:$M$1048576
Name TotalTP: '5-Maquette'!$N$5:$N$1048576
Name TotalTutorat: '5-Maquette'!$V$5:$V$1048576
Name TypologiePrincipale: '5-Maquette'!$J$5:$J$1048576
Name VolumeHoraire: '5-Maquette'!$Q$2:$Q$1048576

Sheet 1-FAQ & Lexique
A1: Ce document contient 8 onglets - Faire défiler en bas de la fenêtre Excel
A2: Lexique et Information : Préambule
A3: Ce classeur Excel contient tous les éléments permettant : - d'harmoniser les maquettes en fonction de la note de cadrage UHA - d'organiser les curriculum en conformité avec l'APC ET avec les nouvelles modalités pédagogiques introduites par la loi ORE (modularité, personnalisation des parcours). Il comporte 8 onglets 1. Lexique et information : Cet onglet de présentation déroule un mode d'emploi succinct de la trame de maquette (partie 1). Il explique également la terminologie et les abréviations utilisées dans la maquette (parties 2 et 3) 2. Référentiel UHA : votre référentiel. Les données saisies dans cet onglet sont réutilisées dans les autres onglets. 3. Correspondance BC RNCP/ BC UHA : tableau de correspondance qui permet de respecter l'obligation réglementaire de mettre en adéquation les blocs de compétences du Référentiel de Formation avec les blocs de compétences du RNCP -> à renseigner dès le début de la démarche 4. Corres. Compétences - Ressources et SAC : permet de saisir les ressources et SAC et de les associer aux blocs de compétences et apprentissages critiques. Les compétences sont reportées automatiquement depuis l'onglet 2. 5. Maquette Licence Parcours x : le format de maquette adapté aux Formations déjà avancées sur l'APC qui facilite le regroupement des UE par Bloc de Compétence et son supplément facilitant la mise en correspondance opérationnelle des compétences visées et des enseignements au service du développement de ces compétences. -> à renseigner dès la rentrée 2025 jusqu'en 2028 6. Réorientation : décrire les dispositifs de réorientation envisagés 7. Commentaires : si besoin, vous pouvez expliquer vos choix dans cet onglet. 8. Indicateurs : comporte les indications de la mention et du parcours ainsi que les indicateurs de suivi à fournir obligatoirement en Licence, Licence Pro, Master pour attester de la conformité de l'offre UHA aux exigences réglementaires et stratégiques de l'Etablissement.
A5: 1. Comment renseigner la trame de maquette UHA.
A7: 1.1 Quelle maquette utiliser : maquette APC niveau 1 ou niveau 2 ?
A8: Si vous n'avez pas encore établi votre référentiel de formation ou si vous avez reformulé légèrement la liste de compétences RNCP, privilégiez la maquette APC niveau 1
A9: Si vous avez travaillé sur un référentiel de formation (accompagné par le collectif de soutien APC), vous pouvez opter pour la maquette APC niveau 2 (ce fichier excel)
A11: 1.2 Quels sont les éléments obligatoires à remplir dans la maquette?
A12: La plupart des éléments sont obligatoires. Certains ne sont à renseigner que s'ils sont adaptés. Exemple : un cursus ne dispose pas forcément d'enseignements mutualisés. La colonne "Mutualisation" n'est donc à renseigner que si elle correspond à la réalité de votre cursus. !! Des indications complémentaires sont données en entête de colonne sur la façon de les renseigner. Le passage aux BCC se fera en lien avec les fiches RNCP et avec 3 niveaux de déploiement : - phase 1 : organiser la maquette en BCC et en UE ; (2024) - phase 2 : développer au sein d’au moins un BCC des stratégies pédagogiques alignant les objectifs (dès 2025) (définis en phase 1), les activités et les évaluations. Il s’agit ici notamment de la mise en place de séquences d’apprentissage mobilisant les compétences du BCC, et l’évaluation inhérente ; - phase 3 : généraliser la phase 2 à tous les BCC d’une même formation.", UHA, Note de cadrage, mai 2023, p. 5
A14: 1.3 Comment et pourquoi utiliser l'onglet 3 - Correspondance RNCP / Référentiel
A15: 1. Vous avez établi un référentiel de compétences propre à votre Formation --> utilisez le tableau Correspondance BC RNCP - BC UHA (onglet 6) pour établir les correspondances entre les blocs de compétence de votre référentiel et ceux de la fiche RNCP de la mention nationale.
A16: 2. Vous n'avez pas de référentiel de compétences spécifique --> copiez-coller les éléments de référentiel de la fiche RNCP de la Mention nationale.
... A20: Les volumes horaires de la maquette sont les volumes de face à face pédagogique suivis par les étudiants. Ils sont calculés automatiquement uniquement sur la base des heures d'enseignement et de suivi pédagogique. Vous pouvez choisir d'inclure ou non les heures d'évaluation dans les heures maquette. Attention, pour que les temps d'évaluation soient pris en compte dans les 1500h réglementaires, ils doivent être saisis dans les heures CM, TD, TP. Les temps de travail étudiant indiqués pour les stages et projets ne sont pas décomptés dans le calcul de la maquette. Si la formation a recours à un service (Learning Center et SIO...) pour animer certaines séquences d'enseignement, ces heures figurent dans la maquette de la Formation. Les heures d'hybridation ou de distanciel sont intégrées dans les heures d'enseignement de la section. Au sein du volume horaire global d'une UE, on précisera par ailleurs la répartition de volumes horaires entre différentes d'apprentissage(Présentiel/Distanciel/Hybride). Cette distinction permettra notamment de justifier du volume horaire supplémentaire accordé à certaines mentions sous réserve qu'elles aient recours à l'hybridation. En cas d'insertion de nouvelles lignes ou colonne au modèle, il se peut que les formules ne se mettent pas à jour. Veuillez vérifier que les références de formules sont bien mises à jour.
A22: Note de cadrage (volume horaire appuyé sur la réglementation) | B22: Licence
B23: Pas moins de 1500h d'enseignement ou d'encadrement en face à face (obligation réglementaire). Pas plus de 1500h sur 3 ans pour le standard sauf dispositions spécifiques aux UE Tremplin (<300h de soutien en plus) et/ou 100h hybridées de plus.
A24: Licence Pro | B24: Master
A25: 1450h sur 3 ans : Le volume horaire annuel ne devra pas dépasser 500h encadrées, 450h la dernière année. | B25: De 400h à 800h sur deux ans.
A26: 1.5 Comment attribuer les crédits ECTS aux UE?
A27: Les ECTS sont attribuées uniquement aux UE (pas aux ECUE). 1 UE se voit accorder 3 ECTS minimum. 1 ECTS correspond à 25-30 heures de travail pour l'étudiant, comprenant au plus 10 heures d'enseignement ou d’encadrement pédagogique de type suivi de projet en présentiel ou hybride.
A28: 1.6 Comment sont spécifiées les durées de stage ?
A29: Les durées de stage sont spécifiées dans la maquette en conformité avec les éléments ci-après.
A30: Stage obligatoire en L, M et LP | B30: Licence
B31: Pas de cadrage sur la durée, au choix de la Formation.
A32: Licence Pro | B32: Master
A33: 12 à 16 semaines en milieu professionnel (au moins 1/3 des crédits ECTS attribuables à des mises en situations professionnelles en UE ouvertes. Un stage d’au moins 4 semaines devra être mis en place dans les 2 premières années. un projet tutoré de 150 h. | B33: > ou = à 8 semaines. > ou = à 4 mois dans les filières professionnalisantes ;
A34: 1.6 Comment sont calculés les indicateurs?
A35: Les volumes horaires totaux et par catégorie d'UE sont calculés automatiquement dans les modèles de maquette. Les indicateurs de suivi complémentaires permettent d'attester de l'application des dispositions légales et de la note de cadrage seront calculés selon les formules de calcul spécifiées dans l'onglet Indicateurs.
A36: 2. Eléments de lexique
A38: 2.1 Lexique spécifique UHA - Approche par Compétences
A40: Alignement pédagogique : Mis au jour par John Biggs, ce concept mentionné dans la note de cadrage est au coeur de la démarche APC. Il s'agit de mettre en cohérence 1) les objectifs d’apprentissage d’un enseignement/d’une formation, 2) les méthodes et activités pédagogiques et 3) les méthodes d’évaluation des apprentissages des étudiants. Ainsi, si un des objectifs d'apprentissage d'un enseignement est de "Travailler en équipe dans un laboratoire", il sera adapté de mettre en place des activités de travaux pratiques en laboratoire et d'évaluer les étudiants en situation via une grille critériée sur la qualité de leur coopération.
A41: Apprentissage critique (Maquette APC Niveau 2) Dans un référentiel de compétences, un apprentissage critique explicite ce que l’étudiant doit effectivement maîtriser pour passer d’un niveau de développement à un autre de la compétence. L'apprentissage critique (Tardif) est similaire à la "microcompétence" (IDIP).
A42: Compétence (/ Macro-compétence) Une compétence consiste en la mobilisation de manière pertinente des ressources d’un individu pour exercer une activité en fonction d’objectifs à finalité professionnelle à atteindre. Le résultat de sa mise en œuvre est évaluable dans un contexte donné et transférable d’un contexte professionnel à un autre (inspiré du RNCP). Cette définition s'appuie sur celle de Tardif : "Une compétence est un "savoir-agir complexe, prenant appui sur la mobilisation et la combinaison efficaces d'une variété de ressources à l'intérieur d'une famille de situations" (Tardif, 2006)". A l'UHA, ce terme est exclusivement utilisé pour désigner une compétence générique (parfois désignée sous forme de macro-compétence) équivalent au titre d'un bloc de compétence du référentiel. Elle est subdivisée en apprentissages critiques qui précisent quant à eux les apprentissages essentiels à acquérir à chaque niveau de développement de cette compétence.
A43: Objectif d'apprentissage La formulation des objectifs d’apprentissage permet aux étudiants d'identifier ce qu'ils devraient savoir et savoir faire à l'issue d'une activité d'apprentissage. Par souci de cohérence, le choix des méthodes d’évaluations, des activités d’enseignement-apprentissage et l’organisation du contenu du cours découlent des objectifs d’apprentissage. NB : L'université de Lorraine a publié une fiche pratique très claire sur la construction d'un objectif d'apprentissage. Source : https://sup.univ-lorraine.fr/files/2020/07/FC_formuler_objectifs_apprentissage.pdf
A44: Situation d'Apprentissage Complexe & Evaluation
A45: "La mise en œuvre de « situations d’apprentissage complexe » sera à développer. De telles situations exigent de mettre en œuvre plusieurs compétences, transversales, disciplinaires et pluridisciplinaires, amenant les étudiants à mobiliser et intégrer de manière cohérente et simultanée des savoirs (connaissances), savoir-être (attitudes) et savoir-faire (capacités) multiples. A ce titre, il est recommandé que les compétences disciplinaires d’une ou plusieurs UE puissent être développées via un enseignement en langue étrangère.", Note de cadrage UHA, mai 2023. EUne situation d'apprentissage complexe ne se solde pas obligatoirement par une évaluation. Elle peut toutefois être complétée d'une évaluation par exemple sous forme de grille critériée (notamment dans les maquettes APC de niveau 2) pour évaluer une ou plusieurs compétences en situation.
A48: 2.2 Lexique spécifique UHA - Référentiel de formation / Modularité et aménagement du parcours de formation
A50: Catégories d'UE. Les catégories d'UE sont au coeur du référentiel de formation, visant à définir l'organisation du parcours de formation. Afin d'impulser une plus grande modularité des activités d'apprentissage et une variété des types de compétences visées par ses diplômes, l'UHA, suivant les recommandations du rapport HCERES, a structuré 4 catégories d'UE contribuant au développement de compétences transversales obligatoires ou mise en avant dans la stratégie de formation de l'UHA + 1UE optionnelle. Ces catégories vient à faciliter les regroupement transdisciplinaires et à suivre la répartition des volumes horaires en fonction des types de compétences auxquelles contribuent les UE.
... A62: Compétences transversales
A63: Dénomination UHA | B63: Arrêté 01/2020 | C63: Licence/Licence Pro/Master
A64: Professionnelle | B64: Pré-professionnelle et professionnelle
...

Sheet 2-Référentiel UHA
A1: Référentiel de Formation UHA
A2: BCC Court | B2: BCC Détaillé | C2: Niveau | D2: Apprentissage critique (AC)
A3: Analyser | B3: BCC1 Analyser un problème d'ingénierie et identifier les outils avancés du contrôle-commande et du traitement de l'information permettant d'apporter une réponse appropriée | C3: 1 | D3: AC11-1 Comprendre et analyser un problème d'ingénierie avec les outils spécialisés du contrôle-commande et du traitement de l'information-
D4: AC11-2 S'approprier la technologie embarquée relative aux solutions logicielles et matérielles d'un système complexe dans les domaines du contrôle-commande et du traitement de l'information
C5: 2 | D5: AC12-1 Identifier et analyser, avec un esprit critique,  les outils hautement spécialisés du contrôle-commande et du traitement de l'information pour un problème d'ingénierie
D6: AC12-2 Mobiliser la technologie embarquée relative aux solutions logicielles et matérielles d'un système intelligent dans les domaines du contrôle-commande et du traitement de l'information
A7: Concevoir | B7: BCC2 Répondre à une problématique industrielle et de recherche à partir d'un usage judicieux des outils avancés du contrôle-commande et du traitement de l'information | C7: 1 | D7: AC21-1 Mobiliser des savoirs fondamentaux en contrôle-commande et traitement de l'information dans la perspective de répondre à des problématiques industrielles ou de recherche
D8: AC21-2 Mettre en oeuvre la technologie embarquée pour concevoir une solution logicielle et matérielle d'un système complexe dans les domaines du contrôle-commande et du traitement de l'information
C9: 2 | D9: AC22-1 Mobiliser des savoirs experts en contrôle-commande et traitement de l'information pour répondre à des problématiques complexes industrielles ou de recherche
D10: AC22-2 Concevoir une solution logicielle et matérielle d'un système intelligent dans les domaines du contrôle-commande et du traitement de l'information
A11: Réaliser | B11: BCC3 Faire appel aux méthodes avancées du contrôle-commande et du traitement de l'information pour intégrer une solution dans un système complexe | C11: 1 | D11: AC31-1 Mettre en oeuvre une solution de contrôle-commande et/ou de traitement du signal pour répondre à des problématiques industrielles ou de recherche
D12: AC31-2 Développer des algorithmes d'un niveau avancé pour répondre à des problématiques industrielles ou de recherche
C13: 2 | D13: AC32-1 Proposer un algorithme évolué de contrôle-commande ou de traitement de l'information validé en simulation à partir des modèles numériques
D14: AC32-2 Intégrer des systèmes électroniques et informatiques complexes incluant le traitement et l’analyse de données issues de systèmes connectés
A15: Déployer | B15: BCC4 Etre en mesure d'intégrer une solution du contrôle-commande et du traitement de l'information dans un projet global compte tenu des aspects sociétaux (économique, social) et environnementaux | C15: 1 | D15: AC41-1 Mener à bien un projet pluridisciplinaire (analyser, concevoir et réaliser) en équipe (principes de la gestion des projets)
D16: AC41-2 Mobiliser les prinicpes de base pour la communication scientifique (oral, écrit)
C17: 2 | D17: AC42-1 Conduire un projet interdisciplinaire de recherche et développement (analyser, concevoir et réaliser) dans un cadre collaboratif dans une démarche DDRS
D18: AC42-2 Documenter la solution développée en respectant les normes de communications scientifiques (oral, écrit)

Sheet 3-Correspondance BC RNCP-BC UHA
B1: !! Comment renseigner ce tableau? Cas 1. Si vous n'avez pas de référentiel, renseignez uniquement la colonne obligatoire ci-dessous (B) et inscrire des x en face de chaque compétence dans la colonne C Cas 2. Si vous avez reformulé les titres de blocs du référentiel national, spécifiez dans les colonnes de droite (à partir de C2) les titres de vos BC Formation UHA (obligatoire). Cas 3. Si vous avez votre propre référentiel de compétences, renseignez également la colonne des apprentissages critiques AC à partir de la cellule C3. Inscrivez ensuite une x chaque fois qu'un AC correspondra à une Compétence C des blocs RNCP (voir exemples). | C1: Ne pas modifier les BCC et AC dans cet onglet. Ils sont insérés à l'aide d'une formule. Voir onglet "Référentiel UHA". Les AC insérés sont ceux de plus haut niveau (en général, niveau 3)
B2: France Compétences | C2: ='2-Référentiel UHA'!B3 -> BCC1 Analyser un problème d'ingénierie et identifier les outils avancés du contrôle-commande et du traitement de l'information permettant d'apporter une réponse appropriée | G2: ='2-Référentiel UHA'!B7 -> BCC2 Répondre à une problématique industrielle et de recherche à partir d'un usage judicieux des outils avancés du contrôle-commande et du traitement de l'information | K2: ='2-Référentiel UHA'!B11 -> BCC3 Faire appel aux méthodes avancées du contrôle-commande et du traitement de l'information pour intégrer une solution dans un système complexe | O2: ='2-Référentiel UHA'!B15 -> BCC4 Etre en mesure d'intégrer une solution du contrôle-commande et du traitement de l'information dans un projet global compte tenu des aspects sociétaux (économique, social) et environnementaux
B3: Copier-coller les éléments de la fiche RNCP ci-dessous. | C3: {=INDIRECT("'2-Référentiel UHA'!D"&COLUMN(C3))} -> AC11-1 Comprendre et analyser un problème d'ingénierie avec les outils spécialisés du contrôle-commande et du traitement de l'information- | D3: {=INDIRECT("'2-Référentiel UHA'!D"&COLUMN(D3))} -> AC11-2 S'approprier la technologie embarquée relative aux solutions logicielles et matérielles d'un système complexe dans les domaines du contrôle-commande et du traitement de l'information | E3: {=INDIRECT("'2-Référentiel UHA'!D"&COLUMN(E3))} -> AC12-1 Identifier et analyser, avec un esprit critique,  les outils hautement spécialisés du contrôle-commande et du traitement de l'information pour un problème d'ingénierie | F3: {=INDIRECT("'2-Référentiel UHA'!D"&COLUMN(F3))} -> AC12-2 Mobiliser la technologie embarquée relative aux solutions logicielles et matérielles d'un système intelligent dans les domaines du contrôle-commande et du traitement de l'information | G3: {=INDIRECT("'2-Référentiel UHA'!D"&COLUMN(G3))} -> AC21-1 Mobiliser des savoirs fondamentaux en contrôle-commande et traitement de l'information dans la perspective de répondre à des problématiques industrielles ou de recherche | H3: {=INDIRECT("'2-Référentiel UHA'!D"&COLUMN(H3))} -> AC21-2 Mettre en oeuvre la technologie embarquée pour concevoir une solution logicielle et matérielle d'un système complexe dans les domaines du contrôle-commande et du traitement de l'information | I3: {=INDIRECT("'2-Référentiel UHA'!D"&COLUMN(I3))} -> AC22-1 Mobiliser des savoirs experts en contrôle-commande et traitement de l'information pour répondre à des problématiques complexes industrielles ou de recherche | J3: {=INDIRECT("'2-Référentiel UHA'!D"&COLUMN(J3))} -> AC22-2 Concevoir une solution logicielle et matérielle d'un système intelligent dans les domaines du contrôle-commande et du traitement de l'information | ... R3: {=INDIRECT("'2-Référentiel UHA'!D"&COLUMN(R3))} -> AC42-2 Documenter la solution développée en respectant les normes de communications scientifiques (oral, écrit)
A4: RNCP34117 | B4: Compétences de la fiche qui ne sont pas dans un bloc
B5: Mettre en œuvre une démarche expérimentale : utiliser les appareils et les techniques de mesure les plus courants ; identifier les sources d’erreur ; analyser des données expérimentales et envisager leur modélisation ; valider un modèle par comparaison de ses prévisions aux résultats expérimentaux, | C5: x | D5: x | E5: x | F5: x
B6: Développer des logiciels d’acquisition et d’analyse de données | D6: x | F6: x | H6: x | J6: x
B7: Analyser des problèmes dans le champ de l'électronique, de l’énergie électrique et de l'automatique à l’aide d’outils mathématiques et statistiques | C7: x | D7: x
B8: Concevoir des programmes informatiques dans le champ de l'électronique, de l’énergie électrique et de l'automatique et utiliser divers langages | L8: x | N8: x
B9: Intégrer des systèmes électroniques et informatiques complexes incluant le traitement et l’analyse de données issues de systèmes connectés | K9: x | M9: x
B10: Développer des logiciels d’acquisition et d’analyse de données | F10: x | L10: x | N10: x
B11: Concevoir des systèmes dans le champ de l'électronique, de l’énergie électrique et de l'automatique tenant compte de problématiques environnementales, notamment la maîtrise de l’énergie | G11: x | J11: x
B12: Analyser un problème dans le domaine des systèmes embarqués, pour en concevoir les parties logicielles et matérielles | D12: x | F12: x
B13: Concevoir des systèmes matériels et logiciels en utilisant les technologies standards (micro contrôleurs ou DSP) et les technologies intégrées de l’électronique et de la microélectronique (ASIC ou FPGA) | H13: x | J13: x | K13: x | M13: x
A14: RNCP34117BC01 | B14: BC1 - Usages avancés et spécialisés des outils numériques
B15: C 1.1 Identifier les usages numériques et les impacts de leur évolution sur le ou les domaines concernés par la mention | C15: x | E15: x
B16: C 1.2 Se servir de façon autonome des outils numériques avancés pour un ou plusieurs métiers ou secteurs de recherche du domaine | C16: x | E16: x | G16: x | H16: x
A17: RNCP34117BC02 | B17: BC2 - Développement et intégration de savoirs hautement spécialisés
B18: C 2.1 - Mobiliser des savoirs hautement spécialisés, dont certains sont à l’avant-garde du savoir dans un domaine de travail ou d’études, comme base d’une pensée originale | E18: x | F18: x | I18: x | J18: x | L18: x | M18: x | N18: x | O18: x | R18: x
B19: C 2.2 - Développer une conscience critique des savoirs dans un domaine et/ou à l’interface de plusieurs domaines | D19: x | F19: x | P19: x | Q19: x
B20: C 2.3 - Résoudre des problèmes pour développer de nouveaux savoirs et de nouvelles procédures et intégrer les savoirs de différents domaines | H20: x | I20: x
B21: C 2.4 - Apporter des contributions novatrices dans le cadre d’échanges de haut niveau, et dans des contextes internationaux | G21: x | I21: x | N21: x | O21: x | Q21: x
B22: C 2.5 Conduire une analyse réflexive et distanciée prenant en compte les enjeux, les problématiques et la complexité d’une demande ou d’une situation afin de proposer des solutions adaptées et/ou innovantes en respect des évolutions de la réglementation | D22: x | E22: x | H22: x | J22: x
A23: RNCP34117BC03 | B23: BC3 - Communication spécialisée pour le transfert de connaissances
B24: C 3.1 - Identifier, sélectionner et analyser avec esprit critique diverses ressources spécialisées pour documenter un sujet et synthétiser ces données en vue de leur exploitation | O24: x | P24: x | R24: x
B25: C 3.2 Communiquer à des fins de formation ou de transfert de connaissances, par oral et par écrit, en français et dans au moins une langue étrangère | O25: x | Q25: x | R25: x
A26: RNCP34117BC04 | B26: BC4 - Appui à la transformation en contexte professionnel
B27: C 4.1 Gérer des contextes professionnels ou d’études complexes, imprévisibles et qui nécessitent des approches stratégiques nouvelles | G27: x | I27: x | P27: x | R27: x
B28: C 4.2 Prendre des responsabilités pour contribuer aux savoirs et aux pratiques professionnelles et/ou pour réviser la performance stratégique d'une équipe | O28: x | P28: x | Q28: x
B29: C 4.3 Conduire un projet (conception, pilotage, coordination d’équipe, mise en œuvre et gestion, évaluation, diffusion) pouvant mobiliser des compétences pluridisciplinaires dans un cadre collaboratif | E29: x | F29: x | I29: x | J29: x | M29: x | N29: x | P29: x | R29: x
B30: C 4.4 Analyser ses actions en situation professionnelle, s’autoévaluer pour améliorer sa pratique dans le cadre d'une démarche qualité | O30: x | Q30: x
B31: C 4.5 Respecter les principes d’éthique, de déontologie et de responsabilité environnementale | O31: x | Q31: x

Sheet 4-Corres. Compétences-Ressource
A1: Correspondance Compétences - Ressources et SAC | F1: Ressources et SAC (saisir les noms des ressources ici, elles seront reportées dans l'onglet 5-maquette. Si vous modifiez un nom de ressource, il faudra la resélectionner dans la maquette)
A3: Ne pas modifier les BCC et AC dans cet onglet. Ils sont insérés à l'aide d'une formule. Voir onglet "Référentiel UHA" | E3: Sélectionner … | F3: S1 Code Systèmes asservis continus | G3: S1 Code Systèmes asservis numériques | H3: S1 Code Systèmes à évènements discrets et automatisme | I3: S1 Code Analyse et traitement du signal à temps continu | J3: S1 Code Analyse et traitement du signal à temps échantillonné et filtrage | K3: S1 Code Programmation objet avec UML et C++ | L3: S1 Code Techniques d'optimisation | M3: S1 Code Adressage, protocoles et sécurité des réseaux | N3: S1 Code Microprocesseurs hautes performences | O3: S1 Code Langue au choix (Anglais ou Allemand) | P3: S1 Code Anglais S1 | Q3: S1 Code Allemand S1 | R3: S1 Code Module SIO 4 : Connaitre ses possibilités de poursuite d'études | S3: S1 Code Module LC 1 : Découvrir le LC | T3: S1 Code Module LC 6 : Bonnes pratiques de l'IA | U3: S1 Code SAC : Robotique mobile 1 Analyser et concevoir | V3: S1 Code SAC : Robotique mobile 2 Réaliser et déployer | W3: S2 Code Commande dans l'espace d'état | X3: S2 Code Filtrage numérique | Y3: S2 Code Traitement d'images numériques | Z3: S2 Code Microprocesseur et techniques de virtualisation | AA3: S2 Code Communication entre systèmes | AB3: S2 Code Système d'exploitation et interface de programmation des applications | AC3: S2 Code Programmation multitâche | AD3: S2 Code Communications entre processus locaux et distants | AE3: S2 Code Langue au choix (Anglais ou Allemand) | AF3: S2 Code Anglais S2 | AG3: S2 Code Allemand S2 | AH3: S2 Code Un Cours optionnel | AI3: S2 Code Opt. Introduction à l'apprentissage profond | AJ3: S2 Code Opt. Machines de vision pour l'industrie et robotique manufacturière | AK3: S2 Code Module LC 4 : Rédiger une bibliographie | AL3: S2 Code Module SIO 11 : S'initier à l’entrepreneuriat | AM3: S2 Code SAC : Solutions de contrôle-commande pour de systèmes dynamiques | AN3: S2 Code SAC : projet | AO3: S3 S3 Code Commande avancée 1 | AP3: S3 Code Commande avancée 2 | AQ3: S3 Code Commande optimale | AR3: S3 Code Machine Learning | AS3: S3 Code Filtrage optimal | AT3: S3 Code Fusion de données | AU3: S3 Code Capteurs et instrumentation | AV3: S3 Code Systèmes embarqués | AW3: S3 Code Objets connectés | AX3: S3 Code Cours Cyber-sécurité/IA | AY3: S3 Code Trois Cours optionnels | AZ3: S3 Code Opt. Traitement du Signal et applications innovantes | BA3: S3 Code Opt. Véhicules Autonomes Intelligents | BB3: S3 Code Opt. Image avancée et ses applications | BC3: S3 Code Opt. Conception de systèmes numériques FPGA | BD3: S3 Code Opt. Génie Logiciel | BE3: S3 Code Opt. Systèmes intelligents et énergie | BF3: S3 Code initiation à la recherche | BG3: S3 Code Langue au choix (Anglais ou Allemand) | BH3: S3 Code Anglais S3 | BI3: S3 Code Allemand S3 | BJ3: S3 Code Module SIO 7 (niv. 2) : Améliorer son CV et sa lettre de motivation | BK3: S3 Code Module SIO 8 : Se préparer à l’entretien de sélection | BL3: S3 Code SAC : Analyser et concevoir | BM3: S3 Code SAC : Réaliser et déployer | BN3: S4 Code SAC : Stage de fin d'études
A4: Compétences | B4: BCC | C4: Niveau | D4: Apprentissage critique (AC)
B5: ='2-Référentiel UHA'!B3 -> BCC1 Analyser un problème d'ingénierie et identifier les outils avancés du contrôle-commande et du traitement de l'information permettant d'apporter une réponse appropriée | C5: 1 | D5: ='2-Référentiel UHA'!D3 -> AC11-1 Comprendre et analyser un problème d'ingénierie avec les outils spécialisés du contrôle-commande et du traitement de l'information- | F5: x | G5: x | H5: x | I5: x | J5: x | L5: x | U5: x | W5: x | X5: x | Y5: x | AH5: x | AJ5: x | AM5: x
D6: ='2-Référentiel UHA'!D4 -> AC11-2 S'approprier la technologie embarquée relative aux solutions logicielles et matérielles d'un système complexe dans les domaines du contrôle-commande et du traitement de l'information | K6: x | L6: x | M6: x | N6: x | U6: x | Z6: x | AA6: x | AB6: x | AC6: x | AD6: x | AH6: x | AI6: x
C7: 2 | D7: ='2-Référentiel UHA'!D5 -> AC12-1 Identifier et analyser, avec un esprit critique,  les outils hautement spécialisés du contrôle-commande et du traitement de l'information pour un problème d'ingénierie | AO7: x | AP7: x | AQ7: x | AR7: x | AS7: x | AT7: x | AU7: x | AY7: x | AZ7: x | BA7: x | BB7: x | BE7: x | BF7: x | BL7: x | BN7: x
D8: ='2-Référentiel UHA'!D6 -> AC12-2 Mobiliser la technologie embarquée relative aux solutions logicielles et matérielles d'un système intelligent dans les domaines du contrôle-commande et du traitement de l'information | AR8: x | AV8: x | AW8: x | AX8: x | AY8: x | BC8: x | BD8: x | BE8: x | BL8: x | BN8: x
B9: ='2-Référentiel UHA'!B7 -> BCC2 Répondre à une problématique industrielle et de recherche à partir d'un usage judicieux des outils avancés du contrôle-commande et du traitement de l'information | C9: 1 | D9: ='2-Référentiel UHA'!D7 -> AC21-1 Mobiliser des savoirs fondamentaux en contrôle-commande et traitement de l'information dans la perspective de répondre à des problématiques industrielles ou de recherche | F9: x | G9: x | H9: x | I9: x | J9: x | L9: x | U9: x | W9: x | X9: x | Y9: x | AH9: x | AJ9: x | AM9: x
D10: ='2-Référentiel UHA'!D8 -> AC21-2 Mettre en oeuvre la technologie embarquée pour concevoir une solution logicielle et matérielle d'un système complexe dans les domaines du contrôle-commande et du traitement de l'information | K10: x | L10: x | M10: x | N10: x | U10: x | Z10: x | AA10: x | AB10: x | AC10: x | AD10: x | AH10: x | AI10: x
C11: 2 | D11: ='2-Référentiel UHA'!D9 -> AC22-1 Mobiliser des savoirs experts en contrôle-commande et traitement de l'information pour répondre à des problématiques complexes industrielles ou de recherche | AO11: x | AP11: x | AQ11: x | AR11: x | AS11: x | AT11: x | AU11: x | AY11: x | AZ11: x | BA11: x | BB11: x | BE11: x | BF11: x | BL11: x | BN11: x
D12: ='2-Référentiel UHA'!D10 -> AC22-2 Concevoir une solution logicielle et matérielle d'un système intelligent dans les domaines du contrôle-commande et du traitement de l'information | AR12: x | AV12: x | AW12: x | AX12: x | AY12: x | BC12: x | BD12: x | BE12: x | BL12: x | BN12: x
B13: ='2-Référentiel UHA'!B11 -> BCC3 Faire appel aux méthodes avancées du contrôle-commande et du traitement de l'information pour intégrer une solution dans un système complexe | C13: 1 | D13: ='2-Référentiel UHA'!D11 -> AC31-1 Mettre en oeuvre une solution de contrôle-commande et/ou de traitement du signal pour répondre à des problématiques industrielles ou de recherche | F13: x | G13: x | H13: x | I13: x | J13: x | L13: x | V13: x | W13: x | X13: x | Y13: x | AH13: x | AJ13: x | AM13: x | AN13: x
D14: ='2-Référentiel UHA'!D12 -> AC31-2 Développer des algorithmes d'un niveau avancé pour répondre à des problématiques industrielles ou de recherche | K14: x | L14: x | M14: x | N14: x | V14: x | Z14: x | AA14: x | AB14: x | AC14: x | AD14: x | AH14: x | AI14: x | AN14: x
C15: 2 | D15: ='2-Référentiel UHA'!D13 -> AC32-1 Proposer un algorithme évolué de contrôle-commande ou de traitement de l'information validé en simulation à partir des modèles numériques | AO15: x | AP15: x | AQ15: x | AR15: x | AS15: x | AT15: x | AU15: x | AY15: x | AZ15: x | BA15: x | BB15: x | BE15: x | BM15: x | BN15: x
D16: ='2-Référentiel UHA'!D14 -> AC32-2 Intégrer des systèmes électroniques et informatiques complexes incluant le traitement et l’analyse de données issues de systèmes connectés | AR16: x | AV16: x | AW16: x | AX16: x | AY16: x | BC16: x | BD16: x | BE16: x | BM16: x | BN16: x
B17: ='2-Référentiel UHA'!B15 -> BCC4 Etre en mesure d'intégrer une solution du contrôle-commande et du traitement de l'information dans un projet global compte tenu des aspects sociétaux (économique, social) et environnementaux | C17: 1 | D17: ='2-Référentiel UHA'!D15 -> AC41-1 Mener à bien un projet pluridisciplinaire (analyser, concevoir et réaliser) en équipe (principes de la gestion des projets) | R17: x | S17: x | T17: x | U17: x | V17: x | AL17: x | AN17: x
D18: ='2-Référentiel UHA'!D16 -> AC41-2 Mobiliser les prinicpes de base pour la communication scientifique (oral, écrit) | O18: x | P18: x | Q18: x | R18: x | U18: x | V18: x | AE18: x | AF18: x | AG18: x | AK18: x | AL18: x | AM18: x | AN18: x
C19: 2 | D19: ='2-Référentiel UHA'!D17 -> AC42-1 Conduire un projet interdisciplinaire de recherche et développement (analyser, concevoir et réaliser) dans un cadre collaboratif dans une démarche DDRS | BL19: x | BM19: x | BN19: x
D20: ='2-Référentiel UHA'!D18 -> AC42-2 Documenter la solution développée en respectant les normes de communications scientifiques (oral, écrit) | BF20: x | BG20: x | BH20: x | BI20: x | BJ20: x | BK20: x | BL20: x | BM20: x | BN20: x

Sheet 5-Maquette
I1: =COUNTIF(CommunMention,"Oui") -> 139 | J1: Totaux : | K1: =SUM(TotalCI) -> 0 | L1: =SUM(TotalCM) -> 398 | M1: =SUM(TotalTD) -> 145 | N1: =SUM(TotalTP) -> 265 | O1: =SUM(TotalProjetEncadrement) -> 0 | R1: =SUM(VolumeHoraire) -> 780 | S1: =SUM(TotalProjetAutonomie) -> 328 | U1: =SUM(TotalStage) -> 910 | V1: =SUM(TotalTutorat) -> 0 | Y1: =SUM(ECTS) -> 120 | AD1: =COUNTIF(NombreExpression,"x") -> 0 | AE1: =COUNTIF(NombreTEDS,"x") -> 0 | AF1: =COUNTIF(NombreMTU,"x") -> 0 | AG1: =COUNTIF(NombreProfessionnelle,"x") -> 0 | AH1: =COUNTIF(NombreInternationale,"x") -> 0 | AI1: =COUNTIF(NombreNumerique,"x") -> 0 | AJ1: =COUNTIF(NombreInformationnelle,"x") -> 0 | AK1: =COUNTIF(NombreVSS,"x") -> 0 | AL1: =COUNTIF(NombreInternationaleM,"x") -> 10 | AM1: {=COUNTIF(NombreProfessionnelleM,"x")} -> 8 | AN1: =COUNTIF(NombreRechercheM,"x") -> 8 | AO1: =COUNTIF(NombreCollab,"x") -> 13 | AQ1: =SUM(TotalDistanciel) -> 0 | AR1: =SUM(TotalDistanciel) -> 0
C2: 1 Bloc de compétences = 1 ou plusieurs UE (cf Lexique) Intitulé UE sous forme de compétence = Titre du bloc de compétence. Idéalement, on regroupe tous les enseignements au service du développement d'une compétence (BC) en une UE cohérente, l'objectif étant que ces enseignements puissent être regroupés pour faciliter la certification autonome de chaque bloc de compétence associé. | H2: Ressources et SAC (Volumes horaires inclus dans les 1500h réglementaires) | S2: Volumes horaires hors 1500h réglementaires | W2: Modalités d'évaluation Indiquer ici le mode d'évaluation de la formation -> | AB2: Contrôle Continu Intégral | AD2: Compétences transversales licence | AL2: Compétences transversales master | AP2: Modalités pédagogiques
S3: Projet | T3: Stage | V3: Tutorat | W3: Coefficient | X3: Coeff UE (idem ECTS en L, 1 à 2 en LP) | Y3: ECTS (1 ECTS =10h ENS 25h travail étudiant Licence =180 ECTS 30 ECTS par semestre) | Z3: MCC (par ressource, SAE ou UE) (Ex de libellé : écrit, oral, soutenance, portfolio, SAC, certification en ligne, …) | AC3: Total heures évaluation (par UE ou ressources ou SAE) | AD3: (cocher les compétences transversales mobilisées dans les UE. Plusieurs compétences possibles quelque soit la typologie d'UE) | AL3: (cocher les compétences transversales mobilisées dans les UE. Plusieurs compétences possibles quelque soit la typologie d'UE) | AP3: Format d'enseignement Par défaut, tout présentiel. Vol. horaire d'enseignement uniquement (cf colonne P) | AS3: Mutualisation ou Délégation (saisir le partenaire)
C4: Code UE | D4: Nom de l'UE (Voir le commentaire) | E4: BCC Court | F4: BCC détaillé (Saisir uniquement le BCC court, le BCC détaillé sera ajouté automatiquement) | G4: Niveau | H4: Intitulé | I4: Commun Mention | J4: Typologie principale | K4: CI | L4: CM | M4: TD | N4: TP | O4: Projet (encadrement) | P4: Dont évaluation incluse | Q4: Total Volume horaire enseignant | R4: Total UE | S4: Nb heures autonomie étudiant | T4: Heures d'encadrement ENSEIGNANTS | U4: Durée stage en heures | V4: Nb total d'heures de tutorat allouées | Z4: Libellé du type de contrôle (Contrôle continu, soutenance, portfolio...) | AA4: Libellé du type de contrôle pour étudiants dispensés d'assuidité (si contrôle continue) | AB4: Libellé du type de contrôle en seconde session le cas échéant | AD4: Expression | AE4: TEDS | AF4: MTU | AG4: Professionnelle | AH4: Internationale | AI4: Numérique (PIX) | AJ4: Compétences informationnelles | AK4: VSSH | AL4: Internationale | AM4: Professionnelle | AN4: Initiation recherche | AO4: Projet collaboratif | AP4: Heures Présentiel | AQ4: Heures distanciel | AR4: Heures hybride | AS4: Enseignements mutualisés avec d'autres Formation ou délégués à un service interne (SIO, LC) ou externe (associations...)
B5: Semestre 1 | C5: UE01 | E5: Analyser | F5: =VLOOKUP(E5,BCC,2,FALSE()) -> BCC1 Analyser un problème d'ingénierie et identifier les outils avancés du contrôle-commande et du traitement de l'information permettant d'apporter une réponse appropriée | G5: 1 | H5: S1 Code Systèmes asservis continus | I5: Oui | J5: Socle | L5: 10 | N5: 8 | Q5: =SUM(K5:O5) -> 18 | R5: =SUM(Q5:Q14) -> 232 | X5: 8 | Y5: 8 | Z5: ACQ + VAL | AC5: 3 | AP5: =Q5 -> 18 | AQ5: 0 | AR5: 0
H6: S1 Code Systèmes asservis numériques | I6: Oui | J6: Socle | L6: 8 | N6: 8 | Q6: =SUM(K6:O6) -> 16
H7: S1 Code Systèmes à évènements discrets et automatisme | I7: Oui | J7: Socle | L7: 10 | M7: 4 | N7: 12 | Q7: =SUM(K7:O7) -> 26 | Z7: ACQ + VAL | AC7: 3 | AP7: =Q7 -> 26 | AQ7: 0 | AR7: 0
H8: S1 Code Analyse et traitement du signal à temps continu | I8: Oui | J8: Socle | L8: 10 | M8: 6 | N8: 8 | Q8: =SUM(K8:O8) -> 24 | Z8: ACQ + VAL | AC8: 2 | AP8: =Q8 -> 24 | AQ8: 0 | AR8: 0
H9: S1 Code Analyse et traitement du signal à temps échantillonné | I9: Oui | J9: Socle | L9: 10 | M9: 4 | N9: 8 | Q9: =SUM(K9:O9) -> 22 | Z9: ACQ + VAL | AC9: 2 | AP9: =Q9 -> 22 | AQ9: 0 | AR9: 0
H10: S1 Code Programmation objet avec UML et C++ | I10: Oui | J10: Socle | L10: 10 | M10: 8 | N10: 12 | Q10: =SUM(K10:O10) -> 30 | Z10: ACQ + VAL | AC10: 2 | AP10: =Q10 -> 30 | AQ10: 0 | AR10: 0
H11: S1 Code Techniques d'optimisation | I11: Oui | J11: Socle | L11: 12 | M11: 8 | N11: 8 | Q11: =SUM(K11:O11) -> 28 | Z11: ACQ + VAL | AC11: 2 | AP11: =Q11 -> 28 | AQ11: 0 | AR11: 0
H12: S1 Code Adressage, protocoles et sécurité des réseaux | I12: Oui | J12: Socle | L12: 12 | M12: 8 | N12: 8 | Q12: =SUM(K12:O12) -> 28 | Z12: ACQ + VAL | AC12: 2 | AP12: =Q12 -> 28 | AQ12: 0 | AR12: 0
H13: S1 Code Microprocesseurs hautes performences | I13: Oui | J13: Socle | L13: 12 | M13: 8 | Q13: =SUM(K13:O13) -> 20 | Z13: ACQ + VAL | AC13: 2 | AP13: =Q13 -> 20 | AQ13: 0 | AR13: 0
H14: S1 Code SAC : Robotique mobile 1 Analyser et concevoir | I14: Oui | J14: Transversal | L14: 4 | M14: 6 | N14: 10 | Q14: =SUM(K14:O14) -> 20 | S14: 40 | Z14: SAC | AC14: 2 | AO14: x | AP14: =Q14 -> 20 | AQ14: 0 | AR14: 0
C15: Vous pouvez supprimer ou modifier les lignes 5 à 10 si vous ne souhaitez pas d'exemple
B16: Semestre 1 | C16: UE02 | E16: Concevoir | F16: =VLOOKUP(E16,BCC,2,FALSE()) -> BCC2 Répondre à une problématique industrielle et de recherche à partir d'un usage judicieux des outils avancés du contrôle-commande et du traitement de l'information | G16: 1 | H16: S1 Code Systèmes asservis continus | I16: Oui | J16: Socle | Q16: =SUM(K15:O15) -> 0 | R16: =SUM(Q17:Q25) -> 0 | X16: 8 | Y16: 8 | Z16: ACQ + VAL | AP16: =Q17 -> 0 | AQ16: 0 | AR16: 0
H17: S1 Code Systèmes asservis numériques | I17: Oui | J17: Socle | Q17: =SUM(K16:O16) -> 0
H18: S1 Code Systèmes à évènements discrets et automatisme | I18: Oui | J18: Socle | Q18: =SUM(K18:O18) -> 0 | Z18: ACQ + VAL | AP18: =Q18 -> 0 | AQ18: 0 | AR18: 0
H19: S1 Code Analyse et traitement du signal à temps continu | I19: Oui | J19: Socle | Q19: =SUM(K19:O19) -> 0 | Z19: ACQ + VAL | AP19: =Q19 -> 0 | AQ19: 0 | AR19: 0
H20: S1 Code Analyse et traitement du signal à temps échantillonné | I20: Oui | J20: Socle | Q20: =SUM(K20:O20) -> 0 | Z20: ACQ + VAL | AP20: =Q20 -> 0 | AQ20: 0 | AR20: 0
H21: S1 Code Programmation objet avec UML et C++ | I21: Oui | J21: Socle | Q21: =SUM(K21:O21) -> 0 | Z21: ACQ + VAL | AP21: =Q21 -> 0 | AQ21: 0 | AR21: 0
H22: S1 Code Techniques d'optimisation | I22: Oui | J22: Socle | Q22: =SUM(K22:O22) -> 0 | Z22: ACQ + VAL | AP22: =Q22 -> 0 | AQ22: 0 | AR22: 0
H23: S1 Code Adressage, protocoles et sécurité des réseaux | I23: Oui | J23: Socle | Q23: =SUM(K23:O23) -> 0 | Z23: ACQ + VAL | AP23: =Q23 -> 0 | AQ23: 0 | AR23: 0
H24: S1 Code Microprocesseurs hautes performences | I24: Oui | J24: Socle | Q24: =SUM(K24:O24) -> 0 | Z24: ACQ + VAL | AP24: =Q24 -> 0 | AQ24: 0 | AR24: 0
H25: S1 Code SAC : Robotique mobile 1 Analyser et concevoir | I25: Oui | J25: Transversal | Q25: =SUM(K25:O25) -> 0 | Z25: SAC | AO25: x | AP25: =Q25 -> 0 | AQ25: 0 | AR25: 0
B27: Semestre 1 | C27: UE03 | E27: Réaliser | F27: =VLOOKUP(E27,BCC,2,FALSE()) -> BCC3 Faire appel aux méthodes avancées du contrôle-commande et du traitement de l'information pour intégrer une solution dans un système complexe | G27: 1 | H27: S1 Code Systèmes asservis continus | I27: Oui | J27: Socle | Q27: =SUM(K27:O27) -> 0 | R27: =SUM(Q27:Q36) -> 20 | X27: 8 | Y27: 8 | Z27: ACQ + VAL | AP27: =Q27 -> 0 | AQ27: 0 | AR27: 0
H28: S1 Code Systèmes asservis numériques | I28: Oui | J28: Socle
H29: S1 Code Systèmes à évènements discrets et automatisme | I29: Oui | J29: Socle | Q29: =SUM(K29:O29) -> 0 | Z29: ACQ + VAL | AP29: =Q29 -> 0 | AQ29: 0 | AR29: 0
H30: S1 Code Analyse et traitement du signal à temps continu | I30: Oui | J30: Socle | Q30: =SUM(K30:O30) -> 0 | Z30: ACQ + VAL | AP30: =Q30 -> 0 | AQ30: 0 | AR30: 0
H31: S1 Code Analyse et traitement du signal à temps échantillonné | I31: Oui | J31: Socle | Q31: =SUM(K31:O31) -> 0 | Z31: ACQ + VAL | AP31: =Q31 -> 0 | AQ31: 0 | AR31: 0
H32: S1 Code Programmation objet avec UML et C++ | I32: Oui | J32: Socle | Q32: =SUM(K32:O32) -> 0 | Z32: ACQ + VAL | AP32: =Q32 -> 0 | AQ32: 0 | AR32: 0
H33: S1 Code Techniques d'optimisation | I33: Oui | J33: Socle | Q33: =SUM(K33:O33) -> 0 | Z33: ACQ + VAL | AP33: =Q33 -> 0 | AQ33: 0 | AR33: 0
H34: S1 Code Adressage, protocoles et sécurité des réseaux | I34: Oui | J34: Socle | Q34: =SUM(K34:O34) -> 0 | Z34: ACQ + VAL | AP34: =Q34 -> 0 | AQ34: 0 | AR34: 0
H35: S1 Code Microprocesseurs hautes performences | I35: Oui | J35: Socle | Q35: =SUM(K35:O35) -> 0 | Z35: ACQ + VAL | AP35: =Q35 -> 0 | AQ35: 0 | AR35: 0
H36: S1 Code SAC : Robotique mobile 2 Réaliser et déployer | I36: Oui | J36: Transversal | L36: 4 | M36: 6 | N36: 10 | Q36: =SUM(K36:O36) -> 20 | S36: 40 | Z36: SAC | AC36: 2 | AO36: x | AP36: =Q36 -> 20 | AQ36: 0 | AR36: 0
C37: Pour créer une nouvelle UE, copier les lignes 17 à 22 dans la première ligne vide.
B38: Semestre 1 | C38: UE04 | E38: Déployer | F38: =VLOOKUP(E38,BCC,2,FALSE()) -> BCC4 Etre en mesure d'intégrer une solution du contrôle-commande et du traitement de l'information dans un projet global compte tenu des aspects sociétaux (économique, social) et environnementaux | G38: 1 | H38: S1 Code Langue au choix (Anglais ou Allemand) | I38: Oui | J38: International | L38: 24 | Q38: =SUM(K38:O38) -> 24 | R38: =SUM(Q38:Q44) -> 34 | X38: 6 | Y38: 6 | Z38: Contrôles de TD | AC38: 2 | AL38: x | AP38: =Q38 -> 24 | AQ38: 0 | AR38: 0
H39: S1 Code Anglais S1 | I39: Oui | J39: International | L39: =24*0 -> 0 | Q39: =SUM(K39:O39) -> 0 | AL39: x | AP39: =Q39 -> 0 | AQ39: 0 | AR39: 0
H40: S1 Code Allemand S1 | I40: Oui | J40: International | L40: =24*0 -> 0 | Q40: =SUM(K40:O40) -> 0 | AL40: x | AP40: =Q40 -> 0 | AQ40: 0 | AR40: 0
H41: S1 Code Module SIO 4 : Connaitre ses possibilités de poursuite d'études | I41: Oui | J41: Ouvert | M41: 6 | Q41: =SUM(K41:O41) -> 6 | Z41: Modalités SIO | AM41: x | AP41: =Q41 -> 6 | AQ41: 0 | AR41: 0 | AS41: SIO
...

Sheet 6-Réorientation
A1: Décrire les possibilités de réorientation dans ce parcours

Sheet 7-Commentaires
A1: Commentaires
A2: Chaque ressource se voit attribuer 2 notes: une note "acquisition de la compétence" (ACQ) et une note "validation de la compétence" (VAL). Chaque note est calculée suite à une ou plusieurs évaluations (QCM, Écrit, Oral, TP, Rapport, préparation de TP,...).
A4: Les temps d’évaluation (colonne AC) ne tiennent pas bien compte des temps de rédactions de rapports, de préparations des travaux notés,…
A6: Pour les langues, les étudiants peuvent choisir entre deux options : anglais ou allemand en S1 (colonne N), S2 (colonne AC) et S3 (colonne BA)
A8: En S3, on propose aux étudiants de suivre 3 cours optionnels sur 5 (colonnes AU -AY)
A10: En S2, le SAC: Projet respecte les contraintes de l'UHA pour les projets tutorés.
A13: Les SAC sont construits sur la base d'une pédagogie active
A16: La durée du stage de fin d'études est de 5 mois minimum
A19: Le stage ne peut pas être compensé avec le semestre 3

Sheet 8-Indicateurs
A1: Master
A2: Maquette pédagogique de formation pour l'accréditation 2024-2028
A4: Mention : | B4: Master Electronique, Energie électrique et Automatique
A6: Parcours : | B6: Automatique et Systèmes Intelligents
A8: Référent Parcours Etudiant : | B8: Rodolfo ORJUELA
A10: Laboratoire (masters uniquement) : | B10: IRIMAS UR 7499
A12: Vérification des typologies
A14: Socle | B14: Ouvert | C14: International | D14: Transversal | E14: Tremplin
A15: =D28 -> 526 | B15: =D34 -> 117 | C15: =D32 -> 72 | D15: =D30 -> 65 | E15: 0
A18: Indicateurs de la lettre de cadrage
D19: Les cellules en bleu des colonnes D et E deviennent vertes lorsque l'indicateur est validé. Les cellules en gris sont des informations qui aident à la validation.
A20: Indicateur | B20: Modalités de calcul | C20: Exigences à respecter | D20: Validation | E20: Validation (manuelle) : oui/non
A21: Le tableau de correspondance BC RNCP-BC Formation est renseigné | B21: Validation manuelle | C21: Livrable 1 | D21: N/A | E21: Oui
A22: Une coordination des Parcours Etudiant est désignée dans la maquette. | B22: La cellule B8 est renseignée | C22: Une coordination des Parcours est désignée. Elle prend en charge le suivi administratif et pédagogique des parcours personnalisés (loi ORE) | D22: =IF(ISBLANK(B8),"Non","Oui") -> Oui | E22: Oui
A23: La maquette fait apparaître des passerelles et réorientations | B23: La cellule A2 de l'onglet 6 est complétée | C23: Prévoir au moins une réorientation en fin de L1 (vérifier manuellement que c'est en fin de L1) | D23: =IF(ISBLANK('6-Réorientation'!A2),"Non","Oui") -> Non | E23: N/A
A24: Volumes horaires à expliciter | B24: Renseigner les volumes horaires (CM, CI, TD, TP, Projet, Stage, tutorat, présentiel, distanciel, hybride). Si la modalité pédagogique n'est pas utilisée, inscrire 0 | C24: Si renseigné, alors présent, sinon absent (à vérifier comme pour les compétences transversales obligatoires) | E24: Non
A25: Total heures hors UE tremplin | B25: Sommes heures "Total ECUE" colonne Q moins heures tremplin | C25: Max 1500h Licence/ 1450 Max LP (vérifier manuellement les totaux par semestre : 450 LP3, LP3 obligatoirement en alternance)/ 800 Max pour Master/ Minimum 402h pour alternance en LP / 400H pour Master | D25: ='5-Maquette'!R1-SUMIF(TypologiePrincipale,"Tremplin",TotalHeuresEns) -> 780 | E25: Oui
A26: Total heures avec tremplin | B26: Total heures "Total ECUE" (colonne Q) | C26: Vérification manuelle des seuils : Max 1600 Tremplin 2 (publics hétérogènes hors Oui-Si, publics empêchés, parcours spécifiques professionnalisants) Max 1800h (Tremplin 1 : Oui-Si) | D26: ='5-Maquette'!R1 -> 780 | E26: N/A
A27: Spécialisation progressive : Pourcentage de parcours commun à la mention | B27: Total des heures maquettes pour les ECUE ayant "oui" dans la colonne "Commun Mention" / total des heures hors tremplin x 100 | C27: Vérifier manuellement l'attribution des ECTS sur les parcours : 45 ECTS en tout en L1 et 30 ECTS en L2 ou 75 ECTS lissés en L1 et L2 (soit environ 42%) | D27: =SUMIF(CommunMention,"Oui",TotalHeuresEns)/D26*100 -> 100 | E27: Oui
A28: Total Socle | B28: Somme des Heures Socle (disciplinaires) | C28: max 80% du volume horaire total (1200-1300h max) | D28: =SUMIF(TypologiePrincipale,"Socle",TotalHeuresEns) -> 526 | E28: Oui
A29: % Socle/ Ensemble du cursus | B29: (Somme des Heures ENS. Socle/ Somme des heures ENS.(hors tremplin))*100 | C29: L: Socle <80% des heures cursus vérif manuelle : Max 21 ECTS au S1, 24 ECTS au S2 | D29: =D28/D25*100 -> 67.435897 | E29: Oui
A30: Total Transversal | B30: Somme des Heures (ENS.) Transversales | C30: L : 6 ECTS (soit environ 50h au total) | D30: =SUMIF(TypologiePrincipale,"Transversal",TotalHeuresEns) -> 65 | E30: Oui
A31: Ratio Transversales/Nbre heures total Cursus | B31: (Somme des Heures ENS. Transversales / Somme des heures ENS.(hors tremplin))*100 | C31: L : 3% du volume total cursus (6ECTS minimum) | D31: =D30/D25*100 -> 8.3333333 | E31: Oui
A32: Total Heures Internationales | B32: Somme des Heures (ENS.) Internationales | C32: Vérification manuelle : L : 144h environ dont 24h de LanSad par semestre / interculturalité recommandée LP : 24h par semestre excepté sur le semestre consacré au stage long. LP : langues appliquées aux compétences disciplinaires M (LanSad sur 3 semestres obligatoires en Master) NOTA : Possibilité équivalence stage à l'étranger et modules EPICUR, EUCOR L,LP, M... | D32: =SUMIF(TypologiePrincipale,"International",TotalHeuresEns) -> 72 | E32: Oui
A33: Ratio Internationale/Nbre heures total Cursus | B33: (Somme des Heures ENS. UE Internationale / Somme des heures ENS.(hors tremplin))*100 | C33: L : 6% du volume total cursus | D33: =D32/D25*100 -> 9.2307692 | E33: Oui
A34: Total Heures Ouvertes | B34: Somme des Heures (ENS.) UE Ouverte | C34: Vérification manuelle : L : 6 ECTS minimum LP : Au moins 1 UE libre par an. Mise en situation = au moins 1/3 des ECTS en LP. M : module de préparation à l'insertion professionnelle obligatoire | D34: =SUMIF(TypologiePrincipale,"Ouvert",TotalHeuresEns) -> 117 | E34: Oui
A35: Ratio Ouvertes/Nbre heures total Cursus | B35: (Somme des Heures ENS. UE Ouverte/ Somme des heures ENS.(hors tremplin))*100 | C35: L : 3% minimum du volume total cursus | D35: =D34/D25*100 -> 15 | E35: Oui
A36: Total stage L et M | B36: Sommes heures de stage ENS+ETU | C36: Vérif manuelle : L : Au moins un stage ou projet tutoré en licence, de durée libre. M : stage de 8 semaines pour les masters généralistes (280h) et 4 mois minimum pour les master pros (600h) | D36: ='5-Maquette'!U1 -> 910 | E36: Oui | F36: 5 à 6 mois de stage
A37: Total stage LP | B37: Sommes heures de stage ENS+ETU : validé à partir de 140h | C37: LP: 140h minimum (4 semaines) Vérification manuelle : 2 stages a minima sur le cursus : 1 de 4 semaines LP1, LP2 et 1 de 12 à 16 semaines pour les LP en 1 an. LP3 exclusivement en alternance. | D37: ='5-Maquette'!U1 -> 910 | E37: N/A
A38: Heures soutien et remédiation | B38: Sommes heures tutorat (linguistique, méthodologique+positionnement+remédiation) | C38: Seul le calcul des heures tutorat (colonne T) est automatisé. A vérifier manuellement : Tutorat + ressources ou ECUE liées à soutien ou accompagnement dont UE tremplin | D38: ='5-Maquette'!V1 -> 0 | E38: N/A
A39: Total pédagogie diversifiée (pédagogie active) | B39: Somme heures hybridation+distanciel+projet (Enseignant et étudiant) | C39: 150h en pédagogie diversifiée (active) sur l'ensemble du cursus en UE socle. A vérifier manuellement : les commentaires sur les dispositifs de pédagogie active (onglet commentaire). | D39: ='5-Maquette'!AR1+'5-Maquette'!AQ1+'5-Maquette'!S1+'5-Maquette'!O1 -> 328 | E39: Oui | F39: ??
A40: Total projets tutorés (encadrés par enseignant) | B40: Sommes heures projets ENS+ETU | C40: LP : 150h à minima | D40: ='5-Maquette'!O1+'5-Maquette'!S1 -> 328 | E40: Oui | F40: ??
A41: Total heures en TP | B41: Somme des heures de TP | C41: Min 150h pour pouvoir bénéficier 100h supplémentaires hybrides dans les filières scientifiques (vérif manuelle : obtention du label hybridation) | D41: ='5-Maquette'!N1 -> 265 | E41: N/A | F41: ??
A42: Des SAC sont proposées | B42: Validation manuelle (colonnes G et/ou Y) | C42: Au moins 1 SAC/an à partir de 2025; 3 SAC en 2028 | D42: N/A | E42: Oui | F42: ?? | G42: on a 2 SAC par semestre
A43: Compétences transversales présentes (Licence) | B43: au moins une case cochée dans les colonnes AB à AM au moins 30h de TEDS au moins 6h de MTU en S1 en L | C43: ='5-Maquette'!AD4 -> Expression | D43: =IF('5-Maquette'!AD1>0,"Présent","Absent") -> Absent | E43: N/A
C44: ='5-Maquette'!AE4 -> TEDS | D44: =SUMIF(NombreTEDS,"x",TotalHeuresEns) -> 0 | E44: N/A
C45: ='5-Maquette'!AF4 -> MTU | D45: =SUMIF(NombreMTU,"x",TotalHeuresEns) -> 0 | E45: N/A
C46: ='5-Maquette'!AG4 -> Professionnelle | D46: =IF('5-Maquette'!AG1>0,"Présent","Absent") -> Absent | E46: N/A
C47: ='5-Maquette'!AH4 -> Internationale | D47: =IF('5-Maquette'!AH1>0,"Présent","Absent") -> Absent | E47: N/A
C48: ='5-Maquette'!AI4 -> Numérique (PIX) | D48: =IF('5-Maquette'!AI1>0,"Présent","Absent") -> Absent | E48: N/A
...

Sheet Feuil1
A1: =IF(#REF!="Ouvert",#REF!+#REF!+#REF!+#REF!+#REF!," ") -> #REF! | B1: =IF(#REF!="Transversal",#REF!+#REF!+#REF!+#REF!+#REF!," ") -> #REF! | C1: =IF(#REF!="Socle",#REF!+#REF!+#REF!+#REF!+#REF!," ") -> #REF! | H1: Somme H UE Ouverte | I1: =SUM(A:A) -> #REF!
A2: =IF(#REF!="Ouvert",#REF!+#REF!+#REF!+#REF!+#REF!," ") -> #REF! | B2: =IF(#REF!="Transversal",#REF!+#REF!+#REF!+#REF!+#REF!," ") -> #REF! | C2: =IF(#REF!="Socle",#REF!+#REF!+#REF!+#REF!+#REF!," ") -> #REF!
A3: =IF(#REF!="Ouvert",#REF!+#REF!+#REF!+#REF!+#REF!," ") -> #REF! | B3: =IF(#REF!="Transversal",#REF!+#REF!+#REF!+#REF!+#REF!," ") -> #REF! | C3: =IF(#REF!="Socle",#REF!+#REF!+#REF!+#REF!+#REF!," ") -> #REF!
A4: =IF(#REF!="Ouvert",#REF!+#REF!+#REF!+#REF!+#REF!," ") -> #REF! | B4: =IF(#REF!="Transversal",#REF!+#REF!+#REF!+#REF!+#REF!," ") -> #REF! | C4: =IF(#REF!="Socle",#REF!+#REF!+#REF!+#REF!+#REF!," ") -> #REF!
A5: =IF(#REF!="Ouvert",#REF!+#REF!+#REF!+#REF!+#REF!," ") -> #REF! | B5: =IF(#REF!="Transversal",#REF!+#REF!+#REF!+#REF!+#REF!," ") -> #REF! | C5: =IF(#REF!="Socle",#REF!+#REF!+#REF!+#REF!+#REF!," ") -> #REF!
A6: =IF(#REF!="Ouvert",#REF!+#REF!+#REF!+#REF!+#REF!," ") -> #REF! | B6: =IF(#REF!="Transversal",#REF!+#REF!+#REF!+#REF!+#REF!," ") -> #REF! | C6: =IF(#REF!="Socle",#REF!+#REF!+#REF!+#REF!+#REF!," ") -> #REF!
A7: =IF(#REF!="Ouvert",#REF!+#REF!+#REF!+#REF!+#REF!," ") -> #REF! | B7: =IF(#REF!="Transversal",#REF!+#REF!+#REF!+#REF!+#REF!," ") -> #REF! | C7: =IF(#REF!="Socle",#REF!+#REF!+#REF!+#REF!+#REF!," ") -> #REF!
A8: =IF(#REF!="Ouvert",#REF!+#REF!+#REF!+#REF!+#REF!," ") -> #REF! | B8: =IF(#REF!="Transversal",#REF!+#REF!+#REF!+#REF!+#REF!," ") -> #REF! | C8: =IF(#REF!="Socle",#REF!+#REF!+#REF!+#REF!+#REF!," ") -> #REF!
A9: =IF(#REF!="Ouvert",#REF!+#REF!+#REF!+#REF!+#REF!," ") -> #REF! | B9: =IF(#REF!="Transversal",#REF!+#REF!+#REF!+#REF!+#REF!," ") -> #REF! | C9: =IF(#REF!="Socle",#REF!+#REF!+#REF!+#REF!+#REF!," ") -> #REF!
A10: =IF(#REF!="Ouvert",#REF!+#REF!+#REF!+#REF!+#REF!," ") -> #REF! | B10: =IF(#REF!="Transversal",#REF!+#REF!+#REF!+#REF!+#REF!," ") -> #REF! | C10: =IF(#REF!="Socle",#REF!+#REF!+#REF!+#REF!+#REF!," ") -> #REF!
A11: =IF(#REF!="Ouvert",#REF!+#REF!+#REF!+#REF!+#REF!," ") -> #REF! | B11: =IF(#REF!="Transversal",#REF!+#REF!+#REF!+#REF!+#REF!," ") -> #REF! | C11: =IF(#REF!="Socle",#REF!+#REF!+#REF!+#REF!+#REF!," ") -> #REF!
A12: =IF(#REF!="Ouvert",#REF!+#REF!+#REF!+#REF!+#REF!," ") -> #REF! | B12: =IF(#REF!="Transversal",#REF!+#REF!+#REF!+#REF!+#REF!," ") -> #REF! | C12: =IF(#REF!="Socle",#REF!+#REF!+#REF!+#REF!+#REF!," ") -> #REF!
A13: =IF(#REF!="Ouvert",#REF!+#REF!+#REF!+#REF!+#REF!," ") -> #REF! | B13: =IF(#REF!="Transversal",#REF!+#REF!+#REF!+#REF!+#REF!," ") -> #REF! | C13: =IF(#REF!="Socle",#REF!+#REF!+#REF!+#REF!+#REF!," ") -> #REF!
... A21: =IF(#REF!="Ouvert",#REF!+#REF!+#REF!+#REF!+#REF!," ") -> #REF! | B21: =IF(#REF!="Transversal",#REF!+#REF!+#REF!+#REF!+#REF!," ") -> #REF! | C21: =IF(#REF!="Socle",#REF!+#REF!+#REF!+#REF!+#REF!," ") -> #REF!
A22: =IF(#REF!="Ouvert",#REF!+#REF!+#REF!+#REF!+#REF!,0) -> #REF! | B22: =IF(#REF!="Transversal",#REF!+#REF!+#REF!+#REF!+#REF!," ") -> #REF! | C22: =IF(#REF!="Socle",#REF!+#REF!+#REF!+#REF!+#REF!," ") -> #REF!
A23: =IF(#REF!="Ouvert",#REF!+#REF!+#REF!+#REF!+#REF!,0) -> #REF! | B23: =IF(#REF!="Transversal",#REF!+#REF!+#REF!+#REF!+#REF!," ") -> #REF! | C23: =IF(#REF!="Socle",#REF!+#REF!+#REF!+#REF!+#REF!," ") -> #REF!
A24: =IF(#REF!="Ouvert",#REF!+#REF!+#REF!+#REF!+#REF!,0) -> #REF! | B24: =IF(#REF!="Transversal",#REF!+#REF!+#REF!+#REF!+#REF!," ") -> #REF! | C24: =IF(#REF!="Socle",#REF!+#REF!+#REF!+#REF!+#REF!," ") -> #REF!
A25: =IF(#REF!="Ouvert",#REF!+#REF!+#REF!+#REF!+#REF!,0) -> #REF! | B25: =IF(#REF!="Transversal",#REF!+#REF!+#REF!+#REF!+#REF!," ") -> #REF! | C25: =IF(#REF!="Socle",#REF!+#REF!+#REF!+#REF!+#REF!," ") -> #REF!
A26: =IF(#REF!="Ouvert",#REF!+#REF!+#REF!+#REF!+#REF!,0) -> #REF! | B26: =IF(#REF!="Transversal",#REF!+#REF!+#REF!+#REF!+#REF!," ") -> #REF! | C26: =IF(#REF!="Socle",#REF!+#REF!+#REF!+#REF!+#REF!," ") -> #REF!
A27: =IF(#REF!="Ouvert",#REF!+#REF!+#REF!+#REF!+#REF!,0) -> #REF! | B27: =IF(#REF!="Transversal",#REF!+#REF!+#REF!+#REF!+#REF!," ") -> #REF! | C27: =IF(#REF!="Socle",#REF!+#REF!+#REF!+#REF!+#REF!," ") -> #REF!
A28: =IF(#REF!="Ouvert",#REF!+#REF!+#REF!+#REF!+#REF!,0) -> #REF! | B28: =IF(#REF!="Transversal",#REF!+#REF!+#REF!+#REF!+#REF!," ") -> #REF! | C28: =IF(#REF!="Socle",#REF!+#REF!+#REF!+#REF!+#REF!," ") -> #REF!
A29: =IF(#REF!="Ouvert",#REF!+#REF!+#REF!+#REF!+#REF!,0) -> #REF! | B29: =IF(#REF!="Transversal",#REF!+#REF!+#REF!+#REF!+#REF!," ") -> #REF! | C29: =IF(#REF!="Socle",#REF!+#REF!+#REF!+#REF!+#REF!," ") -> #REF!
A30: =IF(#REF!="Ouvert",#REF!+#REF!+#REF!+#REF!+#REF!,0) -> #REF! | B30: =IF(#REF!="Transversal",#REF!+#REF!+#REF!+#REF!+#REF!," ") -> #REF! | C30: =IF(#REF!="Socle",#REF!+#REF!+#REF!+#REF!+#REF!," ") -> #REF!
A31: =IF(#REF!="Ouvert",#REF!+#REF!+#REF!+#REF!+#REF!,0) -> #REF! | B31: =IF(#REF!="Transversal",#REF!+#REF!+#REF!+#REF!+#REF!," ") -> #REF! | C31: =IF(#REF!="Socle",#REF!+#REF!+#REF!+#REF!+#REF!," ") -> #REF!
