Workbook
Name BCC: '[1]2-Référentiel UHA'!$A$3:$B$419
Name BCC: '[2]2-Référentiel UHA'!$A$3:$B$419
Name CommunL1L2: '3-Maquette parcours'!$E$8:$E$56
Name CommunMention: '[1]3-Maquette Licence Parcours x'!$H$5:$H$1048576
Name CommunMention: '3-Maquette parcours'!$E$8:$E$1048576
Name ECTS: '[1]3-Maquette Licence Parcours x'!$V$2:$V$1048576
Name ECTS: '[2]3-Maquette Licence Parcours x'!$V$2:$V$1048576
Name NombreCollab: '3-Maquette parcours'!$AL$8:$AL$1048576
Name NombreExpression: '3-Maquette parcours'!$AC$8:$AC$1048576
Name NombreInformationnelle: '3-Maquette parcours'!$AF$8:$AF$1048576
Name NombreInternationale: '3-Maquette parcours'!$AI$8:$AI$1048576
Name NombreMTU: '3-Maquette parcours'!$AE$8:$AE$1048576
Name NombreNumerique: '3-Maquette parcours'!#REF!
Name NombreNumérique: '3-Maquette parcours'!$AH$8:$AH$731
Name NombreProfessionnelle: '3-Maquette parcours'!$AJ$8:$AJ$1048576
Name NombreRecherche: '3-Maquette parcours'!$AK$8:$AK$1048576
Name NombreSAC: '3-Maquette parcours'!#REF!
Name NombreTEDS: '3-Maquette parcours'!$AD$8:$AD$1048576
Name NombreVSS: '3-Maquette parcours'!$AG$8:$AG$1048576
Name Ressources: '[1]4-Corres. Compétences-Ressource'!$E$2:$AX$2
Name Ressources: '[2]4-Corres. Compétences-Ressource'!$E$2:$AX$2
Name TotalCI: '[1]3-Maquette Licence Parcours x'!$J$5:$J$1048576
Name TotalCI: '[2]3-Maquette Licence Parcours x'!$J$5:$J$1048576
Name TotalCM: '[1]3-Maquette Licence Parcours x'!$K$5:$K$1048576
Name TotalCM: '[2]3-Maquette Licence Parcours x'!$K$5:$K$1048576
Name TotalDistanciel: '[1]3-Maquette Licence Parcours x'!$AO$5:$AO$1048576
Name TotalDistanciel: '3-Maquette parcours'!$AT$8:$AT$1048576
Name TotalECTS: '3-Maquette parcours'!$U$8:$U$1048576
Name TotalECUE: '3-Maquette parcours'!$N$7:$N$1048576
Name TotalHeuresEns: '[1]3-Maquette Licence Parcours x'!$O$5:$O$1048576
Name TotalHeuresEns: '[2]3-Maquette Licence Parcours x'!$O$5:$O$1048576
Name TotalHybride: '3-Maquette parcours'!$AU$8:$AU$1048576
Name TotalMaquette: '[2]3-Maquette Licence Parcours x'!#REF!
Name TotalMaquette: '3-Maquette parcours'!#REF!
Name TotalProjet: '[2]3-Maquette Licence Parcours x'!#REF!
Name TotalProjet: '3-Maquette parcours'!$O$8:$O$1048576
Name TotalProjetAutonomie: '[1]3-Maquette Licence Parcours x'!$Q$5:$Q$1048576
Name TotalProjetAutonomie: '[2]3-Maquette Licence Parcours x'!$Q$5:$Q$1048576
Name TotalProjetEncadrement: '[1]3-Maquette Licence Parcours x'!$N$5:$N$1048576,'[1]3-Maquette Licence Parcours x'!$N$2,'[1]3-Maquette Licence Parcours x'!$G$2
Name TotalProjetEncadrement: '[2]3-Maquette Licence Parcours x'!$N$5:$N$1048576,'[2]3-Maquette Licence Parcours x'!$N$2,'[2]3-Maquette Licence Parcours x'!$G$2
Name TotalProjetEns: '3-Maquette parcours'!$L$8:$L$1048576
Name TotalStage: '[1]3-Maquette Licence Parcours x'!$S$5:$S$1048576
Name TotalStage: '[2]3-Maquette Licence Parcours x'!$S$5:$S$1048576
Name TotalStageEtudiant: '3-Maquette parcours'!$Q$8:$Q$1048576
Name TotalTD: '[1]3-Maquette Licence Parcours x'!$L$5:$L$1048576
Name TotalTD: '[2]3-Maquette Licence Parcours x'!$L$5:$L$1048576
Name TotalTP: '[1]3-Maquette Licence Parcours x'!$M$5:$M$1048576
Name TotalTP: '3-Maquette parcours'!$K$8:$K$1048576
Name TotalTutorat: '[1]3-Maquette Licence Parcours x'!$T$5:$T$1048576
Name TotalTutorat: '3-Maquette parcours'!$R$8:$R$1048576
Name TypologiePrincipale: '[1]3-Maquette Licence Parcours x'!$I$5:$I$1048576
Name TypologiePrincipale: '3-Maquette parcours'!$F$8:$F$1048576
Name VolumeHoraire: '[1]3-Maquette Licence Parcours x'!$O$2:$O$1048576
Name VolumeHoraire: '[2]3-Maquette Licence Parcours x'!$O$2:$O$1048576

Sheet Feuil1
A1: =IF(#REF!="Ouvert",#REF!+#REF!+#REF!+#REF!+#REF!," ") -> #REF! | B1: =IF(#REF!="Transversal",#REF!+#REF!+#REF!+#REF!+#REF!," ") -> #REF! | C1: =IF(#REF!="Socle",#REF!+#REF!+#REF!+#REF!+#REF!," ") -> #REF! | H1: Somme H UE Ouverte | I1: =SUM(A:A) -> #REF!
A2: =IF(#REF!="Ouvert",#REF!+#REF!+#REF!+#REF!+#REF!," ") -> #REF! | B2: =IF(#REF!="Transversal",#REF!+#REF!+#REF!+#REF!+#REF!," ") -> #REF! | C2: =IF(#REF!="Socle",#REF!+#REF!+#REF!+#REF!+#REF!," ") -> #REF!
A3: =IF(#REF!="Ouvert",#REF!+#REF!+#REF!+#REF!+#REF!," ") -> #REF! | B3: =IF(#REF!="Transversal",#REF!+#REF!+#REF!+#REF!+#REF!," ") -> #REF! | C3: =IF(#REF!="Socle",#REF!+#REF!+#REF!+#REF!+#REF!," ") -> #REF!
A4: =IF(#REF!="Ouvert",#REF!+#REF!+#REF!+#REF!+#REF!," ") -> #REF! | B4: =IF(#REF!="Transversal",#REF!+#REF!+#REF!+#REF!+#REF!," ") -> #REF! | C4: =IF(#REF!="Socle",#REF!+#REF!+#REF!+#REF!+#REF!," ") -> #REF!
A5: =IF(#REF!="Ouvert",#REF!+#REF!+#REF!+#REF!+#REF!," ") -> #REF! | B5: =IF(#REF!="Transversal",#REF!+#REF!+#REF!+#REF!+#REF!," ") -> #REF! | C5: =IF(#REF!="Socle",#REF!+#REF!+#REF!+#REF!+#REF!," ") -> #REF!
A6: =IF(#REF!="Ouvert",#REF!+#REF!+#REF!+#REF!+#REF!," ") -> #REF! | B6: =IF(#REF!="Transversal",#REF!+#REF!+#REF!+#REF!+#REF!," ") -> #REF! | C6: =IF(#REF!="Socle",#REF!+#REF!+#REF!+#REF!+#REF!," ") -> #REF!
A7: =IF(#REF!="Ouvert",#REF!+#REF!+#REF!+#REF!+#REF!," ") -> #REF! | B7: =IF(#REF!="Transversal",#REF!+#REF!+#REF!+#REF!+#REF!," ") -> #REF! | C7: =IF(#REF!="Socle",#REF!+#REF!+#REF!+#REF!+#REF!," ") -> #REF!
A8: =IF(#REF!="Ouvert",#REF!+#REF!+#REF!+#REF!+#REF!," ") -> #REF! | B8: =IF(#REF!="Transversal",#REF!+#REF!+#REF!+#REF!+#REF!," ") -> #REF! | C8: =IF(#REF!="Socle",#REF!+#REF!+#REF!+#REF!+#REF!," ") -> #REF!
A9: =IF(#REF!="Ouvert",#REF!+#REF!+#REF!+#REF!+#REF!," ") -> #REF! | B9: =IF(#REF!="Transversal",#REF!+#REF!+#REF!+#REF!+#REF!," ") -> #REF! | C9: =IF(#REF!="Socle",#REF!+#REF!+#REF!+#REF!+#REF!," ") -> #REF!
A10: =IF(#REF!="Ouvert",#REF!+#REF!+#REF!+#REF!+#REF!," ") -> #REF! | B10: =IF(#REF!="Transversal",#REF!+#REF!+#REF!+#REF!+#REF!," ") -> #REF! | C10: =IF(#REF!="Socle",#REF!+#REF!+#REF!+#REF!+#REF!," ") -> #REF!
A11: =IF(#REF!="Ouvert",#REF!+#REF!+#REF!+#REF!+#REF!," ") -> #REF! | B11: =IF(#REF!="Transversal",#REF!+#REF!+#REF!+#REF!+#REF!," ") -> #REF! | C11: =IF(#REF!="Socle",#REF!+#REF!+#REF!+#REF!+#REF!," ") -> #REF!
A12: =IF(#REF!="Ouvert",#REF!+#REF!+#REF!+#REF!+#REF!," ") -> #REF! | B12: =IF(#REF!="Transversal",#REF!+#REF!+#REF!+#REF!+#REF!," ") -> #REF! | C12: =IF(#REF!="Socle",#REF!+#REF!+#REF!+#REF!+#REF!," ") -> #REF!
A13: =IF(#REF!="Ouvert",#REF!+#REF!+#REF!+#REF!+#REF!," ") -> #REF! | B13: =IF(#REF!="Transversal",#REF!+#REF!+#REF!+#REF!+#REF!," ") -> #REF! | C13: =IF(#REF!="Socle",#REF!+#REF!+#REF!+#REF!+#REF!," ") -> #REF!
... A21: =IF(#REF!="Ouvert",#REF!+#REF!+#REF!+#REF!+#REF!," ") -> #REF! | B21: =IF(#REF!="Transversal",#REF!+#REF!+#REF!+#REF!+#REF!," ") -> #REF! | C21: =IF(#REF!="Socle",#REF!+#REF!+#REF!+#REF!+#REF!," ") -> #REF!
A22: =IF(#REF!="Ouvert",#REF!+#REF!+#REF!+#REF!+#REF!,0) -> #REF! | B22: =IF(#REF!="Transversal",#REF!+#REF!+#REF!+#REF!+#REF!," ") -> #REF! | C22: =IF(#REF!="Socle",#REF!+#REF!+#REF!+#REF!+#REF!," ") -> #REF!
A23: =IF(#REF!="Ouvert",#REF!+#REF!+#REF!+#REF!+#REF!,0) -> #REF! | B23: =IF(#REF!="Transversal",#REF!+#REF!+#REF!+#REF!+#REF!," ") -> #REF! | C23: =IF(#REF!="Socle",#REF!+#REF!+#REF!+#REF!+#REF!," ") -> #REF!
A24: =IF(#REF!="Ouvert",#REF!+#REF!+#REF!+#REF!+#REF!,0) -> #REF! | B24: =IF(#REF!="Transversal",#REF!+#REF!+#REF!+#REF!+#REF!," ") -> #REF! | C24: =IF(#REF!="Socle",#REF!+#REF!+#REF!+#REF!+#REF!," ") -> #REF!
A25: =IF(#REF!="Ouvert",#REF!+#REF!+#REF!+#REF!+#REF!,0) -> #REF! | B25: =IF(#REF!="Transversal",#REF!+#REF!+#REF!+#REF!+#REF!," ") -> #REF! | C25: =IF(#REF!="Socle",#REF!+#REF!+#REF!+#REF!+#REF!," ") -> #REF!
A26: =IF(#REF!="Ouvert",#REF!+#REF!+#REF!+#REF!+#REF!,0) -> #REF! | B26: =IF(#REF!="Transversal",#REF!+#REF!+#REF!+#REF!+#REF!," ") -> #REF! | C26: =IF(#REF!="Socle",#REF!+#REF!+#REF!+#REF!+#REF!," ") -> #REF!
A27: =IF(#REF!="Ouvert",#REF!+#REF!+#REF!+#REF!+#REF!,0) -> #REF! | B27: =IF(#REF!="Transversal",#REF!+#REF!+#REF!+#REF!+#REF!," ") -> #REF! | C27: =IF(#REF!="Socle",#REF!+#REF!+#REF!+#REF!+#REF!," ") -> #REF!
A28: =IF(#REF!="Ouvert",#REF!+#REF!+#REF!+#REF!+#REF!,0) -> #REF! | B28: =IF(#REF!="Transversal",#REF!+#REF!+#REF!+#REF!+#REF!," ") -> #REF! | C28: =IF(#REF!="Socle",#REF!+#REF!+#REF!+#REF!+#REF!," ") -> #REF!
A29: =IF(#REF!="Ouvert",#REF!+#REF!+#REF!+#REF!+#REF!,0) -> #REF! | B29: =IF(#REF!="Transversal",#REF!+#REF!+#REF!+#REF!+#REF!," ") -> #REF! | C29: =IF(#REF!="Socle",#REF!+#REF!+#REF!+#REF!+#REF!," ") -> #REF!
A30: =IF(#REF!="Ouvert",#REF!+#REF!+#REF!+#REF!+#REF!,0) -> #REF! | B30: =IF(#REF!="Transversal",#REF!+#REF!+#REF!+#REF!+#REF!," ") -> #REF! | C30: =IF(#REF!="Socle",#REF!+#REF!+#REF!+#REF!+#REF!," ") -> #REF!
A31: =IF(#REF!="Ouvert",#REF!+#REF!+#REF!+#REF!+#REF!,0) -> #REF! | B31: =IF(#REF!="Transversal",#REF!+#REF!+#REF!+#REF!+#REF!," ") -> #REF! | C31: =IF(#REF!="Socle",#REF!+#REF!+#REF!+#REF!+#REF!," ") -> #REF!
A32: =IF(#REF!="Ouvert",#REF!+#REF!+#REF!+#REF!+#REF!,0) -> #REF! | B32: =IF(#REF!="Transversal",#REF!+#REF!+#REF!+#REF!+#REF!," ") -> #REF! | C32: =IF(#REF!="Socle",#REF!+#REF!+#REF!+#REF!+#REF!," ") -> #REF!
A33: =IF(#REF!="Ouvert",#REF!+#REF!+#REF!+#REF!+#REF!,0) -> #REF! | B33: =IF(#REF!="Transversal",#REF!+#REF!+#REF!+#REF!+#REF!," ") -> #REF! | C33: =IF(#REF!="Socle",#REF!+#REF!+#REF!+#REF!+#REF!," ") -> #REF!
... A71: =IF(#REF!="Ouvert",#REF!+#REF!+#REF!+#REF!+#REF!,0) -> #REF! | B71: =IF(#REF!="Transversal",#REF!+#REF!+#REF!+#REF!+#REF!," ") -> #REF! | C71: =IF(#REF!="Socle",#REF!+#REF!+#REF!+#REF!+#REF!," ") -> #REF!

Sheet 1-FAQ & Lexique
A1: Ce document contient 6 onglets - Faire défiler en bas de la fenêtre Excel
A2: Lexique et Information : Préambule
A3: Ce classeur Excel contient tous les éléments permettant : - d'harmoniser les maquettes en fonction de la note de cadrage UHA - d'organiser les curriculum en conformité avec l'APC ET avec les nouvelles modalités pédagogiques introduites par la loi ORE (modularité, personnalisation des parcours). Il comporte 6 onglets 1. Lexique et information : Cet onglet de présentation déroule un mode d'emploi succinct de la trame de maquette (partie 1). Il explique également la terminologie et les abréviations utilisées dans la maquette (parties 2 et 3) 2. Correspondance BC RNCP/ BC UHA : tableau de correspondance qui permet de respecter l'obligation réglementaire de mettre en adéquation les blocs de compétences du Référentiel de Formation avec les blocs de compétences du RNCP -> à renseigner dès maintenant 3. Maquette Parcours : trame de maquette adaptée aux mentions qui démarrent dans l'approche par compétences. 4. Réorientation : décrire les dispositifs de réorientation envisagés 5. Commentaires : si besoin, vous pouvez expliquer vos choix dans cet onglet. 6. Indicateurs : comporte les indications de la mention et du parcours. Comporte aussi les indicateurs de suivi à fournir obligatoirement en Licence, Licence Pro, Master pour attester de la conformité de l'offre UHA aux exigences réglementaires et stratégiques de l'Etablissement.
A5: 1. Comment renseigner la trame de maquette UHA.
A7: 1.1 Quelle maquette utiliser : maquette APC niveau 1 ou niveau 2 ?
A8: Si vous n'avez pas encore établi votre référentiel de formation ou si vous avez reformulé légèrement la liste de compétences RNCP, privilégiez la maquette APC niveau 1 (ce fichier excel)
A9: Si vous avez travaillé sur un référentiel de formation (accompagné par le collectif de soutien APC), vous pouvez opter pour la maquette APC niveau 2
A11: 1.2 Quels sont les éléments obligatoires à remplir dans la maquette?
A12: La plupart des éléments sont obligatoires. Certains ne sont à renseigner que s'ils sont adaptés. Exemple : un cursus ne dispose pas forcément d'enseignements mutualisés. La colonne "Mutualisation" n'est donc à renseigner que si elle correspond à la réalité de votre cursus. !! Des indications complémentaires sont données en entête de colonne sur la façon de les renseigner. Le passage aux BCC se fera en lien avec les fiches RNCP et avec 3 niveaux de déploiement : - phase 1 : organiser la maquette en BCC et en UE ; (2024) - phase 2 : développer au sein d’au moins un BCC des stratégies pédagogiques alignant les objectifs (dès 2025) (définis en phase 1), les activités et les évaluations. Il s’agit ici notamment de la mise en place de séquences d’apprentissage mobilisant les compétences du BCC, et l’évaluation inhérente ; - phase 3 : généraliser la phase 2 à tous les BCC d’une même formation.", UHA, Note de cadrage, mai 2023, p. 5
A14: 1.3 Comment et pourquoi utiliser l'onglet 2 - Correspondance RNCP / Référentiel
A15: 1. Vous avez établi un référentiel de compétences propre à votre Formation --> utilisez le tableau Correspondance BC RNCP - BC UHA (onglet 2) pour établir les correspondances entre les blocs de compétence de votre référentiel et ceux de la fiche RNCP de la mention nationale.
A16: 2. Vous n'avez pas de référentiel de compétences spécifique --> copiez-coller les éléments de référentiel de la fiche RNCP de la Mention nationale.
... A20: Les volumes horaires de la maquette sont les volumes de face à face pédagogique suivis par les étudiants. Ils sont calculés automatiquement uniquement sur la base des heures d'enseignement et de suivi pédagogique. Vous pouvez choisir d'inclure ou non les heures d'évaluation dans les heures maquette. Attention, pour que les temps d'évaluation soient pris en compte dans les 1500h réglementaires, ils doivent être saisis dans les heures CM, TD, TP. Les temps de travail étudiant indiqués pour les stages et projets ne sont pas décomptés dans le calcul de la maquette. Si la formation a recours à un service (Learning Center et SIO...) pour animer certaines séquences d'enseignement, ces heures figurent dans la maquette de la Formation. Les heures d'hybridation ou de distanciel sont intégrées dans les heures d'enseignement de la section. Au sein du volume horaire global d'une UE, on précisera par ailleurs la répartition de volumes horaires entre différentes d'apprentissage(Présentiel/Distanciel/Hybride). Cette distinction permettra notamment de justifier du volume horaire supplémentaire accordé à certaines mentions sous réserve qu'elles aient recours à l'hybridation. En cas d'insertion de nouvelles lignes ou colonne au modèle, il se peut que les formules ne se mettent pas à jour. Veuillez vérifier que les références de formules sont bien mises à jour.
A22: Note de cadrage (volume horaire appuyé sur la réglementation) | B22: Licence
B23: Pas moins de 1500h d'enseignement ou d'encadrement en face à face (obligation réglementaire). Pas plus de 1500h sur 3 ans pour le standard sauf dispositions spécifiques aux UE Tremplin (<300h de soutien en plus) et/ou 100h hybridées de plus
A24: Licence Pro | B24: Master
A25: 1450h sur 3 ans : Le volume horaire annuel ne devra pas dépasser 500h encadrées, 450h la dernière année. | B25: De 400h à 800h sur deux ans.
A26: 1.5 Comment attribuer les crédits ECTS aux UE?
A27: Les ECTS sont attribuées uniquement aux UE (pas aux ECUE). 1 UE se voit accorder 3 ECTS minimum. 1 ECTS correspond à 25-30 heures de travail pour l'étudiant, comprenant au plus 10 heures d'enseignement ou d’encadrement pédagogique de type suivi de projet en présentiel ou hybride.
A28: 1.6 Comment sont spécifiées les durées de stage ?
A29: Les durées de stage sont spécifiées dans la maquette en conformité avec les éléments ci-après.
A30: Stage obligatoire en L, M et LP | B30: Licence
B31: Pas de cadrage sur la durée, au choix de la Formation.
A32: Licence Pro | B32: Master
A33: 12 à 16 semaines en milieu professionnel (au moins 1/3 des crédits ECTS attribuables à des mises en situations professionnelles en UE ouvertes. Un stage d’au moins 4 semaines devra être mis en place dans les 2 premières années. un projet tutoré de 150 h. | B33: > ou = à 8 semaines. > ou = à 4 mois dans les filières professionnalisantes ;
A34: 1.6 Comment sont calculés les indicateurs?
A35: Les volumes horaires totaux et par catégorie d'UE sont calculés automatiquement dans les modèles de maquette. Les indicateurs de suivi complémentaires permettent d'attester de l'application des dispositions légales et de la note de cadrage seront calculés selon les formules de calcul spécifiées dans l'onglet Indicateurs.
A36: 2. Eléments de lexique
A38: 2.1 Lexique spécifique UHA - Approche par Compétences
A40: Alignement pédagogique : Mis au jour par John Biggs, ce concept mentionné dans la note de cadrage est au coeur de la démarche APC. Il s'agit de mettre en cohérence 1) les objectifs d’apprentissage d’un enseignement/d’une formation, 2) les méthodes et activités pédagogiques et 3) les méthodes d’évaluation des apprentissages des étudiants. Ainsi, si un des objectifs d'apprentissage d'un enseignement est de "Travailler en équipe dans un laboratoire", il sera adapté de mettre en place des activités de travaux pratiques en laboratoire et d'évaluer les étudiants en situation via une grille critériée sur la qualité de leur coopération.
A41: Apprentissage critique (Maquette APC Niveau 2) Dans un référentiel de compétences, un apprentissage critique explicite ce que l’étudiant doit effectivement maîtriser pour passer d’un niveau de développement à un autre de la compétence. L'apprentissage critique (Tardif) est similaire à la "microcompétence" (IDIP).
A42: Compétence (/ Macro-compétence) Une compétence consiste en la mobilisation de manière pertinente des ressources d’un individu pour exercer une activité en fonction d’objectifs à finalité professionnelle à atteindre. Le résultat de sa mise en œuvre est évaluable dans un contexte donné et transférable d’un contexte professionnel à un autre (inspiré du RNCP). Cette définition s'appuie sur celle de Tardif : "Une compétence est un "savoir-agir complexe, prenant appui sur la mobilisation et la combinaison efficaces d'une variété de ressources à l'intérieur d'une famille de situations" (Tardif, 2006)". A l'UHA, ce terme est exclusivement utilisé pour désigner une compétence générique (parfois désignée sous forme de macro-compétence) équivalent au titre d'un bloc de compétence du référentiel. Elle est subdivisée en apprentissages critiques qui précisent quant à eux les apprentissages essentiels à acquérir à chaque niveau de développement de cette compétence.
A43: Objectif d'apprentissage La formulation des objectifs d’apprentissage permet aux étudiants d'identifier ce qu'ils devraient savoir et savoir faire à l'issue d'une activité d'apprentissage. Par souci de cohérence, le choix des méthodes d’évaluations, des activités d’enseignement-apprentissage et l’organisation du contenu du cours découlent des objectifs d’apprentissage. NB : L'université de Lorraine a publié une fiche pratique très claire sur la construction d'un objectif d'apprentissage. Source : https://sup.univ-lorraine.fr/files/2020/07/FC_formuler_objectifs_apprentissage.pdf
A44: Situation d'Apprentissage Complexe & Evaluation
A45: "La mise en œuvre de « situations d’apprentissage complexe » sera à développer. De telles situations exigent de mettre en œuvre plusieurs compétences, transversales, disciplinaires et pluridisciplinaires, amenant les étudiants à mobiliser et intégrer de manière cohérente et simultanée des savoirs (connaissances), savoir-être (attitudes) et savoir-faire (capacités) multiples. A ce titre, il est recommandé que les compétences disciplinaires d’une ou plusieurs UE puissent être développées via un enseignement en langue étrangère.", Note de cadrage UHA, mai 2023. EUne situation d'apprentissage complexe ne se solde pas obligatoirement par une évaluation. Elle peut toutefois être complétée d'une évaluation par exemple sous forme de grille critériée (notamment dans les maquettes APC de niveau 2) pour évaluer une ou plusieurs compétences en situation.
A48: 2.2 Lexique spécifique UHA - Référentiel de formation / Modularité et aménagement du parcours de formation
A50: Catégories d'UE. Les catégories d'UE sont au coeur du référentiel de formation, visant à définir l'organisation du parcours de formation. Afin d'impulser une plus grande modularité des activités d'apprentissage et une variété des types de compétences visées par ses diplômes, l'UHA, suivant les recommandations du rapport HCERES, a structuré 4 catégories d'UE contribuant au développement de compétences transversales obligatoires ou mise en avant dans la stratégie de formation de l'UHA + 1UE optionnelle. Ces catégories vient à faciliter les regroupement transdisciplinaires et à suivre la répartition des volumes horaires en fonction des types de compétences auxquelles contribuent les UE.
... A62: Compétences transversales
A63: Dénomination UHA | B63: Arrêté 01/2020 | C63: Licence/Licence Pro/Master
A64: Professionnelle | B64: Pré-professionnelle et professionnelle
...

Sheet 2- BC RNCP-BC Formation UHAb
B1: !! Comment renseigner ce tableau? 3 cas : Cas 1. Si vous n'avez pas de référentiel, renseignez uniquement la colonne obligatoire ci-dessous (B) et inscrire des x en face de chaque compétence dans la colonne C Cas 2. Si vous avez reformulé les titres de blocs du référentiel national, spécifiez dans les colonnes de droite (à partir de C2) les titres de vos BC Formation UHA (obligatoire). Inscrivez une x chaque fois que vos blocs de Formation prennent en compte des compétences (C) des blocs RNCP. Cas 3. Si vous avez votre propre référentiel de compétences, renseignez également la colonne des apprentissages critiques AC à partir de la cellule C3. Inscrivez ensuite une x chaque fois qu'un AC correspondra à une Compétence C des blocs RNCP (voir exemples).
B3: France Compétences fiche RNCP RNCP24514 | C3: BC1. Développer des applications | K3: BC 2. Gérer un système d’information | N3: BC 3. Raisonner et calculer | U3: BC 4. Accompagner le fonctionnement de l’entreprise (parcours MIAGE) | AA3: BC 5. Communiquer et collaborer | AH3: BC 6. Travailler en milieu professionnel
B4: Copier-coller dans tous les cas les éléments de la fiche RNCP ci-dessous. | C4: AC1.1 Appliquer des approches raisonnées de résolution de problèmes complexes par décompositions et/ou approximations successives et mettre en œuvre des méthodes d’analyse pour concevoir des applications et algorithmes à partir d’un cahier des charges partiellement donné. | D4: AC 1.2 Choisir, sur des critères objectifs, les structures de données et construire les algorithmes les mieux adaptés à un problème donné. | E4: AC1.3 Identifier les concepts fondamentaux de complexité, calculabilité, décidabilité, vérification : apprécier la complexité et les limites de validité d’une solution. | F4: AC 1.4 Caractériser le rôle des tests et des preuves de correction dans le développement des logiciels et mettre en œuvre des tests élémentaires et des invariants de boucle. | G4: AC 1.5 Analyser et interpréter les résultats produits par l'exécution d'un programme. | H4: AC 1.6 Concevoir le traitement informatisé d’informations de différentes natures, telles que des données, des images et des textes. | I4: AC 1.7 Se servir aisément de plusieurs styles/paradigmes algorithmiques et de programmation (approches impérative, fonctionnelle, objet et multitâche) ainsi que plusieurs langages de programmation. | J4: AC 1.8 Expliquer et documenter la mise en œuvre d'une solution technique. | K4: AC2.1 Concevoir, implémenter et exploiter des bases de données. | L4: AC2.2 Identifier et caractériser les principaux éléments fonctionnels et l’architecture matérielle d’un ordinateur, interpréter les informations techniques fournies par les constructeurs, écrire des routines simples en langage machine. | M4: AC2.3 Caractériser le fonctionnement des systèmes et des réseaux, ainsi que les pratiques, outils et techniques visant à assurer la sécurité des systèmes informatiques pendant leur développement et leur utilisation. | N4: AC3.1 Caractériser les outils logiques et algébriques fondamentaux (théorie des langages et de la compilation, logique et raisonnement, ordres, induction) et leurs implications dans la programmation et la modélisation. | O4: AC3.2 Construire et rédiger une démonstration mathématique synthétique et rigoureuse. | P4: AC3.3 Caractériser les techniques de gestion de l’aléatoire (probabilités et statistique) et leurs rôles dans le traitement de certaines données. | Q4: AC3.4 Utiliser un logiciel de calcul formel ou scientifique. | R4: AC3.5 Se servir aisément des bases de la logique pour organiser un raisonnement mathématique et rédiger de manière synthétique et rigoureuse. | S4: AC3.6 Traduire un problème simple en langage mathématique. | T4: AC3.7 Respecter les principes d’éthique, de déontologie et de responsabilité environnementale. | U4: AC4.1 Intervenir en informatique de gestion | V4: AC4.2 Connaître les fondements de la comptabilité générale | W4: AC4.3 Comprendre l’environnement et le fonctionnement économique et juridique des entreprises et des organisations | X4: ACA4.4 Mobiliser les principaux concepts de la gestion des organisations dans le cadre des analyses en gestion des systèmes d'information. | Y4: ACA4.5 Utiliser les méthodes et techniques de la gestion courante des organisations pour préparer et mettre en œuvre des décisions des organisations. | Z4: AC4.6 Mobiliser les principaux concepts de l'économie (micro-économie, macro-économie), pour la gestion des systèmes d'information des entreprises. | AA4: AC5.1 Utiliser les outils numériques de référence et les règles de sécurité informatique pour acquérir, traiter, produire et diffuser de l’information ainsi que pour collaborer en interne et en externe. | AB4: AC5.2 Identifier, sélectionner et analyser avec esprit critique diverses ressources dans son domaine de spécialité pour documenter un sujet et synthétiser ces données en vue de leur exploitation. | AC4: AC5.3 Analyser et synthétiser des données en vue de leur exploitation. | AD4: AC5.4 Développer une argumentation avec esprit critique. | AE4: AC5.5 Se servir aisément des différents registres d’expression écrite et orale de la langue française. | AF4: AC5.6 Communiquer par oral et par écrit, de façon claire et non-ambiguë, dans au moins une langue étrangère. | AG4: AC5.7 Identifier et situer les champs professionnels potentiellement en relation avec les acquis de la mention ainsi que les parcours possibles pour y accéder. | AH4: AC6.1 Situer son rôle et sa mission au sein d'une organisation pour s'adapter et prendre des initiatives. | AI4: AC6.2 Identifier le processus de production, de diffusion et de valorisation des savoirs. | AJ4: AC6.3 Respecter les principes d’éthique, de déontologie et de responsabilité environnementale. | AK4: AC6.4 Travailler en équipe autant qu’en autonomie et responsabilité au service d’un projet. | AL4: AC6.5 Caractériser et valoriser son identité, ses compétences et son projet professionnel en fonction d’un contexte. | AM4: AC6.6 Analyser ses actions en situation professionnelle, s’auto-évaluer pour améliorer sa pratique. | AN4: AC6.7 Prendre du recul face à une situation.
B5: BC1. RNCP24514BC01 – Identification d’un questionnement au sein d’un champ disciplinaire
B6: C 1.1 – Caractériser les techniques de gestion de l’aléatoire (probabilités et statistique) et leurs rôles dans le traitement de certaines données. | N6: x | P6: X
B7: C 1.2 – Choisir, sur des critères objectifs, les structures de données et construire les algorithmes les mieux adaptés à un problème donné. | D7: X
B8: BC2. RNCP24514BC02 – Analyse d''un questionnement en mobilisant des concepts disciplinaires
B9: C 2.1 – Analyser et interpréter les résultats produits par l'exécution d'un programme. | G9: X
B10: C 2.2 – Identifier les concepts fondamentaux de complexité, calculabilité, décidabilité, vérification : apprécier la complexité et les limites de validité d’une solution. | E10: X
B11: C 2.3 – Identifier et caractériser les principaux éléments fonctionnels et l’architecture matérielle d’un ordinateur, interpréter les informations techniques fournies par les constructeurs, écrire des routines simples en langage machine. | L11: X
B12: C 2.4 – Caractériser le fonctionnement des systèmes et des réseaux, ainsi que les pratiques, outils et techniques visant à assurer la sécurité des systèmes informatiques pendant leur développement et leur utilisation. | M12: X
B13: BC3. RNCP24514BC03 – Mise en œuvre de méthodes et d’outils du champ disciplinaire
B14: C 3.1 – Appliquer des approches raisonnées de résolution de problèmes complexes par décompositions et/ou approximations successives et mettre en œuvre des méthodes d’analyse pour concevoir des applications et algorithmes à partir d’un cahier des charges partiellement donné. | C14: X
B15: C 3.2 – Se servir aisément de plusieurs styles/paradigmes algorithmiques et de programmation (approches impérative, fonctionnelle, objet et multitâche) ainsi que plusieurs langages de programmation. | I15: X
B16: C 3.3 – Concevoir le traitement informatisé d’informations de différentes natures, telles que des données, des images et des textes. | H16: X
B17: C 3.4 – Caractériser le rôle des tests et des preuves de correction dans le développement des logiciels et mettre en œuvre des tests élémentaires et des invariants de boucle. | F17: X
B18: C 3.5 – Expliquer et documenter la mise en œuvre d'une solution technique. | J18: x
B19: C 3.6 – Concevoir, implémenter et exploiter des bases de données. | K19: X
B20: C 3.7 – Caractériser les outils logiques et algébriques fondamentaux (théorie des langages et de la compilation, logique et raisonnement, ordres, induction) et leurs implications dans la programmation et la modélisation. | N20: X
B21: C 3.8 – Construire et rédiger une démonstration mathématique synthétique et rigoureuse. | O21: X | R21: x
B22: C 3.9 – Utiliser un logiciel de calcul formel ou scientifique. | Q22: X
B23: BC4. RNCP24514BC04 – Usages digitaux et numériques
B24: C 4.1 – Utiliser les outils numériques de référence et les règles de sécurité informatique pour acquérir, traiter, produire et diffuser de l’information ainsi que pour collaborer en interne et en externe. | AA24: x
B25: BC5. RNCP24514BC05 – Exploitation de données à des fins d’analyse
B26: C 5.1 – Identifier, sélectionner et analyser avec esprit critique diverses ressources dans son domaine de spécialité pour documenter un sujet et synthétiser ces données en vue de leur exploitation. | AB26: x
B27: C 5.2 – Analyser et synthétiser des données en vue de leur exploitation. | AC27: x
B28: C 5.3 – Développer une argumentation avec esprit critique. | AD28: x
B29: BC6. RNCP24514BC06 – Expression et communication écrites et orales
B30: C 6.1 – Se servir aisément des différents registres d’expression écrite et orale de la langue française. | AE30: x
B31: C 6.2 – Communiquer par oral et par écrit, de façon claire et non-ambiguë, dans au moins une langue étrangère. | AF31: x
B32: BC7. RNCP24514BC07 – Positionnement vis-à-vis d''un champ professionnel
B33: C 7.1 – Identifier et situer les champs professionnels potentiellement en relation avec les acquis de la mention ainsi que les parcours possibles pour y accéder. | AG33: x
B34: C 7.2 – Caractériser et valoriser son identité, ses compétences et son projet professionnel en fonction d’un contexte. | AL34: x
B35: C 7.3 – Identifier le processus de production, de diffusion et de valorisation des savoirs. | AI35: x
B36: BC8. RNCP24514BC08 – Action en responsabilité au sein d''une organisation professionnelle
B37: C 8.1 – Situer son rôle et sa mission au sein d'une organisation pour s’adapter et prendre des initiatives. | AH37: x
B38: C 8.2 – Respecter les principes d’éthique, de déontologie et de responsabilité environnementale. | T38: x | AJ38: x
B39: C 8.3 – Travailler en équipe et en réseau ainsi qu’en autonomie et responsabilité au service d’un projet. | AK39: x
B40: C 8.4 – Analyser ses actions en situation professionnelle, s’autoévaluer pour améliorer sa pratique. | AM40: x

Sheet 3-Maquette parcours
E2: =COUNTIF(CommunMention,"Oui") -> 28 | G2: Total : | K2: =SUM(TotalTP)/2 -> 68 | L2: =SUM(TotalProjetEns)/2 -> 0 | N2: =SUM(TotalECUE)/2 -> 831 | O2: =SUM(TotalProjet)/2 -> 0 | Q2: =SUM(TotalStageEtudiant)/2 -> 0 | R2: =SUM(TotalTutorat)/2 -> 127 | U2: =SUM(TotalECTS)/2 -> 33 | AC2: =COUNTIF(NombreExpression,"x") -> 11 | AD2: =COUNTIF(NombreTEDS,"x") -> 0 | AE2: =COUNTIF(NombreMTU,"x") -> 6 | AF2: =COUNTIF(NombreInformationnelle,"x") -> 6 | AG2: =COUNTIF(NombreNumérique,"x") -> 3 | AH2: =COUNTIF(NombreVSS,"x") -> 1 | AI2: =COUNTIF(NombreInternationale,"x") -> 4 | AJ2: =COUNTIF(NombreProfessionnelle,"x") -> 1 | AK2: =COUNTIF(NombreRecherche,"x") -> 0 | AL2: =COUNTIF(NombreCollab,"x") -> 0 | AT2: =SUM(TotalDistanciel)/2 -> 0 | AU2: =SUM(TotalHybride)/2 -> 11
B3: Titre UE/ECUE | H3: Volumes horaires d'enseignement et d'encadrement pédagogique dans les 1500h réglementaires | O3: Volumes horaires de travail personnel cadré (hors 1500h réglementaires) | S3: Modalités d'évaluation Indiquer ici le mode d'évaluation de la formation -> | X3: Contrôle Continu Intégral | AC3: Correspondance Compétences / UE Compétences transversales réglementaires ou stratégiques OBLIGATOIRE | AS3: Modalités pédagogiques UE/ECUE
B4: Code UE | C4: Libellé UE | D4: Libellé ECUE ou SAC | E4: Commun Mention (Oui/Non) | F4: Typologie principale | G4: Niveau d'acquisition visé | O4: Projet | P4: Stage | R4: Tutorat | S4: Coeff. Par ECUE | T4: Coeff. Par UE (idem ECTS en L, de 1 à 3 en LP) | U4: ECTS OBLIGATOIRE 1=10h ENS / 25h travail étudiant 3 crédits ECTS minimum attribués au niveau de l'UE | V4: MCC (par ECUE ou pour toute l'UE) Ex de libellé : écrit, oral, soutenance, portfolio, SAC, certification en ligne, … | Y4: M3C Contrôle Continu Intégral | AB4: Volume horaire évaluation hors maquette | AC4: (cocher les compétences transversales mobilisées dans les UE. Plusieurs compétences possibles quelque soit la typologie d'UE) | AM4: Compétences Formation UHA ou RNCP | AS4: Format d'enseignement Par défaut, tout présentiel. Vol. horaire d'enseignement uniquement (cf colonne M) | AV4: Mutualisation ou Délégation (Saisir le partenaire)
H5: CM | I5: CI | J5: TD | K5: TP | L5: Projet (encadrement) | M5: Dont évaluation incluse | N5: Total ECUE | O5: Nb heures autonomie étudiant | P5: Heures d'encadrement ENSEIGNANTS | Q5: Durée stage en heures | R5: Nb total d'heures de tutorat allouées | V5: Libellé du type de contrôle en toutes lettres | W5: Libellé du type de contrôle pour étudiants dispensés d'assuidité (si contrôle continue) | X5: Libellé du type de contrôle en seconde session le cas échéant | Y5: Note normale | Z5: Note 2e chance | AA5: Note finale | AC5: Expression | AD5: TEDS | AE5: MTU | AF5: Compétences informationnelles | AG5: VSSH | AH5: Numérique (PIX) | AI5: Internationale | AJ5: Professionnelle | AK5: Initiation recherche | AL5: Projet collaboratif | AM5: Développer des applications | AN5: Gérer un système d’information | AO5: Raisonner et calculer | AP5: Accompagner le fonctionnement de l’entreprise | AQ5: Communiquer et collaborer | AR5: Travailler en milieu professionnel | AS5: Heures Présentiel | AT5: Heures distanciel | AU5: Heures hybrides | AV5: Enseignements mutualisés avec d'autres Formations ou délégués à un service interne (SIO, LC) ou externe (associations...) | AW5: Commentaires/ remarques
B6: L1 2A Informatique
A7: Année 1 | B7: Semestre A | AC7: Licence /LP | AI7: Licence et Master | AK7: Master
B8: BC1 – UE1 | C8: Initiation techniques internet | E8: Non | F8: Socle | G8: Novice | I8: 24 | N8: =SUM(H8:L8) -> 24 | R8: 12 | S8: 1 | V8: écrit, 1 évaluation | AB8: 2 | AM8: x | AS8: =N8 -> 24 | AT8: 0 | AU8: 0 | AW8: Commun L1
B9: BC3 – UE2 | C9: Mathématiques générales A UE supplémentaire Hors Maquette | E9: Non | F9: Tremplin | G9: Novice | I9: 70 | N9: =SUM(H9:L9) -> 70 | R9: 25 | U9: 3 | V9: TD, écrit, Au moins 3 évaluations | X9: multiplicité des évaluations donc seconde chance incluse | AB9: 4 | AO9: x | AS9: =N9 -> 70 | AT9: 0 | AU9: 0
B10: BC5 – UE3 | C10: Transversale A | D10: Langue Anglais | E10: Non | F10: International | G10: Novice | J10: 24 | N10: =SUM(H10:L10) -> 24 | S10: 3 | V10: 3 Examens de TD | AC10: x | AI10: x | AQ10: x | AS10: =N10 -> 24 | AT10: 0 | AU10: 0 | AW10: Commun L1
D11: Module LC1 : découvrir les espaces et les services du LC | E11: Oui | F11: Transversal | G11: Novice | J11: 1 | N11: =SUM(H11:L11) -> 1 | V11: Selon modalités SCD/SIO | AE11: x | AF11: x | AQ11: x | AS11: 0 | AT11: 0 | AU11: 1 | AV11: LC | AW11: Commun L1
D12: Violences Sexistes et Sexuelles et Homophobes | E12: Oui | F12: Transversal | G12: Novice | V12: Pas de note attendue, présence obligatoire | AG12: x | AW12: Commun L1
D13: Module LC2 : chercher de l’information | E13: Oui | F13: Tremplin | G13: Novice | J13: 2 | N13: =SUM(H13:L13) -> 2 | V13: Selon modalités SCD/SIO | AE13: x | AF13: x | AQ13: x | AS13: 0 | AT13: 0 | AU13: 3 | AV13: LC | AW13: Commun L1
D14: Outils informatiques | E14: Non | F14: Transversal | G14: Novice | K14: 8 | N14: =SUM(H14:L14) -> 8 | S14: 1 | V14: Examen sur Moodle 1h | AH14: x | AQ14: x | AS14: =N14 -> 8 | AT14: 0 | AU14: 0 | AW14: Commun L1
D15: Atelier usages numériques | E15: Oui | F15: Transversal | G15: Novice | J15: 3 | N15: 3 | V15: Selon modalités SCD/SIO | AW15: Commun L1
D16: Module SIO1 : motivation | E16: Oui | F16: Tremplin | G16: Novice | J16: 2,5 | N16: 2.5 | V16: Selon modalités SCD/SIO | AC16: x | AE16: x | AF16: x | AQ16: x | AS16: =N16 -> 2.5 | AT16: 0 | AU16: 0 | AV16: SIO
D17: Module SIO2 : connaissance de soi | E17: Oui | F17: Tremplin | G17: Novice | J17: 3 | N17: =SUM(H17:L17) -> 3 | V17: Selon modalités SCD/SIO | AC17: x | AE17: x | AF17: x | AQ17: x | AS17: =N17 -> 3 | AT17: 0 | AU17: 3 | AV17: SIO
E18: TOTAUX SEMESTRE par colonne : | H18: =SUM(H8:H17) -> 0 | J18: =SUM(J8:J17) -> 33 | K18: =SUM(K8:K17) -> 8 | L18: =SUM(L8:L17) -> 0 | N18: =SUM(N8:N17) -> 137.5 | O18: =SUM(O8:O17) -> 0 | P18: =SUM(P8:P17) -> 0 | Q18: =SUM(Q8:Q17) -> 0 | R18: =SUM(R8:R17) -> 37 | AB18: =SUM(AB8:AB17) -> 6 | AS18: =SUM(AS8:AS17) -> 131.5 | AT18: =SUM(AT8:AT17) -> 0 | AU18: =SUM(AU8:AU17) -> 7
B19: Semestre B
B20: BC1 – UE1 | C20: Informatique | E20: Non | F20: Socle | G20: Novice | I20: 36 | K20: 10 | N20: =SUM(H20:L20) -> 46 | R20: 18 | S20: 6 | V20: TD, TP, écrit, Au moins 4 évaluations | AB20: 2 | AM20: x | AS20: =N20 -> 46 | AT20: 0 | AU20: 0 | AW20: Commun L1
F21: Tremplin | I21: 14 | N21: =SUM(H21:L21) -> 14
B22: BC3 – UE2 | C22: Mathématiques générales B UE supplémentaire Hors Maquette | E22: Non | F22: Tremplin | G22: Novice | I22: 70 | N22: =SUM(H22:L22) -> 70 | R22: 28 | U22: 3 | V22: TD, écrit, Au moins 3 évaluations | X22: multiplicité des évaluations donc seconde chance incluse | AB22: 4 | AO22: x | AS22: =N22 -> 70 | AT22: 0 | AU22: 0 | AW22: ECTS hors maquette
B23: BC5 – UE4 | C23: Transversale B | D23: Langue Allemand | E23: Non | F23: International | G23: Novice | J23: 24 | N23: =SUM(H23:L23) -> 24 | S23: 2 | V23: TD, Au moins 3 évaluations | AC23: x | AI23: x | AQ23: x | AS23: =N23 -> 24 | AT23: 0 | AU23: 0 | AW23: Commun L1
D24: Techniques d'expression écrite | E24: Non | F24: Transversal | G24: Novice | J24: 12 | N24: =SUM(H24:L24) -> 12 | S24: 1 | V24: écrit | AC24: x | AQ24: x | AS24: =N24 -> 12 | AT24: 0 | AU24: 0 | AW24: Commun L1
D25: Documentation Numérique | E25: Non | F25: Transversal | G25: Novice | J25: 24 | N25: =SUM(H25:L25) -> 24 | S25: 1 | V25: écrit | AB25: 1 | AH25: x | AQ25: x | AS25: =N25 -> 24 | AT25: 0 | AU25: 0 | AW25: Commun L1
D26: Outils web pour préparation certification numérique (PIX) | E26: Non | F26: Transversal | G26: Novice | J26: 4 | N26: =SUM(H26:L26) -> 4 | V26: Selon les modalités définies par le responsable | AH26: x | AQ26: x | AS26: =N26 -> 4 | AT26: 0 | AU26: 0
D27: Module LC6 : découvrir les bonnes pratiques de l’IA à l’université | E27: Non | F27: Tremplin | I27: 3 | N27: =SUM(G27:K27) -> 3 | V27: Selon les modalités définies par le responsable
D28: Module SIO4 : poursuite d'études | E28: Non | F28: Tremplin | G28: Novice | J28: 4 | N28: =SUM(H28:L28) -> 4 | V28: Selon les modalités définies par le responsable | AC28: x | AE28: x | AF28: x | AQ28: x | AS28: 0 | AT28: 0 | AU28: =N28 -> 4
E29: TOTAUX SEMESTRE par colonne : | H29: =SUM(H20:H28) -> 0 | I29: =SUM(I20:I28) -> 123 | J29: =SUM(J20:J28) -> 68 | K29: =SUM(K20:K28) -> 10 | L29: =SUM(L20:L28) -> 0 | N29: =SUM(N20:N28) -> 201 | O29: =SUM(O20:O28) -> 0 | P29: =SUM(P20:P28) -> 0 | Q29: =SUM(Q20:Q28) -> 0 | R29: =SUM(R20:R28) -> 46 | AB29: =SUM(AB20:AB28) -> 7 | AS29: =SUM(AS20:AS28) -> 180 | AT29: =SUM(AT20:AT28) -> 0 | AU29: =SUM(AU20:AU28) -> 4
A30: Année 2 | B30: Semestre C
B31: BC1 – UE1 | C31: Algorithmique et programmation 1 | E31: Non | F31: Socle | G31: Novice | I31: 36 | K31: 10 | N31: =SUM(I31:L31) -> 46 | R31: 18 | T31: 8 | U31: 7 | V31: TD, TP, écrit, Au moins 4 évaluations | X31: Règle calcul moyenne modulée | Y31: AP = (TP+2*EC1+2*EC2)/5 | Z31: AP_2 = (1,5*TP+3,5*EC1+5*EC2)/10 | AA31: AP_F = Max(AP, AP_2) | AB31: 2 | AM31: x | AS31: =N31 -> 46 | AT31: 0 | AU31: 0 | AW31: Commun L1 - mutualisé - report note sem B si réussite
F32: Tremplin | G32: Novice | I32: 14 | N32: =SUM(I32:L32) -> 14
B33: BC1 - UE1 | C33: Informatique | E33: Non | F33: Socle | I33: 16 | K33: 8 | T33: 3.9 | U33: 3 | V33: TD, écrit, Au moins 3 évaluations | X33: Règle calcul moyenne modulée | Y33: Info = (TD1+TD2+2*EC)/4 | Z33: Info_2 = (TD1+2*TD2+3*EC)/6 | AA33: Info_F = max(Info, Info_2)
B34: BC3 – UE2 | C34: Mathématiques générales C UE supplémentaire Hors Maquette | E34: Non | F34: Tremplin | G34: Novice | I34: 40 | N34: =SUM(I34:L34) -> 40 | R34: 26 | U34: 3 | V34: TD, écrit, Au moins 3 évaluations | X34: multiplicité des évaluations donc seconde chance incluse | AB34: 4 | AO34: x | AS34: =N34 -> 40 | AT34: 0 | AU34: 0 | AW34: ECTS hors maquette
B35: BC3 – UE3 | C35: Raisonnement et structures algébriques | D35: Raisonnement et rédaction mathématique | E35: Oui | F35: Socle | G35: Novice | I35: 12 | N35: 12 | S35: 1 | T35: 3.1 | U35: 3 | V35: EC écrit 1h30 | X35: 1 examen de TD 30 min (cf. Règle_2nde_chance_Maths_28_06_2024.pdf) | AW35: Commun L1 - mutualisé
D36: Introduction aux structures algébriques | E36: Oui | F36: Socle | G36: Novice | I36: 12 | N36: 12 | S36: 1 | V36: EC écrit 1h30 | X36: 1 examen de TD 30 min (cf. Règle_2nde_chance_Maths_28_06_2024.pdf) | AW36: Commun L1 - mutualisé
B37: BC3 – UE4 | C37: UE Analyse 1 | E37: Oui | F37: Socle | G37: Novice | I37: 48 | N37: 48 | T37: 6 | U37: 5 | V37: Au moins 2 examens de TD (coef 1), EC1 écrit 2h (coef 1), EC2 écrit 2h (coef 1) | X37: Neutralisation de la plus mauvaise note de TD | AW37: Commun L1 - mutualisé
B38: BC3 – UE5 | C38: UE Nombres complexes et arithmétique | E38: Oui | F38: Socle | G38: Novice | I38: 36 | N38: 36 | T38: 3.9 | U38: 3 | V38: TD, écrit | X38: Règle calcul moyenne modulée (cf. Règle_2nde_chance_Maths_28_06_2024.pdf) | AW38: Commun L1 - mutualisé
B39: BC3 – UE5 | C39: Environnement | E39: Oui | F39: Transversal | G39: Novice | J39: 22 | N39: =SUM(H39:L39) -> 22 | T39: =U39 -> 3 | U39: 3 | V39: TD, écrit, Au moins 3 évaluations | X39: Règle calcul moyenne modulée | Y39: Env = (TD+EC1+EC2)/3 | Z39: Env_2 = (TD+2*EC1+3*EC2)/6 | AA39: Env_F = max(Env, Env_2) | AW39: Commun L1 - mutualisé
B40: BC5 – UE6 | C40: Projet Professionnel 1 | T40: 4.6 | U40: 6 | Y40: PP = (3*Anglais+OI+DN+PPP)/5 | AA40: PP_F = (3*Anglais_F+OI_F+DN_F+PPP_F)/5 | AC40: x | AI40: x | AQ40: x | AS40: =#REF! -> #REF! | AT40: 0 | AU40: 0 | AW40: Commun L1 - mutualisé
D41: Langue Anglais | E41: Oui | F41: International | G41: Novice | J41: 24 | N41: =SUM(H41:L41) -> 24 | S41: 3 | V41: TD, Au moins 2 évaluations | X41: Règle calcul moyenne modulée | Y41: Anglais = moyenne notes TD | Z41: Anglais_2 = moyenne alternative | AA41: Anglais_F =max(Anglais, Anglais_2) | AC41: x | AJ41: x | AQ41: x | AS41: =#REF! -> #REF! | AT41: 0 | AU41: 0 | AW41: Commun L1 - mutualisé - report note sem A si réussite
...

Sheet 4-Réorientation
A1: Décrire les possibilités de réorientation dans ce parcours (Une réorientation doit être prévue en fin de L1)

Sheet 5-Commentaires
A1: Commentaires
A2: La séparation des UEs sur 2 années ne permet de faire apparaitre les ECTS , il convient alors de se référer au M3C de la mention. La remise à niveau en Math sur les 3 premiers semestre permet d'acquérir 9 ECTS hors maquette valorisant ainsi l'investissement des ces étudiants.
A4: Les ressources "Commun L1" contribuent à l'obtention des UEs définit la L1 grâce à un contrat pédagogique qui reporte la note obtenue . Les MCC sont donc celles misent en œuvre dans la mention.
A6: Commun L1 mutualisé - les etudiants sont intégrés à la promo suivante pour minimiser les couts au regard du faible effectif.
A8: Le redoublement en L1 est soumis à l'avis du jury.

Sheet 6-Indicateurs
A1: Licence / Licence professionnelle / Master
A2: Maquette pédagogique de formation pour l'accréditation 2024-2028
A4: Mention : | B4: Informatique
A6: Parcours : | B6: L12A (première année en 2 ans)
A8: Référent Parcours Etudiant : | B8: Stéphane Rivière ???
A10: Laboratoire (masters uniquement) :
A14: Socle | B14: Ouvert | C14: International | D14: Transversal | E14: Tremplin
A15: =D28 -> #REF! | B15: =D34 -> #REF! | C15: =D32 -> #REF! | D15: =D30 -> #REF! | E15: 0
A18: Indicateurs de la lettre de cadrage
D19: Les cellules en bleu des colonnes D et E deviennent vertes lorsque l'indicateur est validé. Les cellules en gris sont des informations qui aident à la validation.
A20: Indicateur | B20: Modalités de calcul | C20: Exigences à respecter | D20: Résultats des formules de calcul | E20: Validation (manuelle) : oui/non
A21: Le tableau de correspondance BC RNCP-BC Formation est renseigné | B21: Validation manuelle | C21: Livrable 1 | D21: N/A | E21: Non
A22: Une coordination des Parcours Etudiant est désignée dans la maquette. | B22: La cellule B8 est renseignée | C22: Une coordination des Parcours est désignée. Elle prend en charge le suivi administratif et pédagogique des parcours personnalisés (loi ORE) | D22: =IF(ISBLANK(B8),"Non","Oui") -> Oui | E22: Non
A23: La maquette fait apparaître des passerelles et réorientations | B23: La cellule A2 de l'onglet 4 est complétée | C23: Prévoir au moins une réorientation en fin de L1 (vérifier manuellement que c'est en fin de L1) | D23: =IF(ISBLANK('4-Réorientation'!A2),"Non","Oui") -> Non | E23: Non
A24: Volumes horaires à expliciter | B24: Renseigner les volumes horaires (CM, CI, TD, TP, Projet, Stage, tutorat, présentiel, distanciel, hybride). Si la modalité pédagogique n'est pas utilisée, inscrire 0 | C24: Si renseigné, alors présent, sinon absent (à vérifier comme pour les compétences transversales obligatoires) | E24: Non
A25: Total heures hors UE tremplin | B25: Sommes heures "Total ECUE" colonne M moins heures tremplin | C25: Max 1500h Licence/ 1450 Max LP (vérifier manuellement les totaux par semestre : 450 LP3, LP3 obligatoirement en alternance)/ 800 Max pour Master/ Minimum 402h pour alternance en LP / 400H pour Master | D25: ='3-Maquette parcours'!N2-SUMIF(TypologiePrincipale,"Tremplin",TotalMaquette) -> #REF! | E25: Non
A26: Total heures avec tremplin | B26: Total heures "Total ECUE" (colonne M) | C26: Vérification manuelle des seuils : Max 1600 Tremplin 2 (publics hétérogènes hors Oui-Si, publics empêchés, parcours spécifiques professionnalisants) Max 1800h (Tremplin 1 : Oui-Si) | D26: ='3-Maquette parcours'!N2 -> 831 | E26: Non
A27: Spécialisation progressive : Pourcentage de parcours commun à la mention | B27: Total des heures maquettes pour les ECUE ayant "oui" dans la colonne "Commun Mention" / total des heures hors tremplin x 100 | C27: Vérifier manuellement l'attribution des ECTS sur les parcours : 45 ECTS en tout en L1 et 30 ECTS en L2 ou 75 ECTS lissés en L1 et L2 (soit environ 42%) | D27: =SUMIF(CommunL1L2,"Oui",TotalMaquette)/1000*100 -> #REF! | E27: Non
A28: Total Socle | B28: Somme des Heures Socle (disciplinaires) | C28: max 80% du volume horaire total (1200-1300h max) | D28: =SUMIF(TypologiePrincipale,"Socle",TotalMaquette) -> #REF! | E28: Non
A29: % Socle/ Ensemble du cursus | B29: (Somme des Heures ENS. Socle/ Somme des heures ENS.(hors tremplin))*100 | C29: L: Socle <80% des heures cursus vérif manuelle : Max 21 ECTS au S1, 24 ECTS au S2 | D29: =D28/D25*100 -> #REF! | E29: Non
A30: Total Transversal | B30: Somme des Heures (ENS.) Transversales | C30: L : 6 ECTS (soit environ 50h au total) | D30: =SUMIF(TypologiePrincipale,"Transversal",TotalMaquette) -> #REF! | E30: Non
A31: Ratio Transversales/Nbre heures total Cursus | B31: (Somme des Heures ENS. Transversales / Somme des heures ENS.(hors tremplin))*100 | C31: L : 3% du volume total cursus (6ECTS minimum) | D31: =D30/D25*100 -> #REF! | E31: Non
A32: Total Heures Internationales | B32: Somme des Heures (ENS.) Internationales | C32: Vérification manuelle : L : 144h environ dont 24h de LanSad par semestre / interculturalité recommandée LP : 24h par semestre excepté sur le semestre consacré au stage long. LP : langues appliquées aux compétences disciplinaires M (LanSad sur 3 semestres obligatoires en Master) NOTA : Possibilité équivalence stage à l'étranger et modules EPICUR, EUCOR L,LP, M... | D32: =SUMIF(TypologiePrincipale,"International",TotalMaquette) -> #REF! | E32: Non
A33: Ratio Internationale/Nbre heures total Cursus | B33: (Somme des Heures ENS. UE Internationale / Somme des heures ENS.(hors tremplin))*100 | C33: L : 6% du volume total cursus | D33: =D32/D25*100 -> #REF! | E33: Non
A34: Total Heures Ouvertes | B34: Somme des Heures (ENS.) UE Ouverte | C34: Vérification manuelle : L : 6 ECTS minimum LP : Au moins 1 UE libre par an. Mise en situation = au moins 1/3 des ECTS en LP. M : module de préparation à l'insertion professionnelle obligatoire | D34: =SUMIF(TypologiePrincipale,"Ouvert",TotalMaquette) -> #REF! | E34: Non
A35: Ratio Ouvertes/Nbre heures total Cursus | B35: (Somme des Heures ENS. UE Ouverte/ Somme des heures ENS.(hors tremplin))*100 | C35: L : 3% minimum du volume total cursus | D35: =D34/D25*100 -> #REF! | E35: Non
A36: Total stage L et M | B36: Sommes heures de stage ENS+ETU | C36: Vérif manuelle : L : Au moins un stage ou projet tutoré en licence, de durée libre. M : stage de 8 semaines pour les masters généralistes (280h) et 4 mois minimum pour les master pros (600h) | D36: ='3-Maquette parcours'!Q2 -> 0 | E36: Non
A37: Total stage LP | B37: Sommes heures de stage ENS+ETU : validé à partir de 140h | C37: LP: 140h minimum (4 semaines) Vérification manuelle : 2 stages a minima sur le cursus : 1 de 4 semaines LP1, LP2 et 1 de 12 à 16 semaines pour les LP en 1 an. LP3 exclusivement en alternance. | D37: ='3-Maquette parcours'!Q2 -> 0 | E37: Non
A38: Heures soutien et remédiation | B38: Sommes heures tutorat (linguistique, méthodologique+positionnement+remédiation) | C38: Seul le calcul des heures tutorat (colonne T) est automatisé. A vérifier manuellement : Tutorat + ressources ou ECUE liées à soutien ou accompagnement dont UE tremplin | D38: ='3-Maquette parcours'!R2 -> 127 | E38: Non
A39: Total pédagogie diversifiée (pédagogie active) | B39: Somme heures hybridation+distanciel+projet (Enseignant et étudiant) | C39: 150h en pédagogie diversifiée (active) sur l'ensemble du cursus en UE socle. A vérifier manuellement : les commentaires sur les dispositifs de pédagogie active (onglet commentaire). | D39: ='3-Maquette parcours'!O2+'3-Maquette parcours'!AT2+'3-Maquette parcours'!AU2 -> 11 | E39: Non
A40: Total projets tutorés (encadrés par enseignant) | B40: Sommes heures projets ENS+ETU | C40: LP : 150h à minima | D40: ='3-Maquette parcours'!L2+'3-Maquette parcours'!O2 -> 0 | E40: Non
A41: Total heures en TP | B41: Somme des heures de TP | C41: Min 150h pour pouvoir bénéficier 100h supplémentaires hybrides dans les filières scientifiques (vérif manuelle : obtention du label hybridation) | D41: ='3-Maquette parcours'!K2 -> 68 | E41: Non
A42: Des SAC sont proposées | B42: Validation manuelle (colonnes C et/ou U) | C42: Au moins 1 SAC/an à partir de 2025; 3 SAC en 2028 | D42: N/A | E42: Non
A43: Compétences transversales présentes (Licence + Licence Pro) | B43: Toutes les compétences des colonnes X à AG doivent être cochées au moins une fois | C43: ='3-Maquette parcours'!AC5 -> Expression | D43: =IF('3-Maquette parcours'!AC2>0,"Présent","Absent") -> Présent | E43: Non | F43: au moins 30h de TEDS au moins 6h de MTU en S1 en L NOTA : Compétences informationnelles correspond à Initiation à la recherche (documentaire) dans la lettre de cadrage
C44: ='3-Maquette parcours'!AD5 -> TEDS | D44: =SUMIF(NombreTEDS,"x",TotalECUE) -> 0 | E44: Non
C45: ='3-Maquette parcours'!AE5 -> MTU | D45: =SUMIF(NombreMTU,"x",TotalECUE) -> 35.5 | E45: Non
C46: ='3-Maquette parcours'!AH5 -> Numérique (PIX) | D46: =IF('3-Maquette parcours'!AH2>0,"Présent","Absent") -> Présent | E46: Non
C47: ='3-Maquette parcours'!AF5 -> Compétences informationnelles | D47: =IF('3-Maquette parcours'!AF2>0,"Présent","Absent") -> Présent | E47: Non
C48: ='3-Maquette parcours'!AG5 -> VSSH | D48: =IF('3-Maquette parcours'!AG2>0,"Présent","Absent") -> Présent | E48: Non
A49: Compétences transversales présentes (Licence + LP + Master) | C49: ='3-Maquette parcours'!AH5 -> Numérique (PIX) | D49: =IF('3-Maquette parcours'!AH2>0,"Présent","Absent") -> Présent | E49: Non
...
