Workbook
Name BCC: '[1]2-Référentiel UHA'!$A$3:$B$419
Name BCC: '[2]2-Référentiel UHA'!$A$3:$B$419
Name CommunL1L2: '3-Maquette parcours'!$D$7:$D$65
Name CommunMention: '[1]3-Maquette Licence Parcours x'!$H$5:$H$1048576
Name CommunMention: '3-Maquette parcours'!$D$7:$D$1048576
Name ECTS: '[1]3-Maquette Licence Parcours x'!$V$2:$V$1048576
Name ECTS: '[2]3-Maquette Licence Parcours x'!$V$2:$V$1048576
Name NombreCollab: '3-Maquette parcours'!$AH$7:$AH$1048576
Name NombreExpression: '3-Maquette parcours'!$Y$7:$Y$1048576
Name NombreInformationnelle: '3-Maquette parcours'!$AB$7:$AB$1048576
Name NombreInternationale: '3-Maquette parcours'!$AE$7:$AE$1048576
Name NombreMTU: '3-Maquette parcours'!$AA$7:$AA$1048576
Name NombreNumerique: '3-Maquette parcours'!#REF!
Name NombreNumérique: '3-Maquette parcours'!$AD$7:$AD$810
Name NombreProfessionnelle: '3-Maquette parcours'!$AF$7:$AF$1048576
Name NombreRecherche: '3-Maquette parcours'!$AG$7:$AG$1048576
Name NombreSAC: '3-Maquette parcours'!#REF!
Name NombreTEDS: '3-Maquette parcours'!$Z$7:$Z$1048576
Name NombreVSS: '3-Maquette parcours'!$AC$7:$AC$1048576
Name Ressources: '[1]4-Corres. Compétences-Ressource'!$E$2:$AX$2
Name Ressources: '[2]4-Corres. Compétences-Ressource'!$E$2:$AX$2
Name TotalCI: '[1]3-Maquette Licence Parcours x'!$J$5:$J$1048576
Name TotalCI: '[2]3-Maquette Licence Parcours x'!$J$5:$J$1048576
Name TotalCM: '[1]3-Maquette Licence Parcours x'!$K$5:$K$1048576
Name TotalCM: '[2]3-Maquette Licence Parcours x'!$K$5:$K$1048576
Name TotalDistanciel: '[1]3-Maquette Licence Parcours x'!$AO$5:$AO$1048576
Name TotalDistanciel: '3-Maquette parcours'!$AN$7:$AN$1048576
Name TotalECTS: '3-Maquette parcours'!$T$7:$T$1048576
Name TotalECUE: '3-Maquette parcours'!$M$5:$M$1048576
Name TotalHeuresEns: '[1]3-Maquette Licence Parcours x'!$O$5:$O$1048576
Name TotalHeuresEns: '[2]3-Maquette Licence Parcours x'!$O$5:$O$1048576
Name TotalHybride: '3-Maquette parcours'!$AO$7:$AO$1048576
Name TotalMaquette: '[1]3-Maquette Licence Parcours x'!#REF!
Name TotalMaquette: '3-Maquette parcours'!$AQ$7:$AQ$1048576
Name TotalProjet: '[1]3-Maquette Licence Parcours x'!#REF!
Name TotalProjet: '3-Maquette parcours'!$N$7:$N$1048576
Name TotalProjetAutonomie: '[1]3-Maquette Licence Parcours x'!$Q$5:$Q$1048576
Name TotalProjetAutonomie: '[2]3-Maquette Licence Parcours x'!$Q$5:$Q$1048576
Name TotalProjetEncadrement: '[1]3-Maquette Licence Parcours x'!$N$5:$N$1048576,'[1]3-Maquette Licence Parcours x'!$N$2,'[1]3-Maquette Licence Parcours x'!$G$2
Name TotalProjetEncadrement: '[2]3-Maquette Licence Parcours x'!$N$5:$N$1048576,'[2]3-Maquette Licence Parcours x'!$N$2,'[2]3-Maquette Licence Parcours x'!$G$2
Name TotalProjetEns: '3-Maquette parcours'!$K$7:$K$1048576
Name TotalStage: '[1]3-Maquette Licence Parcours x'!$S$5:$S$1048576
Name TotalStage: '[2]3-Maquette Licence Parcours x'!$S$5:$S$1048576
Name TotalStageEtudiant: '3-Maquette parcours'!$P$7:$P$1048576
Name TotalTD: '[1]3-Maquette Licence Parcours x'!$L$5:$L$1048576
Name TotalTD: '[2]3-Maquette Licence Parcours x'!$L$5:$L$1048576
Name TotalTP: '[1]3-Maquette Licence Parcours x'!$M$5:$M$1048576
Name TotalTP: '3-Maquette parcours'!$J$7:$J$1048576
Name TotalTutorat: '[1]3-Maquette Licence Parcours x'!$T$5:$T$1048576
Name TotalTutorat: '3-Maquette parcours'!$Q$7:$Q$1048576
Name TypologiePrincipale: '[1]3-Maquette Licence Parcours x'!$I$5:$I$1048576
Name TypologiePrincipale: '3-Maquette parcours'!$E$7:$E$1048576
Name VolumeHoraire: '[1]3-Maquette Licence Parcours x'!$O$2:$O$1048576
Name VolumeHoraire: '[2]3-Maquette Licence Parcours x'!$O$2:$O$1048576

Sheet Feuil1
A1: =IF(#REF!="Ouvert",#REF!+#REF!+#REF!+#REF!+#REF!," ") -> #REF! | B1: =IF(#REF!="Transversal",#REF!+#REF!+#REF!+#REF!+#REF!," ") -> #REF! | C1: =IF(#REF!="Socle",#REF!+#REF!+#REF!+#REF!+#REF!," ") -> #REF! | H1: Somme H UE Ouverte | I1: =SUM(A:A) -> #REF!
A2: =IF(#REF!="Ouvert",#REF!+#REF!+#REF!+#REF!+#REF!," ") -> #REF! | B2: =IF(#REF!="Transversal",#REF!+#REF!+#REF!+#REF!+#REF!," ") -> #REF! | C2: =IF(#REF!="Socle",#REF!+#REF!+#REF!+#REF!+#REF!," ") -> #REF!
A3: =IF(#REF!="Ouvert",#REF!+#REF!+#REF!+#REF!+#REF!," ") -> #REF! | B3: =IF(#REF!="Transversal",#REF!+#REF!+#REF!+#REF!+#REF!," ") -> #REF! | C3: =IF(#REF!="Socle",#REF!+#REF!+#REF!+#REF!+#REF!," ") -> #REF!
A4: =IF(#REF!="Ouvert",#REF!+#REF!+#REF!+#REF!+#REF!," ") -> #REF! | B4: =IF(#REF!="Transversal",#REF!+#REF!+#REF!+#REF!+#REF!," ") -> #REF! | C4: =IF(#REF!="Socle",#REF!+#REF!+#REF!+#REF!+#REF!," ") -> #REF!
A5: =IF(#REF!="Ouvert",#REF!+#REF!+#REF!+#REF!+#REF!," ") -> #REF! | B5: =IF(#REF!="Transversal",#REF!+#REF!+#REF!+#REF!+#REF!," ") -> #REF! | C5: =IF(#REF!="Socle",#REF!+#REF!+#REF!+#REF!+#REF!," ") -> #REF!
A6: =IF(#REF!="Ouvert",#REF!+#REF!+#REF!+#REF!+#REF!," ") -> #REF! | B6: =IF(#REF!="Transversal",#REF!+#REF!+#REF!+#REF!+#REF!," ") -> #REF! | C6: =IF(#REF!="Socle",#REF!+#REF!+#REF!+#REF!+#REF!," ") -> #REF!
A7: =IF(#REF!="Ouvert",#REF!+#REF!+#REF!+#REF!+#REF!," ") -> #REF! | B7: =IF(#REF!="Transversal",#REF!+#REF!+#REF!+#REF!+#REF!," ") -> #REF! | C7: =IF(#REF!="Socle",#REF!+#REF!+#REF!+#REF!+#REF!," ") -> #REF!
A8: =IF(#REF!="Ouvert",#REF!+#REF!+#REF!+#REF!+#REF!," ") -> #REF! | B8: =IF(#REF!="Transversal",#REF!+#REF!+#REF!+#REF!+#REF!," ") -> #REF! | C8: =IF(#REF!="Socle",#REF!+#REF!+#REF!+#REF!+#REF!," ") -> #REF!
A9: =IF(#REF!="Ouvert",#REF!+#REF!+#REF!+#REF!+#REF!," ") -> #REF! | B9: =IF(#REF!="Transversal",#REF!+#REF!+#REF!+#REF!+#REF!," ") -> #REF! | C9: =IF(#REF!="Socle",#REF!+#REF!+#REF!+#REF!+#REF!," ") -> #REF!
A10: =IF(#REF!="Ouvert",#REF!+#REF!+#REF!+#REF!+#REF!," ") -> #REF! | B10: =IF(#REF!="Transversal",#REF!+#REF!+#REF!+#REF!+#REF!," ") -> #REF! | C10: =IF(#REF!="Socle",#REF!+#REF!+#REF!+#REF!+#REF!," ") -> #REF!
A11: =IF(#REF!="Ouvert",#REF!+#REF!+#REF!+#REF!+#REF!," ") -> #REF! | B11: =IF(#REF!="Transversal",#REF!+#REF!+#REF!+#REF!+#REF!," ") -> #REF! | C11: =IF(#REF!="Socle",#REF!+#REF!+#REF!+#REF!+#REF!," ") -> #REF!
A12: =IF(#REF!="Ouvert",#REF!+#REF!+#REF!+#REF!+#REF!," ") -> #REF! | B12: =IF(#REF!="Transversal",#REF!+#REF!+#REF!+#REF!+#REF!," ") -> #REF! | C12: =IF(#REF!="Socle",#REF!+#REF!+#REF!+#REF!+#REF!," ") -> #REF!
A13: =IF(#REF!="Ouvert",#REF!+#REF!+#REF!+#REF!+#REF!," ") -> #REF! | B13: =IF(#REF!="Transversal",#REF!+#REF!+#REF!+#REF!+#REF!," ") -> #REF! | C13: =IF(#REF!="Socle",#REF!+#REF!+#REF!+#REF!+#REF!," ") -> #REF!
... A21: =IF(#REF!="Ouvert",#REF!+#REF!+#REF!+#REF!+#REF!," ") -> #REF! | B21: =IF(#REF!="Transversal",#REF!+#REF!+#REF!+#REF!+#REF!," ") -> #REF! | C21: =IF(#REF!="Socle",#REF!+#REF!+#REF!+#REF!+#REF!," ") -> #REF!
A22: =IF(#REF!="Ouvert",#REF!+#REF!+#REF!+#REF!+#REF!,0) -> #REF! | B22: =IF(#REF!="Transversal",#REF!+#REF!+#REF!+#REF!+#REF!," ") -> #REF! | C22: =IF(#REF!="Socle",#REF!+#REF!+#REF!+#REF!+#REF!," ") -> #REF!
A23: =IF(#REF!="Ouvert",#REF!+#REF!+#REF!+#REF!+#REF!,0) -> #REF! | B23: =IF(#REF!="Transversal",#REF!+#REF!+#REF!+#REF!+#REF!," ") -> #REF! | C23: =IF(#REF!="Socle",#REF!+#REF!+#REF!+#REF!+#REF!," ") -> #REF!
A24: =IF(#REF!="Ouvert",#REF!+#REF!+#REF!+#REF!+#REF!,0) -> #REF! | B24: =IF(#REF!="Transversal",#REF!+#REF!+#REF!+#REF!+#REF!," ") -> #REF! | C24: =IF(#REF!="Socle",#REF!+#REF!+#REF!+#REF!+#REF!," ") -> #REF!
A25: =IF(#REF!="Ouvert",#REF!+#REF!+#REF!+#REF!+#REF!,0) -> #REF! | B25: =IF(#REF!="Transversal",#REF!+#REF!+#REF!+#REF!+#REF!," ") -> #REF! | C25: =IF(#REF!="Socle",#REF!+#REF!+#REF!+#REF!+#REF!," ") -> #REF!
A26: =IF(#REF!="Ouvert",#REF!+#REF!+#REF!+#REF!+#REF!,0) -> #REF! | B26: =IF(#REF!="Transversal",#REF!+#REF!+#REF!+#REF!+#REF!," ") -> #REF! | C26: =IF(#REF!="Socle",#REF!+#REF!+#REF!+#REF!+#REF!," ") -> #REF!
A27: =IF(#REF!="Ouvert",#REF!+#REF!+#REF!+#REF!+#REF!,0) -> #REF! | B27: =IF(#REF!="Transversal",#REF!+#REF!+#REF!+#REF!+#REF!," ") -> #REF! | C27: =IF(#REF!="Socle",#REF!+#REF!+#REF!+#REF!+#REF!," ") -> #REF!
A28: =IF(#REF!="Ouvert",#REF!+#REF!+#REF!+#REF!+#REF!,0) -> #REF! | B28: =IF(#REF!="Transversal",#REF!+#REF!+#REF!+#REF!+#REF!," ") -> #REF! | C28: =IF(#REF!="Socle",#REF!+#REF!+#REF!+#REF!+#REF!," ") -> #REF!
A29: =IF(#REF!="Ouvert",#REF!+#REF!+#REF!+#REF!+#REF!,0) -> #REF! | B29: =IF(#REF!="Transversal",#REF!+#REF!+#REF!+#REF!+#REF!," ") -> #REF! | C29: =IF(#REF!="Socle",#REF!+#REF!+#REF!+#REF!+#REF!," ") -> #REF!
A30: =IF(#REF!="Ouvert",#REF!+#REF!+#REF!+#REF!+#REF!,0) -> #REF! | B30: =IF(#REF!="Transversal",#REF!+#REF!+#REF!+#REF!+#REF!," ") -> #REF! | C30: =IF(#REF!="Socle",#REF!+#REF!+#REF!+#REF!+#REF!," ") -> #REF!
A31: =IF(#REF!="Ouvert",#REF!+#REF!+#REF!+#REF!+#REF!,0) -> #REF! | B31: =IF(#REF!="Transversal",#REF!+#REF!+#REF!+#REF!+#REF!," ") -> #REF! | C31: =IF(#REF!="Socle",#REF!+#REF!+#REF!+#REF!+#REF!," ") -> #REF!
A32: =IF(#REF!="Ouvert",#REF!+#REF!+#REF!+#REF!+#REF!,0) -> #REF! | B32: =IF(#REF!="Transversal",#REF!+#REF!+#REF!+#REF!+#REF!," ") -> #REF! | C32: =IF(#REF!="Socle",#REF!+#REF!+#REF!+#REF!+#REF!," ") -> #REF!
A33: =IF(#REF!="Ouvert",#REF!+#REF!+#REF!+#REF!+#REF!,0) -> #REF! | B33: =IF(#REF!="Transversal",#REF!+#REF!+#REF!+#REF!+#REF!," ") -> #REF! | C33: =IF(#REF!="Socle",#REF!+#REF!+#REF!+#REF!+#REF!," ") -> #REF!
... A71: =IF(#REF!="Ouvert",#REF!+#REF!+#REF!+#REF!+#REF!,0) -> #REF! | B71: =IF(#REF!="Transversal",#REF!+#REF!+#REF!+#REF!+#REF!," ") -> #REF! | C71: =IF(#REF!="Socle",#REF!+#REF!+#REF!+#REF!+#REF!," ") -> #REF!

Sheet 1-FAQ & Lexique
A1: Ce document contient 6 onglets - Faire défiler en bas de la fenêtre Excel
A2: Lexique et Information : Préambule
A3: Ce classeur Excel contient tous les éléments permettant : - d'harmoniser les maquettes en fonction de la note de cadrage UHA - d'organiser les curriculum en conformité avec l'APC ET avec les nouvelles modalités pédagogiques introduites par la loi ORE (modularité, personnalisation des parcours). Il comporte 6 onglets 1. Lexique et information : Cet onglet de présentation déroule un mode d'emploi succinct de la trame de maquette (partie 1). Il explique également la terminologie et les abréviations utilisées dans la maquette (parties 2 et 3) 2. Correspondance BC RNCP/ BC UHA : tableau de correspondance qui permet de respecter l'obligation réglementaire de mettre en adéquation les blocs de compétences du Référentiel de Formation avec les blocs de compétences du RNCP -> à renseigner dès maintenant 3. Maquette Parcours : trame de maquette adaptée aux mentions qui démarrent dans l'approche par compétences. 4. Réorientation : décrire les dispositifs de réorientation envisagés 5. Commentaires : si besoin, vous pouvez expliquer vos choix dans cet onglet. 6. Indicateurs : comporte les indications de la mention et du parcours. Comporte aussi les indicateurs de suivi à fournir obligatoirement en Licence, Licence Pro, Master pour attester de la conformité de l'offre UHA aux exigences réglementaires et stratégiques de l'Etablissement.
A5: 1. Comment renseigner la trame de maquette UHA.
A7: 1.1 Quelle maquette utiliser : maquette APC niveau 1 ou niveau 2 ?
A8: Si vous n'avez pas encore établi votre référentiel de formation ou si vous avez reformulé légèrement la liste de compétences RNCP, privilégiez la maquette APC niveau 1 (ce fichier excel)
A9: Si vous avez travaillé sur un référentiel de formation (accompagné par le collectif de soutien APC), vous pouvez opter pour la maquette APC niveau 2
A11: 1.2 Quels sont les éléments obligatoires à remplir dans la maquette?
A12: La plupart des éléments sont obligatoires. Certains ne sont à renseigner que s'ils sont adaptés. Exemple : un cursus ne dispose pas forcément d'enseignements mutualisés. La colonne "Mutualisation" n'est donc à renseigner que si elle correspond à la réalité de votre cursus. !! Des indications complémentaires sont données en entête de colonne sur la façon de les renseigner. Le passage aux BCC se fera en lien avec les fiches RNCP et avec 3 niveaux de déploiement : - phase 1 : organiser la maquette en BCC et en UE ; (2024) - phase 2 : développer au sein d’au moins un BCC des stratégies pédagogiques alignant les objectifs (dès 2025) (définis en phase 1), les activités et les évaluations. Il s’agit ici notamment de la mise en place de séquences d’apprentissage mobilisant les compétences du BCC, et l’évaluation inhérente ; - phase 3 : généraliser la phase 2 à tous les BCC d’une même formation.", UHA, Note de cadrage, mai 2023, p. 5
A14: 1.3 Comment et pourquoi utiliser l'onglet 2 - Correspondance RNCP / Référentiel
A15: 1. Vous avez établi un référentiel de compétences propre à votre Formation --> utilisez le tableau Correspondance BC RNCP - BC UHA (onglet 2) pour établir les correspondances entre les blocs de compétence de votre référentiel et ceux de la fiche RNCP de la mention nationale.
A16: 2. Vous n'avez pas de référentiel de compétences spécifique --> copiez-coller les éléments de référentiel de la fiche RNCP de la Mention nationale.
... A20: Les volumes horaires de la maquette sont les volumes de face à face pédagogique suivis par les étudiants. Ils sont calculés automatiquement uniquement sur la base des heures d'enseignement et de suivi pédagogique. Vous pouvez choisir d'inclure ou non les heures d'évaluation dans les heures maquette. Attention, pour que les temps d'évaluation soient pris en compte dans les 1500h réglementaires, ils doivent être saisis dans les heures CM, TD, TP. Les temps de travail étudiant indiqués pour les stages et projets ne sont pas décomptés dans le calcul de la maquette. Si la formation a recours à un service (Learning Center et SIO...) pour animer certaines séquences d'enseignement, ces heures figurent dans la maquette de la Formation. Les heures d'hybridation ou de distanciel sont intégrées dans les heures d'enseignement de la section. Au sein du volume horaire global d'une UE, on précisera par ailleurs la répartition de volumes horaires entre différentes d'apprentissage(Présentiel/Distanciel/Hybride). Cette distinction permettra notamment de justifier du volume horaire supplémentaire accordé à certaines mentions sous réserve qu'elles aient recours à l'hybridation. En cas d'insertion de nouvelles lignes ou colonne au modèle, il se peut que les formules ne se mettent pas à jour. Veuillez vérifier que les références de formules sont bien mises à jour.
A22: Note de cadrage (volume horaire appuyé sur la réglementation) | B22: Licence
B23: Pas moins de 1500h d'enseignement ou d'encadrement en face à face (obligation réglementaire). Pas plus de 1500h sur 3 ans pour le standard sauf dispositions spécifiques aux UE Tremplin (<300h de soutien en plus) et/ou 100h hybridées de plus
A24: Licence Pro | B24: Master
A25: 1450h sur 3 ans : Le volume horaire annuel ne devra pas dépasser 500h encadrées, 450h la dernière année. | B25: De 400h à 800h sur deux ans.
A26: 1.5 Comment attribuer les crédits ECTS aux UE?
A27: Les ECTS sont attribuées uniquement aux UE (pas aux ECUE). 1 UE se voit accorder 3 ECTS minimum. 1 ECTS correspond à 25-30 heures de travail pour l'étudiant, comprenant au plus 10 heures d'enseignement ou d’encadrement pédagogique de type suivi de projet en présentiel ou hybride.
A28: 1.6 Comment sont spécifiées les durées de stage ?
A29: Les durées de stage sont spécifiées dans la maquette en conformité avec les éléments ci-après.
A30: Stage obligatoire en L, M et LP | B30: Licence
B31: Pas de cadrage sur la durée, au choix de la Formation.
A32: Licence Pro | B32: Master
A33: 12 à 16 semaines en milieu professionnel (au moins 1/3 des crédits ECTS attribuables à des mises en situations professionnelles en UE ouvertes. Un stage d’au moins 4 semaines devra être mis en place dans les 2 premières années. un projet tutoré de 150 h. | B33: > ou = à 8 semaines. > ou = à 4 mois dans les filières professionnalisantes ;
A34: 1.6 Comment sont calculés les indicateurs?
A35: Les volumes horaires totaux et par catégorie d'UE sont calculés automatiquement dans les modèles de maquette. Les indicateurs de suivi complémentaires permettent d'attester de l'application des dispositions légales et de la note de cadrage seront calculés selon les formules de calcul spécifiées dans l'onglet Indicateurs.
A36: 2. Eléments de lexique
A38: 2.1 Lexique spécifique UHA - Approche par Compétences
A40: Alignement pédagogique : Mis au jour par John Biggs, ce concept mentionné dans la note de cadrage est au coeur de la démarche APC. Il s'agit de mettre en cohérence 1) les objectifs d’apprentissage d’un enseignement/d’une formation, 2) les méthodes et activités pédagogiques et 3) les méthodes d’évaluation des apprentissages des étudiants. Ainsi, si un des objectifs d'apprentissage d'un enseignement est de "Travailler en équipe dans un laboratoire", il sera adapté de mettre en place des activités de travaux pratiques en laboratoire et d'évaluer les étudiants en situation via une grille critériée sur la qualité de leur coopération.
A41: Apprentissage critique (Maquette APC Niveau 2) Dans un référentiel de compétences, un apprentissage critique explicite ce que l’étudiant doit effectivement maîtriser pour passer d’un niveau de développement à un autre de la compétence. L'apprentissage critique (Tardif) est similaire à la "microcompétence" (IDIP).
A42: Compétence (/ Macro-compétence) Une compétence consiste en la mobilisation de manière pertinente des ressources d’un individu pour exercer une activité en fonction d’objectifs à finalité professionnelle à atteindre. Le résultat de sa mise en œuvre est évaluable dans un contexte donné et transférable d’un contexte professionnel à un autre (inspiré du RNCP). Cette définition s'appuie sur celle de Tardif : "Une compétence est un "savoir-agir complexe, prenant appui sur la mobilisation et la combinaison efficaces d'une variété de ressources à l'intérieur d'une famille de situations" (Tardif, 2006)". A l'UHA, ce terme est exclusivement utilisé pour désigner une compétence générique (parfois désignée sous forme de macro-compétence) équivalent au titre d'un bloc de compétence du référentiel. Elle est subdivisée en apprentissages critiques qui précisent quant à eux les apprentissages essentiels à acquérir à chaque niveau de développement de cette compétence.
A43: Objectif d'apprentissage La formulation des objectifs d’apprentissage permet aux étudiants d'identifier ce qu'ils devraient savoir et savoir faire à l'issue d'une activité d'apprentissage. Par souci de cohérence, le choix des méthodes d’évaluations, des activités d’enseignement-apprentissage et l’organisation du contenu du cours découlent des objectifs d’apprentissage. NB : L'université de Lorraine a publié une fiche pratique très claire sur la construction d'un objectif d'apprentissage. Source : https://sup.univ-lorraine.fr/files/2020/07/FC_formuler_objectifs_apprentissage.pdf
A44: Situation d'Apprentissage Complexe & Evaluation
A45: "La mise en œuvre de « situations d’apprentissage complexe » sera à développer. De telles situations exigent de mettre en œuvre plusieurs compétences, transversales, disciplinaires et pluridisciplinaires, amenant les étudiants à mobiliser et intégrer de manière cohérente et simultanée des savoirs (connaissances), savoir-être (attitudes) et savoir-faire (capacités) multiples. A ce titre, il est recommandé que les compétences disciplinaires d’une ou plusieurs UE puissent être développées via un enseignement en langue étrangère.", Note de cadrage UHA, mai 2023. EUne situation d'apprentissage complexe ne se solde pas obligatoirement par une évaluation. Elle peut toutefois être complétée d'une évaluation par exemple sous forme de grille critériée (notamment dans les maquettes APC de niveau 2) pour évaluer une ou plusieurs compétences en situation.
A48: 2.2 Lexique spécifique UHA - Référentiel de formation / Modularité et aménagement du parcours de formation
A50: Catégories d'UE. Les catégories d'UE sont au coeur du référentiel de formation, visant à définir l'organisation du parcours de formation. Afin d'impulser une plus grande modularité des activités d'apprentissage et une variété des types de compétences visées par ses diplômes, l'UHA, suivant les recommandations du rapport HCERES, a structuré 4 catégories d'UE contribuant au développement de compétences transversales obligatoires ou mise en avant dans la stratégie de formation de l'UHA + 1UE optionnelle. Ces catégories vient à faciliter les regroupement transdisciplinaires et à suivre la répartition des volumes horaires en fonction des types de compétences auxquelles contribuent les UE.
... A62: Compétences transversales
A63: Dénomination UHA | B63: Arrêté 01/2020 | C63: Licence/Licence Pro/Master
A64: Professionnelle | B64: Pré-professionnelle et professionnelle
...

Sheet 2- BC RNCP-BC Formation UHA
B1: !! Comment renseigner ce tableau? 3 cas : Cas 1. Si vous n'avez pas de référentiel, renseignez uniquement la colonne obligatoire ci-dessous (B) et inscrire des x en face de chaque compétence dans la colonne C Cas 2. Si vous avez reformulé les titres de blocs du référentiel national, spécifiez dans les colonnes de droite (à partir de C2) les titres de vos BC Formation UHA (obligatoire). Inscrivez une x chaque fois que vos blocs de Formation prennent en compte des compétences (C) des blocs RNCP. Cas 3. Si vous avez votre propre référentiel de compétences, renseignez également la colonne des apprentissages critiques AC à partir de la cellule C3. Inscrivez ensuite une x chaque fois qu'un AC correspondra à une Compétence C des blocs RNCP (voir exemples).
B2: France Compétences | C2: BCC1. Mettre en œuvre des concepts et des méthodes mathématiques | J2: BCC2. Calculer et manipuler des données en utilisant des langages informatiques | M2: BCC3. Développer une méthodologie de travail et s'exprimer de façon adaptée et efficace | Q2: BCC4. S'intégrer et agir au sein d'une organisation professionnelle
B3: Copier-coller dans tous les cas les éléments de la fiche RNCP ci-dessous. | C3: AC 1.1 Se servir aisément des bases de la logique pour organiser un raisonnement mathématique et rédiger de manière synthétique et rigoureuse. | D3: AC 1.2 - Se servir aisément des bases du raisonnement probabiliste et mettre en oeuvre une démarche statistique pour le traitement des données. | E3: AC 1.3 - Utiliser les propriétés algébriques, analytiques et géométriques des espaces R, R2, R3, et mettre en oeuvre une intuition géométrique. | F3: AC 1.4 - Résoudre des équations (linéaires, algébriques, différentielles) de façon exacte et par des méthodes numériques. | G3: AC 1.5 - Se servir aisément de la notion d’approximation en s’appuyant sur les notions d’ordre de grandeur, de limite, de norme, de comparaison asymptotique. | H3: AC 1.6 - Etre initié aux limites de validité d’un modèle. | I3: AC 1.7 - Traduire un problème simple en langage mathématique. | J3: AC 2.1 - Ecrire et mettre en oeuvre des algorithmes de base de calcul scientifique. | K3: AC 2.2 - Utiliser des logiciels de calcul formel et scientifique. | L3: AC 2.3 - Caractériser et utiliser dans le cadre de l'informatique les techniques mathématiques de gestion de l'aléatoire (probabilités et statistiques). | M3: AC 3.1 - Se servir aisément des différents registres d’expression écrite et orale de la langue française. | N3: AC 3.2 - Communiquer par oral et par écrit, de façon claire et non- ambiguë, dans au moins une langue étrangère. | O3: AC 3.3 - Identifier, sélectionner et analyser avec esprit critique diverses ressources dans son domaine de spécialité pour documenter un sujet et synthétiser ces données en vue de leur exploitation. | P3: AC 3.4 - Utiliser les outils numériques de référence et les règles de sécurité informatique pour acquérir, traiter, produire et diffuser de l’information ainsi que pour collaborer en interne et en externe. | Q3: AC 4.1 - Situer son rôle et sa mission au sein d'une organisation pour s'adapter et prendre des initiatives. | R3: AC 4.2 - Respecter les principes d'éthique, de déontologie et de responsabilité environnementale. | S3: AC 4.3 - Travailler en équipe et en réseau ainsi qu'en autonomie et responsabilité au service d'un projet. | T3: AC 4.4 - Analyser ses actions en situation professionnelle, s'autoévaluer pour améliorer sa pratique . | U3: AC 4.5 - Identifier et situer les champs professionnels potentiellement en relation avec les acquis de la mention ainsi que les parcours possibles pour y accéder. | V3: AC 4.6 - Caractériser et valoriser son identité, ses compétences et son projet professionnel en fonction d’un contexte. | W3: AC 4.7 - Identifier le processus de production, de diffusion et de valorisation des savoirs.
B4: BC1. RNCP40113BC01 - Utiliser les outils numériques de référence
B5: C 1.1 - Utiliser les outils numériques de référence et les règles de sécurité informatique pour acquérir, traiter, produire et diffuser de l’information ainsi que pour collaborer en interne et en externe. | P5: x
B6: BC2. RNCP40113BC02 - Exploiter des données à des fins d’analyse
B7: C 2.1 - Identifier et sélectionner avec esprit critique diverses ressources dans son domaine de spécialité pour documenter un sujet. | O7: x
B8: C 2.2 - Analyser et synthétiser des données en vue de leur exploitation. | O8: x
B9: C 2.3 - Développer une argumentation avec esprit critique. | O9: x
B10: BC3. RNCP40113BC03 - S’exprimer et communiquer à l’oral, à l’écrit, et dans au moins une langue étrangère
B11: C 3.1 - Se servir aisément des différents registres d’expression écrite et orale de la langue française. | M11: x
B12: C 3.2 - Communiquer par oral et par écrit, de façon claire et non ambiguë, dans au moins une langue étrangère. | N12: x
B13: BC4. RNCP40113BC04 - Se positionner vis à vis d’un champ professionnel
B14: C 4.1 - Identifier et situer les champs professionnels potentiellement en relation avec les acquis de la mention ainsi que les parcours possibles pour y accéder. | U14: x
B15: C 4.2 - Caractériser et valoriser son identité, ses compétences et son projet professionnel en fonction d’un contexte. | V15: x
B16: C 4.3 - Identifier le processus de production, de diffusion et de valorisation des savoirs. | W16: x
B17: BC5. RNCP40113BC05 - Agir en responsabilité au sein d’une organisation professionnelle
B18: C 5.1 - Situer son rôle et sa mission au sein d'une organisation pour s’adapter et prendre des initiatives. | Q18: x
B19: C 5.2 - Travailler en équipe et en réseau ainsi qu’en autonomie et responsabilité au service d’un projet. | S19: x
B20: C 5.3 - Analyser ses actions en situation professionnelle, s’autoévaluer pour améliorer sa pratique. | T20: x
B21: C 5.4 - Respecter les principes d’éthique, de déontologie et de responsabilité sociale et environnementale. | R21: x
B22: C 5.5 - Prendre en compte la problématique du handicap et de l'accessibilité dans chacune de ses actions professionnelles. | R22: x | S22: x
B23: BC6. RNCP40113BC06 - Manipuler les concepts fondamentaux des mathématiques
B24: C 6.1 - Utiliser les bases de la logique pour organiser un raisonnement mathématique. | C24: x | I24: x
B25: C 6.2 - Rédiger un raisonnement mathématique de manière synthétique et rigoureuse. | C25: x | I25: x
B26: C 6.3 - Effectuer et comprendre des calculs et des manipulations symboliques. | E26: x | F26: x
B27: C 6.4 - Expliquer de manière compréhensible des concepts mathématiques à l'oral et à l'écrit. | C27: x | F27: x | G27: x
B28: C 6.5 - Créer des représentations visuelles mathématiques, représenter géométriquement une situation. | E28: x
B29: C 6.6 - Effectuer des recherches bibliographiques, lire et comprendre des articles scientifiques | O29: x
B30: BC7. RNCP40113BC07 - Modéliser et résoudre des problèmes avec des outils théoriques
B31: C 7.1 - Modéliser des situations provenant de différents domaines et les traduire en langage mathématique. | H31: x | I31: x
B32: C 7.2 - Appliquer les concepts mathématiques fondamentaux pour résoudre des problèmes mathématiques simples. | I32: x
B33: C 7.3 - Résoudre des équations (linéaires, algébriques, différentielles) de façon exacte. | F33: x
B34: BC8. RNCP40113BC08 - Utiliser des outils numériques pour la résolution de problèmes mathématiques
B35: C 8.1 - Utiliser les bases du raisonnement probabiliste et mettre en œuvre une démarche statistique pour le traitement et l’interprétation des données. | D35: x | L35: x
B36: C 8.2 - Résoudre des équations (linéaires, algébriques, différentielles) par des méthodes numériques. | F36: x
B37: C 8.3 - Écrire et mettre en œuvre des algorithmes de base de calcul scientifique. | J37: x
B38: C 8.4 - Utiliser des logiciels de calcul formel et scientifique et des langages de programmation pour résoudre des problèmes mathématiques | K38: x

Sheet 3-Maquette parcours
D1: =COUNTIF(CommunMention,"Oui") -> 50 | F1: Total : | J1: =SUM(TotalTP)/2 -> 40 | K1: =SUM(TotalProjetEns)/2 -> 0 | M1: =SUM(TotalECUE)/2 -> 1546 | N1: =SUM(TotalProjet)/2 -> 155 | P1: =SUM(TotalStageEtudiant)/2 -> 70 | Q1: =SUM(TotalTutorat)/2 -> 10 | T1: =SUM(TotalECTS)/2 -> 180 | Y1: =COUNTIF(NombreExpression,"x") -> 10 | Z1: =COUNTIF(NombreTEDS,"x") -> 3 | AA1: =COUNTIF(NombreMTU,"x") -> 1 | AB1: =COUNTIF(NombreInformationnelle,"x") -> 5 | AC1: =COUNTIF(NombreNumérique,"x") -> 3 | AD1: =COUNTIF(NombreVSS,"x") -> 1 | AE1: =COUNTIF(NombreInternationale,"x") -> 6 | AF1: =COUNTIF(NombreProfessionnelle,"x") -> 6 | AG1: =COUNTIF(NombreRecherche,"x") -> 0 | AH1: =COUNTIF(NombreCollab,"x") -> 0 | AN1: =SUM(TotalDistanciel)/2 -> 6 | AO1: =SUM(TotalHybride)/2 -> 0 | AQ1: =SUM(TotalMaquette)/2 -> 1546
A2: Titre UE/ECUE | G2: Volumes horaires d'enseignement et d'encadrement pédagogique dans les 1500h réglementaires | N2: Volumes horaires de travail personnel cadré (hors 1500h réglementaires) | R2: Modalités d'évaluation Indiquer ici le mode d'évaluation de la formation -> | W2: Contrôle Continu Intégral | Y2: Correspondance Compétences / UE Compétences transversales réglementaires ou stratégiques OBLIGATOIRE | AM2: Modalités pédagogiques UE/ECUE | AQ2: Total volume heure maquette (reprise colonne M)
A3: Code UE | B3: Libellé UE | C3: Libellé ECUE ou SAC | D3: Commun Mention (Oui/Non) | E3: Typologie principale | F3: Niveau d'acquisition visé | N3: Projet | O3: Stage | Q3: Tutorat | R3: Coeff. Par ECUE | S3: Coeff. Par UE (idem ECTS en L, de 1 à 3 en LP) | T3: ECTS OBLIGATOIRE 1=10h ENS / 25h travail étudiant 3 crédits ECTS minimum attribués au niveau de l'UE | U3: MCC (par ECUE ou pour toute l'UE) Ex de libellé : écrit, oral, soutenance, portfolio, SAC, certification en ligne, … | X3: Volume horaire évaluation hors maquette | Y3: (cocher les compétences transversales mobilisées dans les UE. Plusieurs compétences possibles quelque soit la typologie d'UE) | AI3: Compétences Formation UHA ou RNCP | AM3: Format d'enseignement Par défaut, tout présentiel. Vol. horaire d'enseignement uniquement (cf colonne M) | AP3: Mutualisation ou Délégation (Saisir le partenaire)
G4: CM | H4: CI | I4: TD | J4: TP | K4: Projet (encadrement) | L4: Dont évaluation incluse hors contrôle continu | M4: Total ECUE | N4: Nb heures autonomie étudiant | O4: Heures d'encadrement ENSEIGNANTS | P4: Durée stage en heures | Q4: Nb total d'heures de tutorat allouées | U4: Libellé du type de contrôle en toutes lettres | V4: Libellé du type de contrôle pour étudiants dispensés d'assuidité (si contrôle continu) | W4: Règle de la seconde chance | Y4: Expression | Z4: TEDS | AA4: MTU | AB4: Compétences informationnelles | AC4: VSSH | AD4: Numérique (PIX) | AE4: Internationale | AF4: Professionnelle | AG4: Initiation recherche | AH4: Projet collaboratif | AI4: BC1. Mettre en œuvre des méthodes et des outils mathématiques | AJ4: BC2. Calculer et manipuler des données en utilisant des langages et des outils informatiques | AK4: BC3. Développer une méthodologie de travail et s'exprimer de façon adaptée et efficace | AL4: BC4. Agir au sein d'une organisation professionnelle | AM4: Heures Présentiel | AN4: Heures distanciel | AO4: Heures hybrides | AP4: Enseignements mutualisés avec d'autres Formations ou délégués à un service interne (SIO, LC) ou externe (associations...)
A5: Semestre 1 | Y5: Licence /LP | AE5: Licence et Master | AG5: Master
A6: BCC1-1 Mettre en œuvre des concepts et des méthodes mathématiques
A7: UE1 | B7: Analyse 1 | C7: Remise à niveau mathématique 1 | D7: Oui | E7: Tremplin | F7: Novice | H7: 24 | M7: =SUM(G7:K7) -> 24 | R7: 0 | S7: 8 | T7: 8 | U7: Pas de note attendue, présence obligatoire | W7: Pas de note attendue, présence obligatoire | X7: 0 | AI7: x | AM7: =M7 -> 24 | AN7: 0 | AO7: 0 | AP7: mentions Info et PC | AQ7: =M7 -> 24
C8: Analyse 1 | D8: Oui | E8: Socle | F8: Novice | H8: 56 | M8: =SUM(G8:K8) -> 56 | R8: 1 | U8: Au moins 2 contrôles de TD (note de TD coef 1), EC1 écrit (coef 1), EC2 écrit (coef 1) | V8: Selon les modalités du contrat pédagogique | W8: Neutralisation de la plus mauvaise note de TD | X8: 4 | AI8: x | AM8: =M8 -> 56 | AN8: 0 | AO8: 0 | AP8: mention Info | AQ8: =M8 -> 56
A9: UE2 | B9: Algèbre | C9: Remise à niveau mathématique 2 | D9: Oui | E9: Tremplin | F9: Novice | H9: 22 | M9: =SUM(G9:K9) -> 22 | R9: 0 | S9: 7 | T9: 7 | U9: Pas de note attendue, présence obligatoire | W9: Pas de note attendue, présence obligatoire | X9: 0 | AI9: x | AM9: =M9 -> 22 | AN9: 0 | AO9: 0 | AQ9: =M9 -> 22
C10: Algèbre | D10: Oui | E10: Socle | F10: Novice | H10: 50 | M10: =SUM(G10:K10) -> 50 | Q10: 10 | R10: 1 | U10: Au moins 2 contrôles de TD (note de TD coef 1), EC1 écrit (coef 1), EC2 écrit (coef 1) | V10: Selon les modalités du contrat pédagogique | W10: Neutralisation de la plus mauvaise note de TD | X10: 4 | AI10: x | AM10: =M10 -> 50 | AN10: 0 | AO10: 0 | AP10: mention Info | AQ10: =M10 -> 50
A11: BCC2-1 Calculer et manipuler des données en utilisant des langages informatiques
A12: UE3 | B12: Au choix: UE Algorithmique et programmation 1 ou UE Algorithmique et programmation 1 avancée | D12: Oui | E12: Socle | F12: Novice | H12: 36 | J12: 10 | M12: =SUM(G12:K12) -> 46 | S12: 6 | T12: 6 | U12: cf. Licence Informatique | V12: Selon les modalités du contrat pédagogique | W12: cf. Licence Informatique | AJ12: x | AM12: =M12 -> 46 | AN12: 0 | AO12: 0 | AP12: mention Info | AQ12: =M12 -> 46
A13: UE4 | B13: Au choix: UE Informatique ou UE Informatique avancée | D13: Oui | E13: Transversal | F13: Novice | H13: 16 | J13: 8 | M13: =SUM(G13:K13) -> 24 | S13: 3 | T13: 3 | U13: cf. Licence Informatique | V13: Selon les modalités du contrat pédagogique | W13: cf. Licence Informatique | AJ13: x | AM13: =M13 -> 24 | AN13: 0 | AO13: 0 | AP13: mention Info | AQ13: =M13 -> 24
A14: BCC4-1 S'intégrer et agir au sein d'une organisation professionnelle
A15: UE5 | B15: Projet professionnel 1 | C15: Découvrir les espaces et les services du Learning Center (module LC1) | D15: Oui | E15: Transversal | F15: Novice | I15: 1 | M15: =SUM(G15:K15) -> 1 | S15: 6 | T15: 6 | U15: Selon modalités LC | V15: Selon les modalités du contrat pédagogique | W15: Selon modalités LC | AB15: x | AL15: x | AM15: 1 | AN15: 0 | AO15: 0 | AP15: LC | AQ15: =M15 -> 1
C16: Chercher de l'information (module LC2) | D16: Oui | E16: Transversal | F16: Novice | I16: 2 | M16: =SUM(G16:K16) -> 2 | U16: Selon modalités LC | V16: Selon les modalités du contrat pédagogique | W16: Selon modalités LC | AB16: x | AL16: x | AM16: 2 | AN16: 1 | AO16: 0 | AP16: LC | AQ16: =M16 -> 2
C17: Sensibilisation aux Violences sexuelles, sexistes et harcèlement | D17: Oui | E17: Transversal | F17: Novice | N17: 5 | U17: Pas de note attendue, présence obligatoire | V17: Selon les modalités du contrat pédagogique | W17: Pas de note attendue, présence obligatoire | AC17: x | AL17: x | AM17: 0 | AN17: 5 | AO17: 0 | AQ17: =M17 -> 0
C18: Outils informatiques | D18: Oui | E18: Transversal | F18: Novice | J18: 8 | M18: =SUM(G18:K18) -> 8 | R18: 1 | U18: Test Moodle | V18: Selon les modalités du contrat pédagogique | W18: Test Moodle | X18: 1 | AB18: x | AD18: x | AL18: x | AM18: 8 | AN18: 0 | AO18: 0 | AQ18: =M18 -> 8
C19: Documentation numérique | D19: Oui | E19: Transversal | F19: Novice | I19: 10 | M19: =SUM(G19:K19) -> 10 | R19: 1 | U19: cf. Licence Informatique | V19: Selon les modalités du contrat pédagogique | W19: cf. Licence Informatique | AD19: x | AF19: x | AL19: x | AM19: =M19 -> 10 | AN19: 0 | AO19: 0 | AQ19: =M19 -> 10
C20: Anglais 1 | D20: Oui | E20: International | F20: Novice | I20: 24 | M20: =SUM(G20:K20) -> 24 | R20: 3 | U20: 3 contrôles de TD (chacun de coef 1) | V20: Selon les modalités du contrat pédagogique | W20: Neutralisation de la plus mauvaise note de TD | X20: 4 | Y20: x | AE20: x | AK20: x | AL20: x | AM20: =M20 -> 24 | AN20: 0 | AO20: 0 | AP20: Langues FST | AQ20: =M20 -> 24
C21: PPP | D21: Oui | E21: Ouvert | F21: Novice | G21: 2 | I21: 6 | M21: =SUM(G21:K21) -> 8 | N21: 20 | R21: 1 | U21: Rapport écrit et soutenance orale | V21: Selon les modalités du contrat pédagogique | W21: Pas de seconde chance | Y21: x | AA21: x | AB21: x | AF21: x | AL21: x | AM21: 8 | AN21: 0 | AO21: 0 | AQ21: =M21 -> 8
D22: TOTAUX SEMESTRE par colonne : | G22: =SUM(G7:G21) -> 2 | H22: =SUM(H7:H21) -> 204 | I22: =SUM(I7:I21) -> 43 | J22: =SUM(J7:J21) -> 26 | K22: =SUM(K7:K21) -> 0 | M22: =SUM(M7:M21) -> 275 | N22: =SUM(N7:N21) -> 25 | O22: =SUM(O7:O21) -> 0 | P22: =SUM(P7:P21) -> 0 | Q22: =SUM(Q7:Q21) -> 10 | S22: =SUM(S7:S21) -> 30 | T22: =SUM(T7:T21) -> 30 | X22: =SUM(X7:X21) -> 13 | AM22: =SUM(AM7:AM21) -> 275 | AN22: =SUM(AN7:AN21) -> 6 | AO22: =SUM(AO7:AO21) -> 0 | AQ22: =SUM(AQ7:AQ21) -> 275
A23: Semestre 2 | B23: Maquette modifiée - pour rentrée 2026
A24: BCC1-2 Mettre en œuvre des méthodes et des concepts mathématiques
A25: UE1 | B25: Algèbre linéaire | D25: Oui | E25: Socle | F25: Novice | H25: 50 | M25: =SUM(G25:K25) -> 50 | S25: 7 | T25: 7 | U25: Au moins 2 contrôles de TD (note de TD coef 1), EC1 écrit (coef 1), EC2 écrit (coef 1) | V25: Selon les modalités du contrat pédagogique | W25: Neutralisation de la plus mauvaise note de TD | X25: 4 | AI25: x | AM25: =M25 -> 50 | AN25: 0 | AO25: 0 | AP25: mention Info | AQ25: =M25 -> 50
A26: UE2 | B26: Analyse 2 | C26: Méthodes de calcul en Analyse | D26: Oui | E26: Socle | F26: Novice | H26: 40 | M26: =SUM(G26:K26) -> 40 | R26: 4 | S26: 11 | T26: 11 | U26: Au moins 2 contrôles de TD (note de TD coef 1), EC1 écrit (coef 1), EC2 écrit (coef 1) | V26: Selon les modalités du contrat pédagogique | W26: Neutralisation de la plus mauvaise note de TD | X26: 4 | AI26: x | AM26: =M26 -> 40 | AN26: 0 | AO26: 0 | AP26: mention Info | AQ26: =M26 -> 40
C27: Fondements de l'Analyse | D27: Oui | E27: Socle | F27: Novice | H27: 32 | M27: =SUM(G27:K27) -> 32 | R27: 3 | U27: Au moins 2 contrôles de TD (note de TD coef 1), EC1 écrit (coef 1), EC2 écrit (coef 1) | V27: Selon les modalités du contrat pédagogique | W27: Neutralisation de la plus mauvaise note de TD | X27: 4 | AI27: x | AM27: =M27 -> 32 | AN27: 0 | AO27: 0 | AP27: mention Info | AQ27: =M27 -> 32
A28: BCC2-2 Calculer et manipuler des données en utilisant des langages et des outils informatiques
A29: UE3 | B29: Informatique appliquée | C29: Algorithmique et programmation 2 | D29: Oui | E29: Socle | F29: Novice | H29: 31 | J29: 14 | M29: =SUM(G29:K29) -> 45 | R29: 2 | S29: 6 | T29: 6 | U29: cf. Licence Informatique | V29: Selon les modalités du contrat pédagogique | W29: cf. Licence Informatique | AJ29: x | AM29: 45 | AN29: 0 | AO29: 0 | AP29: mention Info | AQ29: =M29 -> 45
C30: Au choix: Initiation aux techniques d'internet ou Informatique appliquée avancée | D30: Oui | E30: Transversal | F30: Novice | I30: 15 | M30: =SUM(G30:K30) -> 15 | R30: 1 | U30: cf. Licence Informatique | V30: Selon les modalités du contrat pédagogique | W30: cf. Licence Informatique | AJ30: x | AM30: 15 | AN30: 0 | AO30: 0 | AP30: mention Info | AQ30: =M30 -> 15
A31: BCC4-2 S'intégrer et agir au sein d'une organisation professionnelle
A32: UE4 | B32: Projet professionnel 2 | C32: Allemand 1 | D32: Oui | E32: International | F32: Novice | I32: 24 | M32: =SUM(G32:K32) -> 24 | R32: 3 | S32: 6 | T32: 6 | U32: 3 contrôles de TD (chacun de coef 1) | V32: Selon les modalités du contrat pédagogique | W32: Neutralisation de la plus mauvaise note de TD | X32: 4 | Y32: x | AE32: x | AK32: x | AL32: x | AM32: =M32 -> 24 | AN32: 0 | AO32: 0 | AP32: Langues FST | AQ32: =M32 -> 24
C33: Introduction MOOC développement durable | D33: Oui | E33: Transversal | F33: Novice | I33: 2 | M33: =SUM(G33:K33) -> 2 | N33: 4 | U33: Pas de note attendue, présence obligatoire | V33: Selon les modalités du contrat pédagogique | W33: Pas de note attendue, présence obligatoire | Z33: x | AL33: x | AM33: =M33 -> 2 | AN33: 0 | AO33: 0 | AQ33: =M33 -> 2
C34: Techniques d'expression écrite | D34: Oui | E34: Transversal | F34: Novice | I34: 6 | M34: =SUM(G34:K34) -> 6 | N34: 6 | R34: 1 | U34: EC Ecrit 1h | V34: Selon les modalités du contrat pédagogique | W34: Pas de seconde chance | X34: 1 | Y34: x | AB34: x | AF34: x | AK34: x | AL34: x | AM34: =M34 -> 6 | AN34: 0 | AO34: 0 | AQ34: =M34 -> 6
C35: Matière libre | D35: Oui | E35: Ouvert | F35: Novice | I35: 24 | M35: =SUM(G35:K35) -> 24 | R35: 3 | U35: Selon les modalités définies par le responsable | V35: Selon les modalités du contrat pédagogique | W35: Selon les modalités définies par le responsable | AL35: x | AM35: =M35 -> 24 | AN35: 0 | AO35: 0 | AQ35: =M35 -> 24
D36: TOTAUX SEMESTRE par colonne : | G36: =SUM(G25:G35) -> 0 | H36: =SUM(H25:H35) -> 153 | I36: =SUM(I25:I35) -> 71 | J36: =SUM(J25:J35) -> 14 | K36: =SUM(K25:K35) -> 0 | M36: =SUM(M25:M35) -> 238 | N36: =SUM(N25:N35) -> 10 | O36: =SUM(O25:O35) -> 0 | P36: =SUM(P25:P35) -> 0 | Q36: =SUM(Q25:Q35) -> 0 | S36: =SUM(S25:S35) -> 30 | T36: =SUM(T25:T35) -> 30 | X36: =SUM(X25:X35) -> 17 | AM36: =SUM(AM25:AM35) -> 238 | AN36: =SUM(AN25:AN35) -> 0 | AO36: =SUM(AO25:AO35) -> 0 | AQ36: =SUM(AQ25:AQ35) -> 238
A37: Semestre 3 | B37: Maquette modifiée - pour rentrée 2026
A38: BCC1-3 Mettre en œuvre des méthodes et des concepts mathématiques
A39: UE1 | B39: Séries numériques et intégrales généralisées | D39: Oui | E39: Socle | F39: Intermédiaire | G39: 20 | I39: 30 | M39: =SUM(G39:K39) -> 50 | S39: 6 | T39: 6 | U39: Au moins 2 contrôles de TD (note de TD coef 1), EC1 écrit (coef 1), EC2 écrit (coef 1) | V39: Selon les modalités du contrat pédagogique | W39: Neutralisation de la plus mauvaise note de TD | X39: 4 | AI39: x | AM39: =M39 -> 50 | AN39: 0 | AO39: 0 | AQ39: =M39 -> 50
A40: UE2 | B40: Espaces vectoriels normés | D40: Oui | E40: Socle | F40: Intermédiaire | G40: 20 | I40: 30 | M40: =SUM(G40:K40) -> 50 | S40: 6 | T40: 6 | U40: Au moins 2 contrôles de TD (note de TD coef 1), EC1 écrit (coef 1), EC2 écrit (coef 1) | V40: Selon les modalités du contrat pédagogique | W40: Neutralisation de la plus mauvaise note de TD | X40: 4 | AI40: x | AM40: =M40 -> 50 | AN40: 0 | AO40: 0 | AQ40: =M40 -> 50
...

Sheet 4-Réorientation
A1: Décrire les possibilités de réorientation dans ce parcours (Une réorientation doit être prévue en fin de L1)
A2: La L1 est commune à la mention Informatique et à la mention Mathématiques. En fin de L1, les étudiants ont le choix de s'inscrire soit en L2 mention Mathématiques, soit en L2 mention Informatique.

Sheet 5-Commentaires
A1: Commentaires
A4: Remise à niveau mathématique 1 : En début de S1, cette remise à niveau de 24h consiste en des rappels de mathématiques de collège et lycée. Cet ECUE est un tremplin qui ne donne pas de note mais la présence des étudiants ayant échoué au test de positionnement (test moodle d'1h) est obligatoire. Les étudiants qui ont réussi le test peuvent aussi y assister s'ils le souhaitent.
A6: Remise à niveau mathématique 2 : Durant le S1, cette remise à niveau de 22h consiste en des séances de soutien en rapport avec le contenu de Mathématiques Expertes de la terminale. Cet ECUE est un tremplin qui ne donne pas de note mais la présence des étudiants n'ayant pas suivi Maths expertes est obligatoire. Les autres étudiants peuvent aussi y assister s'ils le souhaitent.
A8: Projets/Stage : – note de projet (ou de stage) : elle comprend au moins une note de mémoire (ou de rapport) écrit et une note de soutenance orale et qui peut inclure d'autres évaluations. – en cas d'absence prolongée justifiée exceptionnelle (motif lié à la maladie, à un accident, à la grossesse, à la paternité), l'enseignant responsable peut proposer une validation alternative par projet de substitution ou par épreuve écrite et/ou orale de substitution. Les autres cas d'absence entraîneront un défaillant.

Sheet 6-Indicateurs
A1: Licence / Licence professionnelle / Master
A2: Maquette pédagogique de formation pour l'accréditation 2024-2028
A4: Mention : | B4: Mathématiques
A6: Parcours : | B6: Mathématiques et Applications
A8: Référent Parcours Etudiant : | B8: Mohamed Hadjar
A10: Laboratoire (masters uniquement) :
A14: Socle | B14: Ouvert | C14: International | D14: Transversal | E14: Tremplin
A15: =D28 -> 1194 | B15: =D34 -> 56 | C15: =D32 -> 144 | D15: =D30 -> 106 | E15: =D26-D25 -> 46
A18: Indicateurs de la lettre de cadrage
D19: Les cellules en bleu des colonnes D et E deviennent vertes lorsque l'indicateur est validé. Les cellules en gris sont des informations qui aident à la validation.
A20: Indicateur | B20: Modalités de calcul | C20: Exigences à respecter | D20: Résultats des formules de calcul | E20: Validation (manuelle) : oui/non
A21: Le tableau de correspondance BC RNCP-BC Formation est renseigné | B21: Validation manuelle | C21: Livrable 1 | D21: Oui | E21: Oui
A22: Une coordination des Parcours Etudiant est désignée dans la maquette. | B22: La cellule B8 est renseignée | C22: Une coordination des Parcours est désignée. Elle prend en charge le suivi administratif et pédagogique des parcours personnalisés (loi ORE) | D22: =IF(ISBLANK(B8),"Non","Oui") -> Oui | E22: Oui
A23: La maquette fait apparaître des passerelles et réorientations | B23: La cellule A2 de l'onglet 4 est complétée | C23: Prévoir au moins une réorientation en fin de L1 (vérifier manuellement que c'est en fin de L1) | D23: =IF(ISBLANK('4-Réorientation'!A2),"Non","Oui") -> Oui | E23: Oui
A24: Volumes horaires à expliciter | B24: Renseigner les volumes horaires (CM, CI, TD, TP, Projet, Stage, tutorat, présentiel, distanciel, hybride). Si la modalité pédagogique n'est pas utilisée, inscrire 0 | C24: Si renseigné, alors présent, sinon absent (à vérifier comme pour les compétences transversales obligatoires) | E24: Non
A25: Total heures hors UE tremplin | B25: Sommes heures "Total ECUE" colonne M moins heures tremplin | C25: Max 1500h Licence/ 1450 Max LP (vérifier manuellement les totaux par semestre : 450 LP3, LP3 obligatoirement en alternance)/ 800 Max pour Master/ Minimum 402h pour alternance en LP / 400H pour Master | D25: ='3-Maquette parcours'!M1-SUMIF(TypologiePrincipale,"Tremplin",TotalMaquette) -> 1500 | E25: Oui
A26: Total heures avec tremplin | B26: Total heures "Total ECUE" (colonne M) | C26: Vérification manuelle des seuils : Max 1600 Tremplin 2 (publics hétérogènes hors Oui-Si, publics empêchés, parcours spécifiques professionnalisants) Max 1800h (Tremplin 1 : Oui-Si) | D26: ='3-Maquette parcours'!M1 -> 1546 | E26: Oui
A27: Spécialisation progressive : Pourcentage de parcours commun à la mention | B27: Total des heures maquettes pour les ECUE ayant "oui" dans la colonne "Commun Mention" / total des heures hors tremplin x 100 | C27: Vérifier manuellement l'attribution des ECTS sur les parcours : 45 ECTS en tout en L1 et 30 ECTS en L2 ou 75 ECTS lissés en L1 et L2 (soit environ 42%) | D27: =SUMIF(CommunL1L2,"Oui",TotalMaquette)/1000*100 -> 104.7 | E27: Oui
A28: Total Socle | B28: Somme des Heures Socle (disciplinaires) | C28: max 80% du volume horaire total (1200-1300h max) | D28: =SUMIF(TypologiePrincipale,"Socle",TotalMaquette) -> 1194 | E28: Oui
A29: % Socle/ Ensemble du cursus | B29: (Somme des Heures ENS. Socle/ Somme des heures ENS.(hors tremplin))*100 | C29: L: Socle <80% des heures cursus vérif manuelle : Max 21 ECTS au S1, 24 ECTS au S2 | D29: =D28/D26*100 -> 77.231565 | E29: Oui
A30: Total Transversal | B30: Somme des Heures (ENS.) Transversales | C30: L : 6 ECTS (soit environ 50h au total) | D30: =SUMIF(TypologiePrincipale,"Transversal",TotalMaquette) -> 106 | E30: Oui
A31: Ratio Transversales/Nbre heures total Cursus | B31: (Somme des Heures ENS. Transversales / Somme des heures ENS.(hors tremplin))*100 | C31: L : 3% du volume total cursus (6ECTS minimum) | D31: =D30/D25*100 -> 7.0666667 | E31: Oui
A32: Total Heures Internationales | B32: Somme des Heures (ENS.) Internationales | C32: Vérification manuelle : L : 144h environ dont 24h de LanSad par semestre / interculturalité recommandée LP : 24h par semestre excepté sur le semestre consacré au stage long. LP : langues appliquées aux compétences disciplinaires M (LanSad sur 3 semestres obligatoires en Master) NOTA : Possibilité équivalence stage à l'étranger et modules EPICUR, EUCOR L,LP, M... | D32: =SUMIF(TypologiePrincipale,"International",TotalMaquette) -> 144 | E32: Oui
A33: Ratio Internationale/Nbre heures total Cursus | B33: (Somme des Heures ENS. UE Internationale / Somme des heures ENS.(hors tremplin))*100 | C33: L : 6% du volume total cursus | D33: =D32/D25*100 -> 9.6 | E33: Oui
A34: Total Heures Ouvertes | B34: Somme des Heures (ENS.) UE Ouverte | C34: Vérification manuelle : L : 6 ECTS minimum LP : Au moins 1 UE libre par an. Mise en situation = au moins 1/3 des ECTS en LP. M : module de préparation à l'insertion professionnelle obligatoire | D34: =SUMIF(TypologiePrincipale,"Ouvert",TotalMaquette) -> 56 | E34: Oui
A35: Ratio Ouvertes/Nbre heures total Cursus | B35: (Somme des Heures ENS. UE Ouverte/ Somme des heures ENS.(hors tremplin))*100 | C35: L : 3% minimum du volume total cursus | D35: =D34/D25*100 -> 3.7333333 | E35: Oui
A36: Total stage L et M | B36: Sommes heures de stage ENS+ETU | C36: Vérif manuelle : L : Au moins un stage ou projet tutoré en licence, de durée libre. M : stage de 8 semaines pour les masters généralistes (280h) et 4 mois minimum pour les master pros (600h) | D36: 70 | E36: Oui
A37: Total stage LP | B37: Sommes heures de stage ENS+ETU : validé à partir de 140h | C37: LP: 140h minimum (4 semaines) Vérification manuelle : 2 stages a minima sur le cursus : 1 de 4 semaines LP1, LP2 et 1 de 12 à 16 semaines pour les LP en 1 an. LP3 exclusivement en alternance. | D37: N/A | E37: Oui
A38: Heures soutien et remédiation | B38: Sommes heures tutorat (linguistique, méthodologique+positionnement+remédiation) | C38: Seul le calcul des heures tutorat (colonne T) est automatisé. A vérifier manuellement : Tutorat + ressources ou ECUE liées à soutien ou accompagnement dont UE tremplin | D38: 34 | E38: Oui
A39: Total pédagogie diversifiée (pédagogie active) | B39: Somme heures hybridation+distanciel+projet (Enseignant et étudiant) | C39: 150h en pédagogie diversifiée (active) sur l'ensemble du cursus en UE socle. A vérifier manuellement : les commentaires sur les dispositifs de pédagogie active (onglet commentaire). | D39: ='3-Maquette parcours'!N1+'3-Maquette parcours'!AN1+'3-Maquette parcours'!AO1 -> 161 | E39: Oui
A40: Total projets tutorés (encadrés par enseignant) | B40: Sommes heures projets ENS+ETU | C40: LP : 150h à minima | D40: ='3-Maquette parcours'!K1+'3-Maquette parcours'!N1 -> 155 | E40: Oui
A41: Total heures en TP | B41: Somme des heures de TP | C41: Min 150h pour pouvoir bénéficier 100h supplémentaires hybrides dans les filières scientifiques (vérif manuelle : obtention du label hybridation) | D41: ='3-Maquette parcours'!J1 -> 40 | E41: Oui
A42: Des SAC sont proposées | B42: Validation manuelle (colonnes C et/ou U) | C42: Au moins 1 SAC/an à partir de 2025; 3 SAC en 2028 | D42: Oui | E42: Oui
A43: Compétences transversales présentes (Licence + Licence Pro) | B43: Toutes les compétences des colonnes X à AG doivent être cochées au moins une fois | C43: ='3-Maquette parcours'!Y4 -> Expression | D43: =IF('3-Maquette parcours'!Y1>0,"Présent","Absent") -> Présent | E43: Oui | F43: au moins 30h de TEDS au moins 6h de MTU en S1 en L NOTA : Compétences informationnelles correspond à Initiation à la recherche (documentaire) dans la lettre de cadrage
C44: ='3-Maquette parcours'!Z4 -> TEDS | D44: =IF('3-Maquette parcours'!Z1>0,"Présent","Absent") -> Présent | E44: Oui
C45: ='3-Maquette parcours'!AA4 -> MTU | D45: =SUMIF(NombreMTU,"x",TotalECUE) -> 10 | E45: Oui
C46: ='3-Maquette parcours'!AD4 -> Numérique (PIX) | D46: =IF('3-Maquette parcours'!AD1>0,"Présent","Absent") -> Présent | E46: Oui
C47: ='3-Maquette parcours'!AB4 -> Compétences informationnelles | D47: =IF('3-Maquette parcours'!AB1>0,"Présent","Absent") -> Présent | E47: Oui
C48: ='3-Maquette parcours'!AC4 -> VSSH | D48: =IF('3-Maquette parcours'!AC1>0,"Présent","Absent") -> Présent | E48: Oui
A49: Compétences transversales présentes (Licence + LP + Master) | C49: ='3-Maquette parcours'!AD4 -> Numérique (PIX) | D49: =IF('3-Maquette parcours'!AD1>0,"Présent","Absent") -> Présent | E49: Oui
...
